BEGIN:VCALENDAR
VERSION:2.0
PRODID:-//APFEL ARENA - ECPv5.16.3.1//NONSGML v1.0//EN
CALSCALE:GREGORIAN
METHOD:PUBLISH
X-WR-CALNAME:APFEL ARENA
X-ORIGINAL-URL:https://apfelarena.hr
X-WR-CALDESC:Events for APFEL ARENA
REFRESH-INTERVAL;VALUE=DURATION:PT1H
X-Robots-Tag:noindex
X-PUBLISHED-TTL:PT1H
BEGIN:VTIMEZONE
TZID:Europe/Zagreb
BEGIN:DAYLIGHT
TZOFFSETFROM:+0100
TZOFFSETTO:+0200
TZNAME:CEST
DTSTART:20240331T010000
END:DAYLIGHT
BEGIN:STANDARD
TZOFFSETFROM:+0200
TZOFFSETTO:+0100
TZNAME:CET
DTSTART:20241027T010000
END:STANDARD
END:VTIMEZONE
BEGIN:VEVENT
DTSTART;VALUE=DATE:20240424
DTEND;VALUE=DATE:20240425
DTSTAMP:20260423T102113
CREATED:20240326T125852Z
LAST-MODIFIED:20240326T125852Z
UID:9921-1713916800-1714003199@apfelarena.hr
SUMMARY:Liga Udruge malog nogometa Makarska
DESCRIPTION:Makarska liga malog baluna osnovana je 1980. godine\, a od 2022. godine održava se u Apfel Areni.  Najuspješnija momčad u povijesti lige je kasniji prvak Hrvatske “Novo vrijeme” s 8 naslova prvaka\, a slijede ugašena Alfa te još uvijek aktivni Gornja Vala i DPH Torcida Makarska Rivijera s po 5 titula. \nLiga danas broji 12 ekipa iz Makarske i s cijele Rivijere. Pored seniorske (tzv. Prve lige)\, od 2006. do 2023. igrala se i Liga veterana\, gdje je najuspješnija momčad GO Lučić/Kavana Romana s 8 naslova. \n  \nNa društvenim mrežama Facebooku i Instagramu više informacija o Ligi možete pronaći pod imenom umnmakarska\, a sve rezultate\, popise momčadi i ostalo na webu www.umn-makarska.com\, kao i u android aplikaciji Leagues & Tournaments.
URL:https://apfelarena.hr/dogadaj/liga-udruge-malog-nogometa-makarska-13/
LOCATION:Apfel Arena\, Put Volicije 5\, Makarska\, Hrvatska
CATEGORIES:Igre
ATTACH;FMTTYPE=image/jpeg:https://apfelarena.hr/wp-content/uploads/2024/03/mali-nogomet.jpeg
END:VEVENT
END:VCALENDAR