BEGIN:VCALENDAR
VERSION:2.0
PRODID:-//APFEL ARENA - ECPv5.16.3.1//NONSGML v1.0//EN
CALSCALE:GREGORIAN
METHOD:PUBLISH
X-ORIGINAL-URL:https://apfelarena.hr
X-WR-CALDESC:Events for APFEL ARENA
REFRESH-INTERVAL;VALUE=DURATION:PT1H
X-Robots-Tag:noindex
X-PUBLISHED-TTL:PT1H
BEGIN:VTIMEZONE
TZID:Europe/Zagreb
BEGIN:DAYLIGHT
TZOFFSETFROM:+0100
TZOFFSETTO:+0200
TZNAME:CEST
DTSTART:20250330T010000
END:DAYLIGHT
BEGIN:STANDARD
TZOFFSETFROM:+0200
TZOFFSETTO:+0100
TZNAME:CET
DTSTART:20251026T010000
END:STANDARD
END:VTIMEZONE
BEGIN:VEVENT
DTSTART;TZID=Europe/Zagreb:20250119T170000
DTEND;TZID=Europe/Zagreb:20250119T170000
DTSTAMP:20260424T203453
CREATED:20250110T092407Z
LAST-MODIFIED:20250110T092407Z
UID:11979-1737306000-1737306000@apfelarena.hr
SUMMARY:Pinokio: Istinita priča - SINK
DESCRIPTION:1h 34m – RU\, HU \nMladi Pinokio\, kojeg je oživio briljantni drvodjelac Maestro Geppetto\, bježi iz majstorove kuće željan upoznati svijet. Nailazi na putujući cirkus pod vodstvom lukavog Modjafocca koji ga pretvara u lutka koji govori. Kao glavna atrakcija cirkuskih predstava\, Pinokio puni dvorane u svakom gradu\, ne znajući da u to vrijeme Modjafoccovi pomoćnici pljačkaju kuće posjetitelja… \nTemeljen na jednoj od najpoznatijih bajki na svijetu\, uz koju već desetljećima odrastaju generacije djece iz cijelog svijeta\, film prati avanture čarobnog lutka i prikazuje njegovu transformaciju u pravog čovjeka. \n  \nUlaznice su dostupne u prodaji na info pultu i online putem Kino Mediteran Makarska.
URL:https://apfelarena.hr/dogadaj/pinokio-istinita-prica-sink/
LOCATION:Apfel Arena\, Put Volicije 5\, Makarska\, Hrvatska
CATEGORIES:Kino predstave
ATTACH;FMTTYPE=image/jpeg:https://apfelarena.hr/wp-content/uploads/2025/01/pinokio.jpg
END:VEVENT
END:VCALENDAR