BEGIN:VCALENDAR
VERSION:2.0
PRODID:-//APFEL ARENA - ECPv5.16.3.1//NONSGML v1.0//EN
CALSCALE:GREGORIAN
METHOD:PUBLISH
X-WR-CALNAME:APFEL ARENA
X-ORIGINAL-URL:https://apfelarena.hr
X-WR-CALDESC:Events for APFEL ARENA
REFRESH-INTERVAL;VALUE=DURATION:PT1H
X-Robots-Tag:noindex
X-PUBLISHED-TTL:PT1H
BEGIN:VTIMEZONE
TZID:Europe/Zagreb
BEGIN:DAYLIGHT
TZOFFSETFROM:+0100
TZOFFSETTO:+0200
TZNAME:CEST
DTSTART:20260329T010000
END:DAYLIGHT
BEGIN:STANDARD
TZOFFSETFROM:+0200
TZOFFSETTO:+0100
TZNAME:CET
DTSTART:20261025T010000
END:STANDARD
END:VTIMEZONE
BEGIN:VEVENT
DTSTART;TZID=Europe/Zagreb:20260301T170000
DTEND;TZID=Europe/Zagreb:20260301T170000
DTSTAMP:20260423T072759
CREATED:20260223T142954Z
LAST-MODIFIED:20260223T142954Z
UID:16149-1772384400-1772384400@apfelarena.hr
SUMMARY:ARCO
DESCRIPTION:1h 29m – FR\, US \nDobitnik ovogodišnje Europske filmske nagrade za najbolji animirani film uzbudljiva je i dirljiva znanstveno-fantastična avantura za sve uzraste. \nDesetogodišnji Arco živi u dalekoj budućnosti. Tijekom svog prvog leta u odijelu duginih boja\, gubi kontrolu i pada u prošlost. Iris\, djevojčica njegovih godina iz 2075. godine\, vidi ga kako pada te ga spašava\, prima pod svoj krov i odlučuje učiniti sve što može kako bi mu pomogla vrati se kući.
URL:https://apfelarena.hr/dogadaj/arco/
LOCATION:Apfel Arena\, Put Volicije 5\, Makarska\, Hrvatska
CATEGORIES:Kino predstave
ATTACH;FMTTYPE=image/jpeg:https://apfelarena.hr/wp-content/uploads/2026/02/fd125f28-1097-11f1-adaf-0242ac120003.jpg
END:VEVENT
BEGIN:VEVENT
DTSTART;TZID=Europe/Zagreb:20260305T190000
DTEND;TZID=Europe/Zagreb:20260305T190000
DTSTAMP:20260423T072759
CREATED:20260223T143238Z
LAST-MODIFIED:20260223T143238Z
UID:16153-1772737200-1772737200@apfelarena.hr
SUMMARY:BEZ IZBORA
DESCRIPTION:2h 19m – KR \nNovo remek djelo Parka Chan-wooka\, jednog od najvećih južnokorejskih redatelja 21. stoljeća koji je snimio nezaboravne hitove “Oldboy”\, “Sluškinja” i “Dvostruka prijevara”. \nMan-su je specijalist za proizvodnju papira s 25 godina radnog iskustva i ima sve što jedan čovjek može poželjeti od života. Dok mu dani prolaze u sretnom zadovoljstvu sa suprugom\, dvoje djece i dva psa\, iznenada biva otpušten. Šokiran situacijom\, Man-su obećaje obitelji da će u roku od iduća tri mjeseca pronaći posao\, no vrijeme prolazi a on dobiva samo odbijenice. Jednoga dana smišlja plan: eliminirat će konkurenciju\, ako treba i silom.
URL:https://apfelarena.hr/dogadaj/bez-izbora/
LOCATION:Apfel Arena\, Put Volicije 5\, Makarska\, Hrvatska
CATEGORIES:Kino predstave
ATTACH;FMTTYPE=image/jpeg:https://apfelarena.hr/wp-content/uploads/2026/02/fcc8a34c-1097-11f1-b762-0242ac120002.jpg
END:VEVENT
BEGIN:VEVENT
DTSTART;TZID=Europe/Zagreb:20260308T170000
DTEND;TZID=Europe/Zagreb:20260308T170000
DTSTAMP:20260423T072759
CREATED:20260223T143452Z
LAST-MODIFIED:20260223T143452Z
UID:16157-1772989200-1772989200@apfelarena.hr
SUMMARY:SKAKUTAVCI
DESCRIPTION:1h 45m – US \nŠto kad bi mogli razgovarati sa životinjama — i razumjeti svaki njihov odgovor? \nU najnovijem animiranom spektaklu studija Disney i Pixar\, znanstvenici otkrivaju tehnologiju koja omogućuje “skok” ljudske svijesti u životinje i tako ljudi mogu doživjeti svijet očima svojih krznenih\, pernatih i ljuskavih prijatelja. Mabel je strastvena zaljubljenica u životinje koja koristi ovu nevjerojatnu tehnologiju i otkriva tajne životinjskog svijeta dublje nego što je itko mogao zamisliti. Topla\, duhovita i vizualno zadivljujuća priča o povezanosti\, razumijevanju i granicama ljudske empatije.
URL:https://apfelarena.hr/dogadaj/skakutavci/
LOCATION:Apfel Arena\, Put Volicije 5\, Makarska\, Hrvatska
CATEGORIES:Kino predstave
ATTACH;FMTTYPE=image/jpeg:https://apfelarena.hr/wp-content/uploads/2026/02/fc8d0486-1097-11f1-b762-0242ac120002.jpg
END:VEVENT
BEGIN:VEVENT
DTSTART;TZID=Europe/Zagreb:20260312T190000
DTEND;TZID=Europe/Zagreb:20260312T190000
DTSTAMP:20260423T072759
CREATED:20260304T142108Z
LAST-MODIFIED:20260304T143143Z
UID:16208-1773342000-1773342000@apfelarena.hr
SUMMARY:SVE PO SPISKU
DESCRIPTION:2h 1m – GB\, IE \nFascinantna istinita priča o životnom putu Johna Davidsona kojem je s 15 godina dijagnosticiran Tourettov sindrom. Hvaljeni film koji osvaja i publiku i kritiku prikazuje na dirljiv i humorističan način Johnove tinejdžerske godine te ranu odraslu dob. U Velikoj Britaniji 1980-ih godina\, kada je takvo stanje bilo nepoznato i u potpunosti neshvaćeno\, John je u početku potpuno otuđen od svojih vršnjaka i obitelji\, no ustraje u pokušaju da živi “normalnim” životom unatoč izgledima\, sve više podiže svijest o svojoj dijagnozi te pronalazi putem neke neočekivane junake. \nFilm premijerno prikazan na međunarodnom filmskom festivalu u Torontu na filmskim je pratformama ocjenjen s visokih 100% na Rotten Tomatoesu\, 8.4 na IMDb-u te čak 4.2 na Letterboxd-u.
URL:https://apfelarena.hr/dogadaj/sve-po-spisku-2/
LOCATION:Apfel Arena\, Put Volicije 5\, Makarska\, Hrvatska
CATEGORIES:Kino predstave
ATTACH;FMTTYPE=image/jpeg:https://apfelarena.hr/wp-content/uploads/2026/03/d7ff5b76-17b5-11f1-aaa5-0242ac120004.jpg
END:VEVENT
BEGIN:VEVENT
DTSTART;TZID=Europe/Zagreb:20260314T190000
DTEND;TZID=Europe/Zagreb:20260314T190000
DTSTAMP:20260423T072759
CREATED:20260304T142242Z
LAST-MODIFIED:20260304T142254Z
UID:16212-1773514800-1773514800@apfelarena.hr
SUMMARY:USPOMENE NA NJEGA
DESCRIPTION:1h 54m – US \nNakon savršenog izlaska s voljenim dečkom\, Kenna čini fatalnu pogrešku zbog koje završava u zatvoru. Sedam godina kasnije\, vraća se u rodni grad u nadi da iz temelja izgradi svoj život i ponovno se sastane sa svojom malom kćeri Diem koju nikada nije upoznala. Dok neumorno pokušava doći do kćeri usprkos zabranama njezinih skrbnika\, bake i djeda\, Kenna se polako povezuje s vlasnikom lokalnog bara Ledgerom i razvija s njim tajnu romansu. \nRomantična drama redateljice Vanesse Caswill snimljena je prema istoimenoj bestseler knjizi autorice Coleen Hoover\, koja je napisala i “It Ends with Us” ekraniziran 2024. godine.
URL:https://apfelarena.hr/dogadaj/uspomene-na-njega/
LOCATION:Apfel Arena\, Put Volicije 5\, Makarska\, Hrvatska
CATEGORIES:Kino predstave
ATTACH;FMTTYPE=image/jpeg:https://apfelarena.hr/wp-content/uploads/2026/03/d82c67ce-17b5-11f1-8856-0242ac120004.jpg
END:VEVENT
BEGIN:VEVENT
DTSTART;TZID=Europe/Zagreb:20260315T170000
DTEND;TZID=Europe/Zagreb:20260315T170000
DTSTAMP:20260423T072759
CREATED:20260304T142440Z
LAST-MODIFIED:20260304T142440Z
UID:16216-1773594000-1773594000@apfelarena.hr
SUMMARY:GOAT: OKUS POBJEDE
DESCRIPTION:1h 35m – US \nIz studija koji stoji iza filma “Spider-Man: Across the Spider-Verse” dolazi originalna akcijska komedija smještena u svijet životinja. \nWill je malog kozlić s velikim snovima koji dobiva jedinstvenu priliku pridružiti se profesionalcima i igrati roarball – visokointenzivni\, mješoviti\, full-contact sport kojim dominiraju najbrže i najžešće životinje na svijetu. Willovi novi suigrači nisu oduševljeni time što imaju kozlića na popisu igrača\, no Will je odlučan revolucionirati sport i jednom zauvijek dokazati da i “mali mogu igrati!”
URL:https://apfelarena.hr/dogadaj/goat-okus-pobjede/
LOCATION:Apfel Arena\, Put Volicije 5\, Makarska\, Hrvatska
CATEGORIES:Kino predstave
ATTACH;FMTTYPE=image/jpeg:https://apfelarena.hr/wp-content/uploads/2026/03/d6a0c8aa-17b5-11f1-88be-0242ac120004.jpg
END:VEVENT
BEGIN:VEVENT
DTSTART;TZID=Europe/Zagreb:20260319T190000
DTEND;TZID=Europe/Zagreb:20260319T190000
DTSTAMP:20260423T072759
CREATED:20260122T142633Z
LAST-MODIFIED:20260304T142908Z
UID:15720-1773946800-1773946800@apfelarena.hr
SUMMARY:Svadba
DESCRIPTION:1h 35m – HR\, RS \nRedatelj i scenarist Igor Šeregi donosi domaću komediju s jednom od najjačih glumačkih postava u novije vrijeme – Rene Bitorajac\, Dragan Bjelogrlić\, Anđelka Stević Žugić\, Dejan Aćimović\, Srđan Žika Todorović\, Linda Begonja… i mnogi drugi! \nMiljenko\, uspješan i utjecajan hrvatski poduzetnik\, na dan svoga pedesetog rođendana suočava se s brutalnom istinom – na sjednici nadzornog odbora doznaje da se njegovo poslovno carstvo nalazi na rubu sloma. Dok pokušava sačuvati pribranost\, u ured mu ulazi obitelj s tortom\, osmijesima i pjesmom\, nesvjesni da se svijet oko njega upravo urušava. U trenutku lažne vedrine zazvoni telefon\, a na liniji je kći Ana\, studentica u Londonu. Čestita mu rođendan\, radosno objavljuje zaruke – i priznaje da je trudna. Otac djeteta je sin srpskog premijera. Šok se širi obitelji poput valova: baka se razboli\, Miljenko tone dublje u očaj\, a njegov hladnokrvni poslovni savjetnik Budimir u situaciji prepoznaje rijetku priliku da spasi kompaniju.
URL:https://apfelarena.hr/dogadaj/svadba-2/
LOCATION:Apfel Arena\, Put Volicije 5\, Makarska\, Hrvatska
CATEGORIES:Kino predstave
ATTACH;FMTTYPE=image/jpeg:https://apfelarena.hr/wp-content/uploads/2026/01/600f1120-f77a-11f0-8558-0242ac120004.jpg
END:VEVENT
BEGIN:VEVENT
DTSTART;TZID=Europe/Zagreb:20260321T190000
DTEND;TZID=Europe/Zagreb:20260321T190000
DTSTAMP:20260423T072759
CREATED:20260304T142627Z
LAST-MODIFIED:20260304T142627Z
UID:16220-1774119600-1774119600@apfelarena.hr
SUMMARY:SENTIMENTALNA VRIJEDNOST
DESCRIPTION:2h 13m – NO \nSestre Nora i Agnes ponovno se susreću sa svojim otuđenim ocem\, karizmatičnim Gustavom\, poznatim redateljem koji Nori kao kazališnoj glumici nudi ulogu u svom sljedećem filmu. Kada Nora odbije ponudu\, Gustav ulogu daje mladoj holivudskoj zvijezdi. Obiteljska se dinamika komplicira\, a dvije se sestre moraju snalaziti u krhkom odnosu s ocem i nositi se s američkom zvijezdom koja se našla usred njihove složene obiteljske situacije. \nHvaljeni film Joachima Triera premijerno je prikazan na filmskom festivalu u Cannesu gdje je osvojio Grand Prix nagradu\, te je apsolutni pobjednik ovogodišnjih Europskih filmskih nagrada s osvojenih čak 6 nagrada u svim glavnim kategorijama\, uključujući one za najbolji film\, najbolju glumicu (Renate Reinsve) i najboljeg glumaca (Stellan Skarsgård). \nNominiran je za ovogodišnju nagradu Oscar u čak 9 kategorija.
URL:https://apfelarena.hr/dogadaj/sentimentalna-vrijednost/
LOCATION:Apfel Arena\, Put Volicije 5\, Makarska\, Hrvatska
CATEGORIES:Kino predstave
ATTACH;FMTTYPE=image/jpeg:https://apfelarena.hr/wp-content/uploads/2026/03/d82d2344-17b5-11f1-b890-0242ac120004.jpg
END:VEVENT
BEGIN:VEVENT
DTSTART;TZID=Europe/Zagreb:20260322T170000
DTEND;TZID=Europe/Zagreb:20260322T170000
DTSTAMP:20260423T072759
CREATED:20260304T142822Z
LAST-MODIFIED:20260304T142822Z
UID:16224-1774198800-1774198800@apfelarena.hr
SUMMARY:DAVID
DESCRIPTION:1h 49m – US \nKada se div Golijat uzdigne i zaprijeti njegovu narodu\, mladi pastir naoružan samo s praćkom\, nekoliko kamenčića i hrabrošću\, smjelo staje u obranu onih koje voli. Na putovanju koje slijedi otkrivaju se snaga odanosti\, ljubavi i ustrajnosti\, sve do velike bitke koja se ne vodi samo za krunu\, nego i za dobro i budućnost cijelog kraljevstva.
URL:https://apfelarena.hr/dogadaj/david/
LOCATION:Apfel Arena\, Put Volicije 5\, Makarska\, Hrvatska
CATEGORIES:Kino predstave
ATTACH;FMTTYPE=image/jpeg:https://apfelarena.hr/wp-content/uploads/2026/03/d692054a-17b5-11f1-a19f-0242ac120003.jpg
END:VEVENT
BEGIN:VEVENT
DTSTART;TZID=Europe/Zagreb:20260326T200000
DTEND;TZID=Europe/Zagreb:20260326T200000
DTSTAMP:20260423T072759
CREATED:20260323T143724Z
LAST-MODIFIED:20260323T143724Z
UID:16330-1774555200-1774555200@apfelarena.hr
SUMMARY:Nasljedstvo s predumišljajem
DESCRIPTION:1h 45m – UK\, FR \nKako nasljedstvo zadržati samo za sebe? Lako… treba se riješiti svih ostalih nasljednika. \nOdbačen pri rođenju od strane svoje pretjerano bogate obitelji\, Becket Redfellow neće se zaustaviti ni pred čim kako bi vratio svoje nasljedstvo\, bez obzira na to koliko mu rođaka stoji na putu. \nU napetoj i zabavnoj crnoj komediji redatelja Johna Pattona Forda (Emily the Criminal) glavnu ulogu tumači Glen Powell.
URL:https://apfelarena.hr/dogadaj/nasljedstvo-s-predumisljajem/
LOCATION:Apfel Arena\, Put Volicije 5\, Makarska\, Hrvatska
CATEGORIES:Kino predstave
ATTACH;FMTTYPE=image/jpeg:https://apfelarena.hr/wp-content/uploads/2026/03/4ada5462-26ab-11f1-8ef3-0242ac120002.jpg
END:VEVENT
BEGIN:VEVENT
DTSTART;TZID=Europe/Zagreb:20260328T200000
DTEND;TZID=Europe/Zagreb:20260328T200000
DTSTAMP:20260423T072759
CREATED:20260323T143857Z
LAST-MODIFIED:20260323T143857Z
UID:16334-1774728000-1774728000@apfelarena.hr
SUMMARY:Projekt spasitelj
DESCRIPTION:2h 36m – US \nProfesor prirodoslovlja Ryland Grace (Ryan Gosling) budi se na svemirskom brodu\, svjetlosnim godinama udaljen od doma\, bez ikakvog sjećanja na to tko je i kako je ondje dospio. Dok mu se pamćenje postupno vraća\, shvaća da mu je misija riješiti zagonetku tajanstvene tvari zbog koje Sunce polako odumire. Mora se osloniti na svoje znanstveno znanje i nekonvencionalne ideje kako bi spasio život na Zemlji od izumiranja… no neočekivano prijateljstvo znači da se s tim možda ipak neće morati suočiti sam.
URL:https://apfelarena.hr/dogadaj/projekt-spasitelj/
LOCATION:Apfel Arena\, Put Volicije 5\, Makarska\, Hrvatska
CATEGORIES:Kino predstave
ATTACH;FMTTYPE=image/jpeg:https://apfelarena.hr/wp-content/uploads/2026/03/498538fc-26ab-11f1-aaa5-0242ac120004.jpg
END:VEVENT
BEGIN:VEVENT
DTSTART;TZID=Europe/Zagreb:20260329T170000
DTEND;TZID=Europe/Zagreb:20260329T170000
DTSTAMP:20260423T072759
CREATED:20260323T144011Z
LAST-MODIFIED:20260323T144011Z
UID:16338-1774803600-1774803600@apfelarena.hr
SUMMARY:Mala Amelie
DESCRIPTION:1h 17m – FR\, BE \nAmélie je mala belgijska djevojčica rođena u Japanu gdje postoji vjerovanje da je dijete do treće godine slično bogovima. Na njezin treći rođendan u Japan iz Belgije dolazi baka i jedan događaj mijenja sve. Uz prijateljicu dadilju Nishio-san\, njezin život donosi niz pustolovina kroz otkrivanje životnih ljepota\, radosti\, ali i tuge. \nHvaljeni film nominiran za Oscara za najbolji animirani film nam nježna je\, dirljiva i vizualno zapanjujuća priča o moći ljudske povezanosti. Na 11. Danima dječjeg filma “Pulica u kaputu” bio je trostruki pobjednik s osvojenim nagradama publike\, Dječjeg žirija te Žirija učitelja i roditelja.\nFilm se prikazuje u sklopu Dana frankofonije.
URL:https://apfelarena.hr/dogadaj/mala-amelie/
LOCATION:Apfel Arena\, Put Volicije 5\, Makarska\, Hrvatska
CATEGORIES:Kino predstave
ATTACH;FMTTYPE=image/jpeg:https://apfelarena.hr/wp-content/uploads/2026/03/49a083aa-26ab-11f1-97bb-0242ac120004.jpg
END:VEVENT
END:VCALENDAR