BEGIN:VCALENDAR
VERSION:2.0
PRODID:-//APFEL ARENA - ECPv5.16.3.1//NONSGML v1.0//EN
CALSCALE:GREGORIAN
METHOD:PUBLISH
X-ORIGINAL-URL:https://apfelarena.hr
X-WR-CALDESC:Events for APFEL ARENA
REFRESH-INTERVAL;VALUE=DURATION:PT1H
X-Robots-Tag:noindex
X-PUBLISHED-TTL:PT1H
BEGIN:VTIMEZONE
TZID:Europe/Zagreb
BEGIN:DAYLIGHT
TZOFFSETFROM:+0100
TZOFFSETTO:+0200
TZNAME:CEST
DTSTART:20260329T010000
END:DAYLIGHT
BEGIN:STANDARD
TZOFFSETFROM:+0200
TZOFFSETTO:+0100
TZNAME:CET
DTSTART:20261025T010000
END:STANDARD
END:VTIMEZONE
BEGIN:VEVENT
DTSTART;TZID=Europe/Zagreb:20260301T170000
DTEND;TZID=Europe/Zagreb:20260301T170000
DTSTAMP:20260423T120109
CREATED:20260223T142954Z
LAST-MODIFIED:20260223T142954Z
UID:16149-1772384400-1772384400@apfelarena.hr
SUMMARY:ARCO
DESCRIPTION:1h 29m – FR\, US \nDobitnik ovogodišnje Europske filmske nagrade za najbolji animirani film uzbudljiva je i dirljiva znanstveno-fantastična avantura za sve uzraste. \nDesetogodišnji Arco živi u dalekoj budućnosti. Tijekom svog prvog leta u odijelu duginih boja\, gubi kontrolu i pada u prošlost. Iris\, djevojčica njegovih godina iz 2075. godine\, vidi ga kako pada te ga spašava\, prima pod svoj krov i odlučuje učiniti sve što može kako bi mu pomogla vrati se kući.
URL:https://apfelarena.hr/dogadaj/arco/
LOCATION:Apfel Arena\, Put Volicije 5\, Makarska\, Hrvatska
CATEGORIES:Kino predstave
ATTACH;FMTTYPE=image/jpeg:https://apfelarena.hr/wp-content/uploads/2026/02/fd125f28-1097-11f1-adaf-0242ac120003.jpg
END:VEVENT
END:VCALENDAR