BEGIN:VCALENDAR
VERSION:2.0
PRODID:-//APFEL ARENA - ECPv5.16.3.1//NONSGML v1.0//EN
CALSCALE:GREGORIAN
METHOD:PUBLISH
X-WR-CALNAME:APFEL ARENA
X-ORIGINAL-URL:https://apfelarena.hr
X-WR-CALDESC:Events for APFEL ARENA
REFRESH-INTERVAL;VALUE=DURATION:PT1H
X-Robots-Tag:noindex
X-PUBLISHED-TTL:PT1H
BEGIN:VTIMEZONE
TZID:Europe/Zagreb
BEGIN:DAYLIGHT
TZOFFSETFROM:+0100
TZOFFSETTO:+0200
TZNAME:CEST
DTSTART:20260329T010000
END:DAYLIGHT
BEGIN:STANDARD
TZOFFSETFROM:+0200
TZOFFSETTO:+0100
TZNAME:CET
DTSTART:20261025T010000
END:STANDARD
END:VTIMEZONE
BEGIN:VEVENT
DTSTART;TZID=Europe/Zagreb:20260305T190000
DTEND;TZID=Europe/Zagreb:20260305T190000
DTSTAMP:20260423T085708
CREATED:20260223T143238Z
LAST-MODIFIED:20260223T143238Z
UID:16153-1772737200-1772737200@apfelarena.hr
SUMMARY:BEZ IZBORA
DESCRIPTION:2h 19m – KR \nNovo remek djelo Parka Chan-wooka\, jednog od najvećih južnokorejskih redatelja 21. stoljeća koji je snimio nezaboravne hitove “Oldboy”\, “Sluškinja” i “Dvostruka prijevara”. \nMan-su je specijalist za proizvodnju papira s 25 godina radnog iskustva i ima sve što jedan čovjek može poželjeti od života. Dok mu dani prolaze u sretnom zadovoljstvu sa suprugom\, dvoje djece i dva psa\, iznenada biva otpušten. Šokiran situacijom\, Man-su obećaje obitelji da će u roku od iduća tri mjeseca pronaći posao\, no vrijeme prolazi a on dobiva samo odbijenice. Jednoga dana smišlja plan: eliminirat će konkurenciju\, ako treba i silom.
URL:https://apfelarena.hr/dogadaj/bez-izbora/
LOCATION:Apfel Arena\, Put Volicije 5\, Makarska\, Hrvatska
CATEGORIES:Kino predstave
ATTACH;FMTTYPE=image/jpeg:https://apfelarena.hr/wp-content/uploads/2026/02/fcc8a34c-1097-11f1-b762-0242ac120002.jpg
END:VEVENT
END:VCALENDAR