BEGIN:VCALENDAR
VERSION:2.0
PRODID:-//APFEL ARENA - ECPv5.16.3.1//NONSGML v1.0//EN
CALSCALE:GREGORIAN
METHOD:PUBLISH
X-WR-CALNAME:APFEL ARENA
X-ORIGINAL-URL:https://apfelarena.hr
X-WR-CALDESC:Events for APFEL ARENA
REFRESH-INTERVAL;VALUE=DURATION:PT1H
X-Robots-Tag:noindex
X-PUBLISHED-TTL:PT1H
BEGIN:VTIMEZONE
TZID:Europe/Zagreb
BEGIN:DAYLIGHT
TZOFFSETFROM:+0100
TZOFFSETTO:+0200
TZNAME:CEST
DTSTART:20260329T010000
END:DAYLIGHT
BEGIN:STANDARD
TZOFFSETFROM:+0200
TZOFFSETTO:+0100
TZNAME:CET
DTSTART:20261025T010000
END:STANDARD
END:VTIMEZONE
BEGIN:VEVENT
DTSTART;TZID=Europe/Zagreb:20260402T170000
DTEND;TZID=Europe/Zagreb:20260402T170000
DTSTAMP:20260423T101729
CREATED:20260323T144142Z
LAST-MODIFIED:20260323T144142Z
UID:16343-1775149200-1775149200@apfelarena.hr
SUMMARY:Super Mario Galaxy Film
DESCRIPTION:1h 38m – US \nNova animirana avantura temeljena na svijetu Super Mario Bros. prati radnju Super Mario Bros. Filma koji je izašao 2023. godine i zaradio više od 1\,3 milijarde dolara diljem svijeta. Ovoga puta\, Mario i Luigi upoznaju se i sprijateljuju s Yoshijem dok se pridružuju princezi Peach na avanturi kroz svemir i diljem galaksije. Putem se susreću se s još nekim neobičnim suputnicima… Oba naslova Super Mario Filma producirali su Chris Meledandri iz studija Illumination i Shigeru Miyamoto iz Nintenda.
URL:https://apfelarena.hr/dogadaj/super-mario-galaxy-film/
LOCATION:Apfel Arena\, Put Volicije 5\, Makarska\, Hrvatska
CATEGORIES:Kino predstave
ATTACH;FMTTYPE=image/jpeg:https://apfelarena.hr/wp-content/uploads/2026/03/4acfdda2-26ab-11f1-ae3a-0242ac120004.jpg
END:VEVENT
BEGIN:VEVENT
DTSTART;TZID=Europe/Zagreb:20260402T200000
DTEND;TZID=Europe/Zagreb:20260402T200000
DTSTAMP:20260423T101729
CREATED:20260323T144333Z
LAST-MODIFIED:20260323T144333Z
UID:16348-1775160000-1775160000@apfelarena.hr
SUMMARY:Pjesnik
DESCRIPTION:2h 3m – CO\, DE \nOscaru Restrepu poezija je smisao života. Kako mu pjesnički integritet nije donio mnogo slave\, posvetio se plemenitom statusu pjesnika u opskurnosti\, uz obilne doze alkohola. Kada se zaposli kao profesor u srednjoj školi\, među nezainteresiranim učenicima otkriva talentiranu Yurlady\, djevojku iz koje poezija i proza teku s lakoćom. Yurlady ima pametnijih stvari od bavljenja stihovima\, no Oscar ima misiju – otvoriti joj vrata slave kroz koja sam nikad nije prošao. \nKolumbijski kandidat za Oscara za najbolji film dirljiva je mješavina apsurda\, satire i drame\, premijerno prikazan u programu Izvjestan pogled u Cannesu\, gdje je ovjenčan Nagradom žirija.
URL:https://apfelarena.hr/dogadaj/pjesnik/
LOCATION:Apfel Arena\, Put Volicije 5\, Makarska\, Hrvatska
CATEGORIES:Kino predstave
ATTACH;FMTTYPE=image/jpeg:https://apfelarena.hr/wp-content/uploads/2026/03/4abdb4e2-26ab-11f1-b890-0242ac120004.jpg
END:VEVENT
END:VCALENDAR