BEGIN:VCALENDAR
VERSION:2.0
PRODID:-//APFEL ARENA - ECPv5.16.3.1//NONSGML v1.0//EN
CALSCALE:GREGORIAN
METHOD:PUBLISH
X-ORIGINAL-URL:https://apfelarena.hr
X-WR-CALDESC:Events for APFEL ARENA
REFRESH-INTERVAL;VALUE=DURATION:PT1H
X-Robots-Tag:noindex
X-PUBLISHED-TTL:PT1H
BEGIN:VTIMEZONE
TZID:Europe/Zagreb
BEGIN:DAYLIGHT
TZOFFSETFROM:+0100
TZOFFSETTO:+0200
TZNAME:CEST
DTSTART:20230326T010000
END:DAYLIGHT
BEGIN:STANDARD
TZOFFSETFROM:+0200
TZOFFSETTO:+0100
TZNAME:CET
DTSTART:20231029T010000
END:STANDARD
END:VTIMEZONE
BEGIN:VEVENT
DTSTART;TZID=Europe/Zagreb:20231214T193000
DTEND;TZID=Europe/Zagreb:20231214T193000
DTSTAMP:20260425T203950
CREATED:20231120T090938Z
LAST-MODIFIED:20231130T122615Z
UID:8914-1702582200-1702582200@apfelarena.hr
SUMMARY:Božićni koncert
DESCRIPTION:Prava božićna čarolija očekuje vas u Apfel Areni 14. prosinca u 19:30\, kada će se održati spektakularni božićni koncert. Ovaj događaj okupit će neka od najpoznatijih imena hrvatske i lokalne glazbene scene i pružiti gledateljima nezaboravan blagdanski doživljaj. \nPod dirigentskom palicom talentiranog Bruna Bišćana\, glazbeni orkestar će stvoriti magičnu atmosferu\, a pozornicu će dijeliti slavni izvođači\, Jole\, Zsa Zsa\, Luciano Batinić\, klapa Berulia i klapa Fjoret\, koji će svojim iznimnim glazbenim talentom oduševiti publiku. \nGledatelji će uživati u nevjerojatnim aranžmanima poznatih božićnih pjesama te poznatim hitovima. Koncert obećava jedinstvenu glazbenu poslasticu koja će ostati urezana u sjećanjima svih prisutnih. \nUlaznice su već dostupne po cijeni od 19€\, stoga ne propustite priliku da rezervirate svoje mjesto na ovom nezaboravnom događaju i budete dio ove blagdanske čarolije na jedinstvenom koncertu u Apfel Areni.
URL:https://apfelarena.hr/dogadaj/bozicni-koncert/
LOCATION:Apfel Arena\, Put Volicije 5\, Makarska\, Hrvatska
CATEGORIES:Koncerti
ATTACH;FMTTYPE=image/jpeg:https://apfelarena.hr/wp-content/uploads/2023/11/Apfel-arena-bozicni-koncert-IG-2.jpg
END:VEVENT
END:VCALENDAR