BEGIN:VCALENDAR
VERSION:2.0
PRODID:-//APFEL ARENA - ECPv5.16.3.1//NONSGML v1.0//EN
CALSCALE:GREGORIAN
METHOD:PUBLISH
X-WR-CALNAME:APFEL ARENA
X-ORIGINAL-URL:https://apfelarena.hr
X-WR-CALDESC:Events for APFEL ARENA
REFRESH-INTERVAL;VALUE=DURATION:PT1H
X-Robots-Tag:noindex
X-PUBLISHED-TTL:PT1H
BEGIN:VTIMEZONE
TZID:Europe/Zagreb
BEGIN:DAYLIGHT
TZOFFSETFROM:+0100
TZOFFSETTO:+0200
TZNAME:CEST
DTSTART:20240331T010000
END:DAYLIGHT
BEGIN:STANDARD
TZOFFSETFROM:+0200
TZOFFSETTO:+0100
TZNAME:CET
DTSTART:20241027T010000
END:STANDARD
END:VTIMEZONE
BEGIN:VEVENT
DTSTART;TZID=Europe/Zagreb:20240308T193000
DTEND;TZID=Europe/Zagreb:20240308T193000
DTSTAMP:20260425T174849
CREATED:20240222T152214Z
LAST-MODIFIED:20240222T153356Z
UID:9694-1709926200-1709926200@apfelarena.hr
SUMMARY:Jasna Zlokić
DESCRIPTION:U sklopu manifestacije “Zima u gradu” u organizaciji Grada Makarske u Apfel Areni će se povodom Dana žena održati koncert Jasne Zlokić. \nOna je skitnica i naš jedini drug. Ona je Jasna Zlokić\, poznato ime hrvatske\, ali i regionalne glazbene scene. U svojoj karijeri 80-ih kada je i cijela glazbena scena na ovim prostorima doživjela kulminaciju\, ostvarila je veliki uspjeh. Pjesmom “Skitnica” ostavila je neizbrisiv trag i tako ušla među velikane hrvatske kulture.
URL:https://apfelarena.hr/dogadaj/jasna-zlokic-2/
LOCATION:Apfel Arena\, Put Volicije 5\, Makarska\, Hrvatska
CATEGORIES:Koncerti
ATTACH;FMTTYPE=image/jpeg:https://apfelarena.hr/wp-content/uploads/2024/02/poster-jasna-zlokic.jpg
END:VEVENT
BEGIN:VEVENT
DTSTART;TZID=Europe/Zagreb:20240309T200000
DTEND;TZID=Europe/Zagreb:20240309T200000
DTSTAMP:20260425T174849
CREATED:20240124T141608Z
LAST-MODIFIED:20240124T141608Z
UID:9346-1710014400-1710014400@apfelarena.hr
SUMMARY:Koncert glazbenog sastava LevelOne
DESCRIPTION:Glazbeni sastav LevelOne vratit će nas svojim koncertom u zlatnu eru britanske glazbene scene. Koncert pod nazivom “Something happened on the way to heaven” stiže u Apfel Arenu 9. ožujka 2024. godine. \nOni za sebe kažu da su glazbeni entuzijasti\, a njihov nastup ne ostavlja nikoga ravnodušnim. LevelOne će zagrijati Apfel Arenu interpretacijom hitova nekih od najvećih ikona britanske glazbene scene kao što su Queen\, Phil Collins\, Elton John\, Beatles\, David Bowie\, Simple Minds\, Duran Duran\, Depeche Mode. \n“Something happened on the way to heaven” nije samo koncert\, već putovanje kroz zlatne trenutke britanske glazbene povijesti. Ulaznice za ovaj koncert dostupne su online na Entrio.hr i na Info pultu Apfel Arene.
URL:https://apfelarena.hr/dogadaj/koncert-glazbenog-sastava-levelone/
LOCATION:Apfel Arena\, Put Volicije 5\, Makarska\, Hrvatska
CATEGORIES:Koncerti
ATTACH;FMTTYPE=image/jpeg:https://apfelarena.hr/wp-content/uploads/2024/01/Koncert-LevelOne.jpg
END:VEVENT
END:VCALENDAR