BEGIN:VCALENDAR
VERSION:2.0
PRODID:-//APFEL ARENA - ECPv5.16.3.1//NONSGML v1.0//EN
CALSCALE:GREGORIAN
METHOD:PUBLISH
X-ORIGINAL-URL:https://apfelarena.hr
X-WR-CALDESC:Events for APFEL ARENA
REFRESH-INTERVAL;VALUE=DURATION:PT1H
X-Robots-Tag:noindex
X-PUBLISHED-TTL:PT1H
BEGIN:VTIMEZONE
TZID:Europe/Zagreb
BEGIN:DAYLIGHT
TZOFFSETFROM:+0100
TZOFFSETTO:+0200
TZNAME:CEST
DTSTART:20250330T010000
END:DAYLIGHT
BEGIN:STANDARD
TZOFFSETFROM:+0200
TZOFFSETTO:+0100
TZNAME:CET
DTSTART:20251026T010000
END:STANDARD
END:VTIMEZONE
BEGIN:VEVENT
DTSTART;TZID=Europe/Zagreb:20250207T200000
DTEND;TZID=Europe/Zagreb:20250207T200000
DTSTAMP:20260422T221831
CREATED:20250203T073535Z
LAST-MODIFIED:20250203T073535Z
UID:12101-1738958400-1738958400@apfelarena.hr
SUMMARY:KONCERT ŽELJKA BEBEKA U APFEL ARENI
DESCRIPTION:Veliko nam je zadovoljstvo najaviti koncert velikog Željka Bebeka koji obilježava čak pedeset godina svoje karijere! Koncert će se održati u petak 7. veljače u 20:00 sati u Apfel Areni u Makarskoj. \nUlaznice su dostupne na Info pultu po cijeni od 35€.
URL:https://apfelarena.hr/dogadaj/koncert-zeljka-bebeka-u-apfel-areni/
LOCATION:Apfel Arena\, Put Volicije 5\, Makarska\, Hrvatska
CATEGORIES:Koncerti
ATTACH;FMTTYPE=image/jpeg:https://apfelarena.hr/wp-content/uploads/2025/02/zeljko-bebek.jpg
END:VEVENT
END:VCALENDAR