BEGIN:VCALENDAR
VERSION:2.0
PRODID:-//APFEL ARENA - ECPv5.16.3.1//NONSGML v1.0//EN
CALSCALE:GREGORIAN
METHOD:PUBLISH
X-ORIGINAL-URL:https://apfelarena.hr
X-WR-CALDESC:Events for APFEL ARENA
REFRESH-INTERVAL;VALUE=DURATION:PT1H
X-Robots-Tag:noindex
X-PUBLISHED-TTL:PT1H
BEGIN:VTIMEZONE
TZID:Europe/Zagreb
BEGIN:DAYLIGHT
TZOFFSETFROM:+0100
TZOFFSETTO:+0200
TZNAME:CEST
DTSTART:20250330T010000
END:DAYLIGHT
BEGIN:STANDARD
TZOFFSETFROM:+0200
TZOFFSETTO:+0100
TZNAME:CET
DTSTART:20251026T010000
END:STANDARD
END:VTIMEZONE
BEGIN:VEVENT
DTSTART;TZID=Europe/Zagreb:20250427T200000
DTEND;TZID=Europe/Zagreb:20250427T200000
DTSTAMP:20260420T073213
CREATED:20250320T132419Z
LAST-MODIFIED:20250320T132419Z
UID:14093-1745784000-1745784000@apfelarena.hr
SUMMARY:Večer slavljenja u Apfel Areni
DESCRIPTION:Ljubitelji duhovne glazbe uskoro će imati priliku uživati u nezaboravnoj večeri slavljenja! Popularna grupa Emanuel održat će koncert u Apfel Areni u nedjelju\, 27. travnja u 20:00 sati. Ulaznice za koncert dostupne su na Info pultu Apfel Arene po cijeni od 20 €.
URL:https://apfelarena.hr/dogadaj/vecer-slavljenja-u-apfel-areni/
LOCATION:Apfel Arena\, Put Volicije 5\, Makarska\, Hrvatska
CATEGORIES:Istaknuto,Koncerti
ATTACH;FMTTYPE=image/jpeg:https://apfelarena.hr/wp-content/uploads/2025/03/FB-1920-x-1005-Emanuel-APFEL-1-Medium.jpg
END:VEVENT
END:VCALENDAR