BEGIN:VCALENDAR
VERSION:2.0
PRODID:-//APFEL ARENA - ECPv5.16.3.1//NONSGML v1.0//EN
CALSCALE:GREGORIAN
METHOD:PUBLISH
X-WR-CALNAME:APFEL ARENA
X-ORIGINAL-URL:https://apfelarena.hr
X-WR-CALDESC:Events for APFEL ARENA
REFRESH-INTERVAL;VALUE=DURATION:PT1H
X-Robots-Tag:noindex
X-PUBLISHED-TTL:PT1H
BEGIN:VTIMEZONE
TZID:Europe/Zagreb
BEGIN:DAYLIGHT
TZOFFSETFROM:+0100
TZOFFSETTO:+0200
TZNAME:CEST
DTSTART:20250330T010000
END:DAYLIGHT
BEGIN:STANDARD
TZOFFSETFROM:+0200
TZOFFSETTO:+0100
TZNAME:CET
DTSTART:20251026T010000
END:STANDARD
END:VTIMEZONE
BEGIN:VEVENT
DTSTART;TZID=Europe/Zagreb:20251115T200000
DTEND;TZID=Europe/Zagreb:20251115T200000
DTSTAMP:20260419T155412
CREATED:20251023T092718Z
LAST-MODIFIED:20251023T092718Z
UID:15141-1763236800-1763236800@apfelarena.hr
SUMMARY:Koncert Neki Novi Klinci u Apfel Areni
DESCRIPTION:Pripremite se za večer ispunjenu emocijama\, stihovima i glazbom koja dira dušu. \n 15. studenog\n 20:00 h\n Apfel Arena\n Cijena ulaznice je 20\,00€\, ulaznice možete kupiti online na adriaticket.com i na info pultu Apfel Arene svakim danom od 8-22h (bez naknade). \nSedmeročlani zagrebački sastav Neki Novi Klinci donosi vam nezaboravnu glazbenu večer uz popularne hitove koji su obilježili generacije.  \nDođite i zapjevajte zajedno s nama! 
URL:https://apfelarena.hr/dogadaj/koncert-neki-novi-klinci-u-apfel-areni/
LOCATION:Apfel Arena\, Put Volicije 5\, Makarska\, Hrvatska
CATEGORIES:Koncerti
ATTACH;FMTTYPE=image/jpeg:https://apfelarena.hr/wp-content/uploads/2025/10/Neki-novi-klinci.jpg
END:VEVENT
END:VCALENDAR