BEGIN:VCALENDAR
VERSION:2.0
PRODID:-//APFEL ARENA - ECPv5.16.3.1//NONSGML v1.0//EN
CALSCALE:GREGORIAN
METHOD:PUBLISH
X-ORIGINAL-URL:https://apfelarena.hr
X-WR-CALDESC:Events for APFEL ARENA
REFRESH-INTERVAL;VALUE=DURATION:PT1H
X-Robots-Tag:noindex
X-PUBLISHED-TTL:PT1H
BEGIN:VTIMEZONE
TZID:Europe/Zagreb
BEGIN:DAYLIGHT
TZOFFSETFROM:+0100
TZOFFSETTO:+0200
TZNAME:CEST
DTSTART:20240331T010000
END:DAYLIGHT
BEGIN:STANDARD
TZOFFSETFROM:+0200
TZOFFSETTO:+0100
TZNAME:CET
DTSTART:20241027T010000
END:STANDARD
END:VTIMEZONE
BEGIN:VEVENT
DTSTART;TZID=Europe/Zagreb:20241115T200000
DTEND;TZID=Europe/Zagreb:20241115T200000
DTSTAMP:20260424T235006
CREATED:20241104T130543Z
LAST-MODIFIED:20241104T130543Z
UID:11396-1731700800-1731700800@apfelarena.hr
SUMMARY:KONCERT: ADI ŠOŠE & AL MUSIC BAND
DESCRIPTION:Ulaznice dostupne na Info pultu Apfel Arene \nUlaz 30 €.
URL:https://apfelarena.hr/dogadaj/koncert-adi-sose-al-music-band/
LOCATION:Apfel Arena\, Put Volicije 5\, Makarska\, Hrvatska
CATEGORIES:Koncerti
ATTACH;FMTTYPE=image/jpeg:https://apfelarena.hr/wp-content/uploads/2024/11/adi-sose.jpg
END:VEVENT
END:VCALENDAR