BEGIN:VCALENDAR
VERSION:2.0
PRODID:-//APFEL ARENA - ECPv5.16.3.1//NONSGML v1.0//EN
CALSCALE:GREGORIAN
METHOD:PUBLISH
X-ORIGINAL-URL:https://apfelarena.hr
X-WR-CALDESC:Events for APFEL ARENA
REFRESH-INTERVAL;VALUE=DURATION:PT1H
X-Robots-Tag:noindex
X-PUBLISHED-TTL:PT1H
BEGIN:VTIMEZONE
TZID:Europe/Zagreb
BEGIN:DAYLIGHT
TZOFFSETFROM:+0100
TZOFFSETTO:+0200
TZNAME:CEST
DTSTART:20240331T010000
END:DAYLIGHT
BEGIN:STANDARD
TZOFFSETFROM:+0200
TZOFFSETTO:+0100
TZNAME:CET
DTSTART:20241027T010000
END:STANDARD
END:VTIMEZONE
BEGIN:VEVENT
DTSTART;TZID=Europe/Zagreb:20241127T200000
DTEND;TZID=Europe/Zagreb:20241127T200000
DTSTAMP:20260424T235013
CREATED:20241104T131316Z
LAST-MODIFIED:20241104T131316Z
UID:11410-1732737600-1732737600@apfelarena.hr
SUMMARY:KONCERT: DA IMAMO NAS - KLAPA FJORET & GOSTI
DESCRIPTION:Klapa Fjoret i gosti – Klapa Munita i Klapa Cambi Kaštel Kambelovac \n18 godina pisme\, prijateljstva i jubavi. \nUlaznice dostupne na Info pultu Apfel Arene \nUlaz 15 €
URL:https://apfelarena.hr/dogadaj/koncert-da-imamo-nas-klapa-fjoret-gosti/
LOCATION:Apfel Arena\, Put Volicije 5\, Makarska\, Hrvatska
CATEGORIES:Koncerti
ATTACH;FMTTYPE=image/jpeg:https://apfelarena.hr/wp-content/uploads/2024/11/Fjoret.jpeg
END:VEVENT
END:VCALENDAR