BEGIN:VCALENDAR
VERSION:2.0
PRODID:-//APFEL ARENA - ECPv5.16.3.1//NONSGML v1.0//EN
CALSCALE:GREGORIAN
METHOD:PUBLISH
X-WR-CALNAME:APFEL ARENA
X-ORIGINAL-URL:https://apfelarena.hr
X-WR-CALDESC:Events for APFEL ARENA
REFRESH-INTERVAL;VALUE=DURATION:PT1H
X-Robots-Tag:noindex
X-PUBLISHED-TTL:PT1H
BEGIN:VTIMEZONE
TZID:Europe/Zagreb
BEGIN:DAYLIGHT
TZOFFSETFROM:+0100
TZOFFSETTO:+0200
TZNAME:CEST
DTSTART:20240331T010000
END:DAYLIGHT
BEGIN:STANDARD
TZOFFSETFROM:+0200
TZOFFSETTO:+0100
TZNAME:CET
DTSTART:20241027T010000
END:STANDARD
END:VTIMEZONE
BEGIN:VEVENT
DTSTART;TZID=Europe/Zagreb:20241218T200000
DTEND;TZID=Europe/Zagreb:20241218T200000
DTSTAMP:20260424T221436
CREATED:20241203T113705Z
LAST-MODIFIED:20241203T113705Z
UID:11617-1734552000-1734552000@apfelarena.hr
SUMMARY:Božićni koncert
DESCRIPTION:Tradicionalni božićni koncert održat će se 18. prosinca u 20:00 sati u Apfel Areni. Ove godine će najljepše božićne pjesme za vas pjevati velika Radojka Šverko\, Marko Tolja\, Grupa Cambi\, Tanja Šimić te klape Fjoret i Berulia. Glazbena pratnja bit će im veliki orkestar pod dirigentskom palicom talentiranog Brune Bišćana. Da sve teče glatko pobrinut će se Žana Šulenta koja će voditi program božićnog koncerta. \nOva božićna bajka nam je svima draga i želimo s vama podijeliti radost koju osjećamo u organizaciji ovakvih događanja. Pridružite nam se na božićnom koncertu i živite našu tradiciju s nama. \nUlaznice za koncert dostupne su na Info pultu po cijeni od 25€. \nRezervacije:\n+385 99 542 7385\ninfo@apfelarena.hr
URL:https://apfelarena.hr/dogadaj/bozicni-koncert-2/
LOCATION:Apfel Arena\, Put Volicije 5\, Makarska\, Hrvatska
CATEGORIES:Koncerti
ATTACH;FMTTYPE=image/jpeg:https://apfelarena.hr/wp-content/uploads/2024/12/Studeni-u-Apfel-Areni-600-x-600-piks..jpg
END:VEVENT
END:VCALENDAR