BEGIN:VCALENDAR
VERSION:2.0
PRODID:-//APFEL ARENA - ECPv5.16.3.1//NONSGML v1.0//EN
CALSCALE:GREGORIAN
METHOD:PUBLISH
X-WR-CALNAME:APFEL ARENA
X-ORIGINAL-URL:https://apfelarena.hr
X-WR-CALDESC:Events for APFEL ARENA
REFRESH-INTERVAL;VALUE=DURATION:PT1H
X-Robots-Tag:noindex
X-PUBLISHED-TTL:PT1H
BEGIN:VTIMEZONE
TZID:Europe/Zagreb
BEGIN:DAYLIGHT
TZOFFSETFROM:+0100
TZOFFSETTO:+0200
TZNAME:CEST
DTSTART:20220327T010000
END:DAYLIGHT
BEGIN:STANDARD
TZOFFSETFROM:+0200
TZOFFSETTO:+0100
TZNAME:CET
DTSTART:20221030T010000
END:STANDARD
END:VTIMEZONE
BEGIN:VEVENT
DTSTART;TZID=Europe/Zagreb:20221119T170000
DTEND;TZID=Europe/Zagreb:20221119T170000
DTSTAMP:20260425T174813
CREATED:20221117T080730Z
LAST-MODIFIED:20221117T080809Z
UID:5316-1668877200-1668877200@apfelarena.hr
SUMMARY:DOBRO SE DOBRIM VRAĆA
DESCRIPTION:Lutkarski mjuzikl o dobrim djelima koje od malena trebamo činiti jedni drugima\, jer se svako dobro djelo dobrim djelom vraća. Priča se događa u Jadranskom moru među ribicama\, što mjuziklu daje dodatnu atraktivnost\, ali se mogla dogoditi bilo gdje i bilo kome. \nNaime\, kada se hobotnica\, stari neprijatelj malih ribica\, nađe u životnoj opasnosti\, one joj svejedno priskaču u pomoć. U tom trenutku među njih dolazi bakalar\, riba koju nitko nije poznavao i prema kojoj svi u početku iskazuju nepovjerenje\, samo zato što je drukčija od njih. \nNo\, čim zaprijeti nova opasnost\, pokaže se da se u muci poznaju junaci. Oni što su u početku izgledali drugačiji od nas postanu pravi iskreni prijatelji\, pa na kraju tolerancija i međusobno poštovanje pobjedi sve predrasude\, a svako dobro djelo dobrim se djelom vrati. Predstava s čak 18 songova!
URL:https://apfelarena.hr/dogadaj/dobro-se-dobrim-vraca/
LOCATION:Apfel Arena\, Put Volicije 5\, Makarska\, Hrvatska
CATEGORIES:Predstave
ATTACH;FMTTYPE=image/jpeg:https://apfelarena.hr/wp-content/uploads/2022/11/lutkarska-predstava.jpg
END:VEVENT
BEGIN:VEVENT
DTSTART;TZID=Europe/Zagreb:20221125T200000
DTEND;TZID=Europe/Zagreb:20221125T200000
DTSTAMP:20260425T174813
CREATED:20221117T151252Z
LAST-MODIFIED:20221117T151252Z
UID:5332-1669406400-1669406400@apfelarena.hr
SUMMARY:Nove baze SplickeScene
DESCRIPTION:𝗦𝗽𝗹𝗶𝗰𝗸𝗮𝗦𝗰𝗲𝗻𝗮 se vraća u Makarsku s potpuno novim showom!\nNakon što su ovog ljeta gostovali u Ljetnom kinu Makarska\, splitski komičari prvi put dolaze u novu 𝗔𝗽𝗳𝗲𝗹 𝗔𝗿𝗲𝗻𝘂 kako bi izveli tekst koji makarska publika još nije imala prilike čuti. Vidimo se u 𝗽𝗲𝘁𝗮𝗸 𝟮𝟱. 𝘀𝘁𝘂𝗱𝗲𝗻𝗼𝗴 𝘂 𝟮𝟬:𝟬𝟬𝗵 kada “Nove baze JESEN” izvode 𝗧𝗼𝗺𝗶𝘀𝗹𝗮𝘃 𝗣𝗿𝗶𝗺𝗼𝗿𝗮𝗰\, 𝗜𝘃𝗶𝗰𝗮 𝗟𝗮𝘇𝗮𝗻𝗲𝗼\, 𝗔𝗻𝘁𝗲 𝗧𝗿𝗮𝘃𝗶𝘇𝗶 i 𝗝𝗼𝘀𝗶𝗽 𝗦̌𝗸𝗶𝗹𝗷𝗼! \n——————————————— \n𝗖𝗶𝗷𝗲𝗻𝗮 𝘂𝗹𝗮𝘇𝗻𝗶𝗰𝗲: 𝟲𝟬𝗞𝗡 𝗨 𝗣𝗥𝗘𝗧𝗣𝗥𝗢𝗗𝗔𝗝𝗜 / 𝟳𝟬𝗞𝗡 𝗡𝗔 𝗗𝗔𝗡 𝗣𝗥𝗘𝗗𝗦𝗧𝗔𝗩𝗘 (𝟳.𝟵𝟲€ / 𝟵.𝟮𝟵€) \n𝗢𝗡𝗟𝗜𝗡𝗘 𝗣𝗥𝗢𝗗𝗔𝗝𝗔:\nhttps://www.entrio.hr/…/makarska-nove-baze-splickescene \n𝗙𝗜𝗭𝗜𝗖𝗞𝗔 𝗣𝗥𝗢𝗗𝗔𝗝𝗔:\n𝗔𝗽𝗳𝗲𝗹 𝗔𝗿𝗲𝗻𝗮 – Put Volicije 5 // Radno vrijeme: Pon – Ned 08:00 – 22:00\n𝗧𝗜𝗦𝗔𝗞𝗺𝗲𝗱𝗶𝗮 𝗠𝗮𝗸𝗮𝗿𝘀𝗸𝗮 – Obala kralja Tomislava 3 // Radno vrijeme: Pon – Sub 09:00 – 21:00 / Ned 09:00 – 14:00\nNa dan showa na ulazu (ako ostane mjesta)
URL:https://apfelarena.hr/dogadaj/nove-baze-splickescene/
LOCATION:Apfel Arena\, Put Volicije 5\, Makarska\, Hrvatska
CATEGORIES:Predstave
ATTACH;FMTTYPE=image/jpeg:https://apfelarena.hr/wp-content/uploads/2022/11/314797572_677895093892759_3402579811903445588_n.jpg
END:VEVENT
BEGIN:VEVENT
DTSTART;TZID=Europe/Zagreb:20221127T190000
DTEND;TZID=Europe/Zagreb:20221127T190000
DTSTAMP:20260425T174813
CREATED:20221117T151526Z
LAST-MODIFIED:20221128T120315Z
UID:5337-1669575600-1669575600@apfelarena.hr
SUMMARY:U malu je uša đava
DESCRIPTION:Otkazana iz tehničkih razloga \nAutor: Tisja Kljaković Braić\nRežija: Mario Kovač\nDramatizacija:Mario Kovač\nScenografija: Davor Prah\nKostimografija: Ana Marin\nGlazba: Tomislav Babić\nOblikovanje svjetla: Srđan Barbarić\nOblikovanje tona: Tomislav Luetić \nIGRAJU\nAndrea Mladinić / Nenad Sardelić / Snježana Sinovčić Šiškov /Zorana Kačić Čatipović ( Petra Kovačić Botić) / Marjan Nejašmić Banić / Monika Vuco Carev /Tajana Jovanović /Trpimir Jurkić /Arijana Čulina/Andrijana Vicković /Katarina Romac/ Stipe Radoja /Goran Marković/Filip Radoš/Vicko Balndžić (Maro Drobnić)/Ana Marija Veselčić i Darijo Tvrdić \nU novoj hit predstavi HNK Split\, U MALU JE UŠA ĐAVA  pratimo život djevojčice (autorica Tisja Kljaković Braić ) od rođenja do početka rata ( vremenski period od 1980. do početka 1990.) te kroz niz zabavnih priča\, s mješavinom smijeha i suza  pratimo i cijelu njezinu obitelj i susjede. Njezino djetinjstvo i rana mladost slika su tipičnog dalmatinsko-mediteranskog miljea prepunog radosti\, povjerenja i ljubavi. \nOna je vragolasta\, inteligentna\, darovita i pomalo razmažena djevojčica  koja odrasta pod zaštitom bake i dida\, koja se skriva u kiosku\, ne voli odlazak u vrtić\, s didon ide na partiju karata u Hajduka\, a sa susjedima na kupanje pod Marjanom… \nUlaznice: 120\,00 kn (15\,93 Eur) se prodaju na info pultu Apfel Arene
URL:https://apfelarena.hr/dogadaj/u-malu-je-usa-dava/
LOCATION:Apfel Arena\, Put Volicije 5\, Makarska\, Hrvatska
CATEGORIES:Predstave
ATTACH;FMTTYPE=image/jpeg:https://apfelarena.hr/wp-content/uploads/2022/11/U-malu-je-usa-dava.jpg
END:VEVENT
END:VCALENDAR