BEGIN:VCALENDAR
VERSION:2.0
PRODID:-//APFEL ARENA - ECPv5.16.3.1//NONSGML v1.0//EN
CALSCALE:GREGORIAN
METHOD:PUBLISH
X-ORIGINAL-URL:https://apfelarena.hr
X-WR-CALDESC:Events for APFEL ARENA
REFRESH-INTERVAL;VALUE=DURATION:PT1H
X-Robots-Tag:noindex
X-PUBLISHED-TTL:PT1H
BEGIN:VTIMEZONE
TZID:Europe/Zagreb
BEGIN:DAYLIGHT
TZOFFSETFROM:+0100
TZOFFSETTO:+0200
TZNAME:CEST
DTSTART:20220327T010000
END:DAYLIGHT
BEGIN:STANDARD
TZOFFSETFROM:+0200
TZOFFSETTO:+0100
TZNAME:CET
DTSTART:20221030T010000
END:STANDARD
END:VTIMEZONE
BEGIN:VEVENT
DTSTART;TZID=Europe/Zagreb:20221206T170000
DTEND;TZID=Europe/Zagreb:20221206T170000
DTSTAMP:20260425T172859
CREATED:20221129T144505Z
LAST-MODIFIED:20221129T144930Z
UID:5373-1670346000-1670346000@apfelarena.hr
SUMMARY:LUTKARSKI MJUZIKL ZA DJECU "PRAVI PRIJATELJ" uz prisustvo Sv. Nikole
DESCRIPTION:Interaktivni lutkarski mjuzikl “Pravi prijatelj” govori o pravim vrijednostima\, prijateljstvu i dobrim djelima koje od malena trebamo činti jedni drugima. Dječak Marko želi za prijatelja neku poznatu osobu. Mudra vila ga odvede u Bajkosvijet\, a Darko mu pravi društvo. \nPutem sretnu Pinokija\, Mačka u čizmama\, Petra Pana i druge likove iz bajki\, Darko pomaže Marku\, savjetuje ga\, pazi na njega i štiti ga. Na povratku iz Bajkosvijeta\, Marko i Darko shvate da su jedan drugome pravi prijatelji. \nUlaznice se prodaju na info pultu Apfel Arene po cijeni od 25\,00 kn.
URL:https://apfelarena.hr/dogadaj/lutkarski-mjuzikl-za-djecu-pravi-prijatelj-uz-prisustvo-sv-nikole/
LOCATION:Apfel Arena\, Put Volicije 5\, Makarska\, Hrvatska
CATEGORIES:Predstave
ATTACH;FMTTYPE=image/png:https://apfelarena.hr/wp-content/uploads/2022/11/61lJoDwkLuL._SR600315_PIWhiteStripBottomLeft035_SCLZZZZZZZ_FMpng_BG255255255.png
END:VEVENT
BEGIN:VEVENT
DTSTART;TZID=Europe/Zagreb:20221207T190000
DTEND;TZID=Europe/Zagreb:20221207T190000
DTSTAMP:20260425T172859
CREATED:20221129T144808Z
LAST-MODIFIED:20221129T144808Z
UID:5377-1670439600-1670439600@apfelarena.hr
SUMMARY:Apfel Arena u Makarsku dovodi Teatar Kerekesh i predstavu BEBA!!!
DESCRIPTION:Nemojte se sramiti. Svi imamo probleme. I svi znamo da je najbolje o problemima razgovarati sa psihologom. Naša Svjetlana Fufić zvana BEBA dolazi psihologu po prvi put. Od silnog uzbuđenja\, mušica u glavi i gomile problema jednostavno započinje razgovor sa gospodinom u bijeloj odori. \nTaj gospodin je maler i jedino što zna o psihologiji je da mora pomalati ured i hodnik psihološke ordinacije. Bivši muževi Svjetlane Fufić izvukli su deblji kraj. Hoće li i ovaj slučajni psiholog s valjkom u ruci\, saznajte u novoj komediji Kerekesh Teatra jer u čekaonicu dolazi “Beba”. \nUlaznice se prodaju na info pultu Apfel Arene po cijeni od 80\,00 kn (10\,62 Eur).
URL:https://apfelarena.hr/dogadaj/apfel-arena-u-makarsku-dovodi-teatar-kerekesh-i-predstavu-beba/
LOCATION:Apfel Arena\, Put Volicije 5\, Makarska\, Hrvatska
CATEGORIES:Predstave
ATTACH;FMTTYPE=image/jpeg:https://apfelarena.hr/wp-content/uploads/2022/11/BEBA_vizual_WEB_s.jpg
END:VEVENT
BEGIN:VEVENT
DTSTART;TZID=Europe/Zagreb:20221212T190000
DTEND;TZID=Europe/Zagreb:20221212T190000
DTSTAMP:20260425T172859
CREATED:20221206T085545Z
LAST-MODIFIED:20221206T085545Z
UID:5395-1670871600-1670871600@apfelarena.hr
SUMMARY:ORAŠAROVA SUITA
DESCRIPTION:U ponedjeljak\, 12. prosinca 2022 u 19 sati\, na pozornici multimedijalne dvorane Apfel Arene u Makarskoj nastupit će poznata međunarodna trupa Ukrainian Classical Ballet\, čiji su umjetnici nadaleko poznati hrvatskoj publici. Makarsko primorje će ovom izvedbom postati destinacija bogatija za jedinstven adventski program te iskustvo visoke umjetnosti baleta. \nO činjenici da se niti jedan period godine ne veže toliko uz bajke i klasičnu glazbu\, posebice uz Čajkovskog\, svjedoči i najveći broj baletnih izvedbi upravo u ovom zimskom periodu\, stoga smo za naše sugrađanke i sugrađane pripremili najpoznatije i nezaboravne trenutke zimskih baleta Čajkovskog te ih spremili u novu Božićnu baletnu priču – Orašarovu suitu. Božićna baletna priča je satkana od desetak skladbi trajanja 45 minuta u kojima će publika moći uživati u Valceru pahuljica\, španjolskom\, arapskom te kineskom plesu\, valceru cvijeća dok će sve završiti velikim pas de deux protagonista Princa i Klare u začaranom svijetu četiri kraljevstva. Scenografija predstave Božićna baletna priča- Orašarove suite sastavljena je od posebne pozadine i scenske dekoracije kojom će se upriličiti izgled i atmosfera samog događanja. \nIznimno nas veseli da smo u Makarsku u suradnji s ARTentainment doveli ovu zimsku poslasticu\, kojom smo obogatili program Božića u Apfel Areni te uistinu je prilika da naši sugrađani u svom gradu uživaju u jednoj od najpopularnijih baletnih priča u ovo blagdansko vrijeme darivanja i veselja. \nUlaznice se prodaju na info pultu Apfel Arene po cijeni od 180\,00 kn ( 23\,89 Eur).
URL:https://apfelarena.hr/dogadaj/orasarova-suita/
LOCATION:Apfel Arena\, Put Volicije 5\, Makarska\, Hrvatska
CATEGORIES:Predstave
ATTACH;FMTTYPE=image/png:https://apfelarena.hr/wp-content/uploads/2022/12/ORASAR.png
END:VEVENT
BEGIN:VEVENT
DTSTART;TZID=Europe/Zagreb:20221214T190000
DTEND;TZID=Europe/Zagreb:20221214T190000
DTSTAMP:20260425T172859
CREATED:20221206T090213Z
LAST-MODIFIED:20221206T090213Z
UID:5399-1671044400-1671044400@apfelarena.hr
SUMMARY:Kazališna predstava "ČUDO"
DESCRIPTION:Nakon nagrađivane hit predstave “Vla-Vla-Vlajland cabaret”\, isti autorski tim nastavlja suradnju na novom projektu s istim dramskim licem koje tumači Ecija Ojdanić\, ali\, naravno\, u novim fabularnim okolnostima. U ovoj novoj drami “Čudo” autora i redatelja Ivana Lea Leme\, naša junakinja\, čiju je prosvjetiteljsku snagu ovoga ljeta prepoznao Branimir Pofuk i posvetio joj panegiričnu kolumnu\, ulazi u profesionalnu politiku i započinje kampanju za predsjednicu Republike Hrvatske. \nNa vlaškom dijalektu\, u uzburkanom moru tranzicijske društveno političke stvarnosti\, pokušavajući zadržati zdrav razum i poimanje morala\, naša heroina se bori s vidljivim i nevidljivim demonima u muškom ringu političke borbe. \nU toj će borbi na jedan način pobijediti\, ali na drugi način izgubiti. Postat će predsjednica\, ali će to platiti životom. Dualnost pojma “uspjeh” glavna je metafizička okosnica ove priče. Kroz razne faze političke evolucije i devolucije\, Eciji Ojdanić će se u mnogim komičnim karakterima pridružiti glumac Matija Šekoranja kojemu je ovo druga uloga u kazalištu Moruzgva. \nČinjenica da se priča odvija u svijetu politike\, ovoj drami daje satirično očište u promatranju aktualiteta. Osim tog političkog konteksta pratimo i unutarnje svjetove likova. Iz tih intimnih svjetova političnost\, zapravo\, emanira te u njima dobiva samospoznajnu svrhu. \nOno što ovaj projekt nasljeđuje od prethodne predstave s istim likom jest emancipacijska i feministička naelektriziranost te pokušaj kazališnog doprinosa borbi protiv mračnih strana patrijarhalne (ne)kulture. Također\, ovim nastavkom “Vlajlanda”\, udovoljavamo brojnim željama i upitima publike koji su se u 80 izvedbi tijekom prošle pandemijske godine\, smijali i plakali s našom Vlajnom. \nUlaznice se prodaju u Apfel Areni po cijeni od 90\,00 kn (11\,95 Eur).
URL:https://apfelarena.hr/dogadaj/kazalisna-predstava-cudo/
LOCATION:Apfel Arena\, Put Volicije 5\, Makarska\, Hrvatska
CATEGORIES:Predstave
ATTACH;FMTTYPE=image/jpeg:https://apfelarena.hr/wp-content/uploads/2022/12/CUDO-kazalisna-predstava-plakat.jpg
END:VEVENT
BEGIN:VEVENT
DTSTART;TZID=Europe/Zagreb:20221216T190000
DTEND;TZID=Europe/Zagreb:20221216T190000
DTSTAMP:20260425T172859
CREATED:20221206T085947Z
LAST-MODIFIED:20221206T085947Z
UID:5397-1671217200-1671217200@apfelarena.hr
SUMMARY:Dupla Doza
DESCRIPTION:U PETAK 16. prosinca od 19h dođite na stand up comedy večeri u novu kino dvoranu u Apfel Areni. Energični Slavonac Goran Vinčić i brutalno iskreni Bosanac Marko Dejanović izvode svoj jedinstveni show #DuplaDoza\, najopušteniji i “najluđi” stand up show u Hrvatskoj. \nDupla Doza\, stand up comedy show by Goran Vinčić i Marko Dejanović je za Hrvatsku jedinstveni show\, show pun spontanosti\, dinamike i improvizacija. Oba komičara svo vrijeme su na pozornici\, a nemaju pripremljeni “scenarij”\, nego puštaju da ih međusobni razgovor i razgovor s publikom vodi u tome što će pričati. To na kraju rezultira potpuno opuštenom atmosferom u kojoj je svaka izvedba jedinstvena. \nUPAD:\nPretprodaja: 70kn (9\,29 €)\nNa Dan: 80kn (10\,62 €)\nPRODAJA  𝗔𝗽𝗳𝗲𝗹 𝗔𝗿𝗲𝗻𝗮 – Put Volicije 5 // Radno vrijeme: Pon – Ned 08:00 – 22:00 (prodaja od srijede 30.11.)
URL:https://apfelarena.hr/dogadaj/dupla-doza/
LOCATION:Apfel Arena\, Put Volicije 5\, Makarska\, Hrvatska
CATEGORIES:Predstave
ATTACH;FMTTYPE=image/jpeg:https://apfelarena.hr/wp-content/uploads/2022/12/317330979_1568375686956303_181429943270398560_n.jpg
END:VEVENT
BEGIN:VEVENT
DTSTART;TZID=Europe/Zagreb:20221228T170000
DTEND;TZID=Europe/Zagreb:20221228T170000
DTSTAMP:20260425T172859
CREATED:20221221T071915Z
LAST-MODIFIED:20221221T071915Z
UID:5488-1672246800-1672246800@apfelarena.hr
SUMMARY:MAGIC SHOW ZA CIJELU OBITELJ
DESCRIPTION:Urnebesno smiješna\, dinamična\, zabavna i interaktivna mađioničarska predstava poznatog hrvatskog mađioničara Luke Vidovića koja je namijenjena zabavi cijele obitelji i svim generacijama! \nIzvedba predstave je potpuno interaktivna\, što znači da mađioničar iz publike izabere nekoliko sudionika da mu na pozornici\, uz puno humora\, pomažu pri izvođenju trikova. Svi oni koje Luka ne uspije pozvati na pozornicu ne ostanu razočarani\, jer cijela publika tijekom predstave direktno pomaže u izvođenju trikova. \nZabava je zagarantirana\, stoga se vidimo u Apfel Areni! \nUlaznice po cijeni od 50\,00 kn ( 6\,64 Eur) se prodaju na info pultu Apfel Arene.
URL:https://apfelarena.hr/dogadaj/magic-show-za-cijelu-obitelj/
LOCATION:Apfel Arena\, Put Volicije 5\, Makarska\, Hrvatska
CATEGORIES:Predstave
ATTACH;FMTTYPE=image/jpeg:https://apfelarena.hr/wp-content/uploads/2022/12/vidovic-lisinski-12042018.jpg
END:VEVENT
END:VCALENDAR