BEGIN:VCALENDAR
VERSION:2.0
PRODID:-//APFEL ARENA - ECPv5.16.3.1//NONSGML v1.0//EN
CALSCALE:GREGORIAN
METHOD:PUBLISH
X-ORIGINAL-URL:https://apfelarena.hr
X-WR-CALDESC:Events for APFEL ARENA
REFRESH-INTERVAL;VALUE=DURATION:PT1H
X-Robots-Tag:noindex
X-PUBLISHED-TTL:PT1H
BEGIN:VTIMEZONE
TZID:Europe/Zagreb
BEGIN:DAYLIGHT
TZOFFSETFROM:+0100
TZOFFSETTO:+0200
TZNAME:CEST
DTSTART:20230326T010000
END:DAYLIGHT
BEGIN:STANDARD
TZOFFSETFROM:+0200
TZOFFSETTO:+0100
TZNAME:CET
DTSTART:20231029T010000
END:STANDARD
END:VTIMEZONE
BEGIN:VEVENT
DTSTART;TZID=Europe/Zagreb:20230202T170000
DTEND;TZID=Europe/Zagreb:20230202T170000
DTSTAMP:20260425T123428
CREATED:20230130T090954Z
LAST-MODIFIED:20230130T090954Z
UID:5697-1675357200-1675357200@apfelarena.hr
SUMMARY:PUT OKO SVIJETA
DESCRIPTION:MAKARSKI ZIMSKI KARNEVAL 2023. \nLutkarski mjuzikl za djecu\nPUT OKO SVIJETA – Produkcija Z \n  \nULAZ BESPLATAN
URL:https://apfelarena.hr/dogadaj/put-oko-svijeta/
LOCATION:Apfel Arena\, Put Volicije 5\, Makarska\, Hrvatska
CATEGORIES:Predstave
ATTACH;FMTTYPE=image/jpeg:https://apfelarena.hr/wp-content/uploads/2023/01/web-tz.jpg
END:VEVENT
BEGIN:VEVENT
DTSTART;TZID=Europe/Zagreb:20230203T190000
DTEND;TZID=Europe/Zagreb:20230203T190000
DTSTAMP:20260425T123428
CREATED:20221202T123752Z
LAST-MODIFIED:20230120T081245Z
UID:5385-1675450800-1675450800@apfelarena.hr
SUMMARY:Tko je ovdje lud?
DESCRIPTION:Kazalište Planet Art nam donosi kombinaciju crne komedije\, drame i burleske koja nas\, uz mnogo zabave\, upoznaje s osjetljivim likovima iz stvarnog svijeta dok nam u isto vrijeme razotkriva svu njegovu krhkost. \nIščekujući skoru kataklizmu ili pak nešto čudesno\, nešto oslobađajuće\, nešto što će iz temelja sve promijeniti… naši smiješni\, zabavni\, često i dirljivi protagonisti traže utočište u klinici Eden\, a nas puštaju kući s pitanjem s koje strane ludila mi odabiremo biti. \nUlaznice se prodaju na info pultu Apfel Arene po cijeni od 10 Eur\, a izvrsni glumački tim Marko Torjanac i Natalija Đorđević garantiraju ludu zabavu.
URL:https://apfelarena.hr/dogadaj/tko-je-ovdje-lud/
LOCATION:Apfel Arena\, Put Volicije 5\, Makarska\, Hrvatska
CATEGORIES:Predstave
ATTACH;FMTTYPE=image/jpeg:https://apfelarena.hr/wp-content/uploads/2022/12/Tko-je-ovdje-lud_banner-B1.jpg
END:VEVENT
BEGIN:VEVENT
DTSTART;TZID=Europe/Zagreb:20230220T170000
DTEND;TZID=Europe/Zagreb:20230220T170000
DTSTAMP:20260425T123428
CREATED:20230213T133407Z
LAST-MODIFIED:20230215T141948Z
UID:5780-1676912400-1676912400@apfelarena.hr
SUMMARY:Kraljevna na zrnu graška
DESCRIPTION:DOB: 3+\nTRAJANJE: 50 minuta \n  \nKad su Vitomira i Ivica prije više od 30 godina započinjali rad na predstavi Pričalo i Malena\, željeli su samo jedno: napraviti predstavu kojom bi mogli započeti nešto samostalno. Iz te predstave rodila se Mala scena\, a s vremenom je Pričalo i Malena postala Kraljevna na zrnu graška. \nKraljevnu su Vitomira i Ivica odigrali tisuće puta diljem Hrvatske\, ali i svijeta te je ova predstava svakako zaslužila naziv kultne predstave. Ona ne samo da je stvorila  kazalište Mala Scena\, nego je odredila i njegovu sudbinu\, sudbinu svih maloscenaca\, kao ljudi i kao umjetnika. \nOva prekrasna priča\, puna veselih pjesama koje ostaju zauvijek u uhu\, zabavnih likova\, fantastičnih lutaka i čiste uživancije vratila se u novom ruhu  dragoj\, vjernoj publici i onoj koja će to tek postati!
URL:https://apfelarena.hr/dogadaj/kraljevna-na-zrnu-graska/
LOCATION:Apfel Arena\, Put Volicije 5\, Makarska\, Hrvatska
CATEGORIES:Predstave
ATTACH;FMTTYPE=image/jpeg:https://apfelarena.hr/wp-content/uploads/2023/02/kraljevna-na-zrnu-graska.jpg
END:VEVENT
BEGIN:VEVENT
DTSTART;TZID=Europe/Zagreb:20230226T193000
DTEND;TZID=Europe/Zagreb:20230226T193000
DTSTAMP:20260425T123428
CREATED:20230213T082948Z
LAST-MODIFIED:20230213T133025Z
UID:5219-1677439800-1677439800@apfelarena.hr
SUMMARY:Ričard - Oči Uoči Zgospod'non
DESCRIPTION:Radnja predstave govori o uzvišenom trenutku smrti\,  kada glavni lik svima dobro poznati Ričard dolazi kod sv. Petra na suočavanje sa Bogom raspravljajući o svojim životnim grijesima. \nOmiljeni zadarski glumac i performer Enio Meštrović autor je predstave u kojoj ujedno i igra lik svog već sada kultnog alter ega – Ričarda\,  a uz njega u predstavi nastupaju i glume Dragan Veselić i Davor Olić.” \nCijena ulaznice: 10\,00 € \n 
URL:https://apfelarena.hr/dogadaj/oci-uoci-zgospodnon/
LOCATION:Apfel Arena\, Put Volicije 5\, Makarska\, Hrvatska
CATEGORIES:Predstave
ATTACH;FMTTYPE=image/jpeg:https://apfelarena.hr/wp-content/uploads/2022/11/oci-u-oci-zgospodnon-predstava-1.jpg
END:VEVENT
END:VCALENDAR