BEGIN:VCALENDAR
VERSION:2.0
PRODID:-//APFEL ARENA - ECPv5.16.3.1//NONSGML v1.0//EN
CALSCALE:GREGORIAN
METHOD:PUBLISH
X-WR-CALNAME:APFEL ARENA
X-ORIGINAL-URL:https://apfelarena.hr
X-WR-CALDESC:Events for APFEL ARENA
REFRESH-INTERVAL;VALUE=DURATION:PT1H
X-Robots-Tag:noindex
X-PUBLISHED-TTL:PT1H
BEGIN:VTIMEZONE
TZID:Europe/Zagreb
BEGIN:DAYLIGHT
TZOFFSETFROM:+0100
TZOFFSETTO:+0200
TZNAME:CEST
DTSTART:20230326T010000
END:DAYLIGHT
BEGIN:STANDARD
TZOFFSETFROM:+0200
TZOFFSETTO:+0100
TZNAME:CET
DTSTART:20231029T010000
END:STANDARD
END:VTIMEZONE
BEGIN:VEVENT
DTSTART;TZID=Europe/Zagreb:20231006T200000
DTEND;TZID=Europe/Zagreb:20231006T200000
DTSTAMP:20260423T181031
CREATED:20230914T083619Z
LAST-MODIFIED:20230914T133742Z
UID:8498-1696622400-1696622400@apfelarena.hr
SUMMARY:STAND UP COMEDY SHOW  - VLATKO ŠTAMPAR - ZABEZEKNUT
DESCRIPTION:Vlatko Štampar je jedan od najboljih hrvatskih stand up komičara koji uvijek rasprodaje dvorane danima prije nastupa . \nSTAND UP COMEDY SHOW – ZABEZEKNUT \nDragi ljudi kao što vidite\, stvari se generalno raspadaju. \nLaganja\, muljanja\, ubojstva\, krađe i varanja\, plus zabrane\, strah i novo normalno. Sve znate. \nAli treba gledati stvari sa svjetlije strane. Treba ne razmišljati o tome. \nKako? Jednostavno. Zabezekneš nekog nečim dobrim. \nVlatko \nTKO JE VLATKO ŠTAMPAR? \nZa one koji ga nisu “probali”\, Vlatko će ostati nikad pronađeno utjelovljenje svih onih suludih misli koje svatko od nas pomišlja u onom dijelu uma koji s razlogom ignoriramo. Za one koji su ga doživjeli\, Vlatko je bio i ostaje ventil\, pipa\, sasvim suludih asocijacija koje u kombinaciji s njegovom nezamjenjivom manirom neizbježno mame smijeh i čine ga jednim od ponajboljih komičara “na ovim prostorima”. Osim u Mađarskoj. \nCIJENA ULAZNICE: U PRETPRODAJI 10\,00 EURA NA DAN 12\,00 EURA \nPRODAJA ULAZNICA : \n➡ 𝗔𝗽𝗳𝗲𝗹 𝗔𝗿𝗲𝗻𝗮 – Put Volicije 5 // \nRadno vrijeme: Pon – Ned 08:00 – 22:00
URL:https://apfelarena.hr/dogadaj/stand-up-comedy-show-vlatko-stampar-zabezeknut/
LOCATION:Apfel Arena\, Put Volicije 5\, Makarska\, Hrvatska
CATEGORIES:Predstave
ATTACH;FMTTYPE=image/jpeg:https://apfelarena.hr/wp-content/uploads/2023/09/zabezeknut.jpg
END:VEVENT
BEGIN:VEVENT
DTSTART;VALUE=DATE:20231016
DTEND;VALUE=DATE:20231030
DTSTAMP:20260423T181031
CREATED:20231015T130557Z
LAST-MODIFIED:20231016T141750Z
UID:8670-1697414400-1698623999@apfelarena.hr
SUMMARY:Proslava godišnjice Apfel Arene
DESCRIPTION:16.10.-21.10.\nJudo kamp\nHrvatski judo savez\nDalmacija News\nELITA U MAKARSKOJ Petodnevni judo kamp u Apfel Areni okuplja imena iz svjetskog vrha – Makarska Danas (makarska-danas.com)\n  \n20.10. PARTY\nOd jutra u 9 sati\, započinjemo s besplatnim napuhancem i sportskim poligonom te mini natjecanjima s darovima. Od 15 sati\, naše tete animatorice oslikavat će lica mališana sve do 16:30 kad će pravi klaunovsko-magični show izvesti čarobnjak Klaun Spartanko \nNaravno\, nećemo otkriti sve detalje\, stoga vas pozivamo da nam se pridružite i zajedno proslavimo ovu nevjerojatnu godinu!\n\n26.10. u 20h\nSvjetski dan audiovizualne baštine: Besplatna kino projekcija filma “Servantes u Malom Mistu”\nKino Mediteran\n  \n27.10. u 20h\nEcija Ojdanić/ Kazalište Moruzgva\n“VLA VLA VLAJLAND.”Ulaznice u pretprodaji na info pultu po cijeni od 10 eura\, a na dan izvedbe 12 eura.\n  \n28./29.10.\nAPFEL ARENA MAKARSKA HALF MARATHON:\n28.10. – Subota: Dječje utrke i 5 km\n29.10. – Nedjelja: Polumaraton (21 km) i štafeta\n \nSpremite se za tjedan pun raznolikih događanja\, iznenađenja i sportskih izazova. Vidimo se u Apfel Areni\, gdje ćemo zajedno proslaviti našu prvu godinu!
URL:https://apfelarena.hr/dogadaj/proslava-godisnjice-apfel-arene/
LOCATION:Apfel Arena\, Put Volicije 5\, Makarska\, Hrvatska
CATEGORIES:Igre,Kino predstave,Koncerti,Predstave
ATTACH;FMTTYPE=image/jpeg:https://apfelarena.hr/wp-content/uploads/2023/10/1-rodjendan.jpg
END:VEVENT
BEGIN:VEVENT
DTSTART;TZID=Europe/Zagreb:20231020T090000
DTEND;TZID=Europe/Zagreb:20231020T090000
DTSTAMP:20260423T181031
CREATED:20231016T131317Z
LAST-MODIFIED:20231016T131317Z
UID:8691-1697792400-1697792400@apfelarena.hr
SUMMARY:Party
DESCRIPTION:Od jutra u 9 sati\, započinjemo s besplatnim napuhancem i sportskim poligonom te mini natjecanjima s darovima. Od 15 sati\, naše tete animatorice oslikavat će lica mališana sve do 16:30 kad će pravi klaunovsko-magični show izvesti čarobnjak Klaun Spartanko \nNaravno\, nećemo otkriti sve detalje\, stoga vas pozivamo da nam se pridružite i zajedno proslavimo ovu nevjerojatnu godinu!
URL:https://apfelarena.hr/dogadaj/party/
LOCATION:Apfel Arena\, Put Volicije 5\, Makarska\, Hrvatska
CATEGORIES:Predstave
ATTACH;FMTTYPE=image/jpeg:https://apfelarena.hr/wp-content/uploads/2023/10/3-kids.jpg
END:VEVENT
BEGIN:VEVENT
DTSTART;TZID=Europe/Zagreb:20231027T190000
DTEND;TZID=Europe/Zagreb:20231027T190000
DTSTAMP:20260423T181031
CREATED:20230914T133655Z
LAST-MODIFIED:20231016T131738Z
UID:8504-1698433200-1698433200@apfelarena.hr
SUMMARY:Vla Vla Vlajland cabaret
DESCRIPTION:Autorski tim:\npisac i redatelj: Ivan Leo Lemo\nkoreograf: Leo Mujić\nskladatelj: Zvonimir Dusper Dus\nscenograf: Kristijan Popović\nkostimografkinja: Martina Ptičar\nviolinist: Bruno Urlić\nfotografkinja za plakat i programsku: Jelena Balić\nfotografkinja fotografija iz predstave: Vladimira Spindler\ngrafički oblikovatelj: Damjan Uzelac\nigra: \nVlajna: Ecija Ojdanić \nTrajanje: 75 minuta \n \nRiječ redatelja:\nNakon Cabareta Splićanke\, Cabareta „Preko veze“\, SF Cabareta Split in Space\, ovo je moj četvrti cabaret\, zapravo kolažna forma u kojoj žanrovski kombiniram story telling\, stand up\, burlesque i mnoge tipično cabaretske postupke kao što su liberalnost\, fragmentarnost\, apartnost\, satiričnost\, provokativnost u izboru tema itd. Ono što me zapravo zanimalo u svim tim cabaretima jest dovesti ženske persone u njihovim životnim sunovratima do ruba\, do živčanog sloma\, do dna\, do radikalizirane današnjice koja u njima istiskuje ljudskost i testira izdržljivost\, ali i daje svetu priliku za suštinske i sudbinske spoznaje. Nek nam koplja dobrih namjera pogode alku vašeg srca u sridu! \nHvala vam\, draga publiko\, što u ovim vremenima socijalne distance svojim dolaskom na našu predstavu podržavate jedno nezavisno kazalište\, ali i Kazalište kao takvo.\nIvan Leo Lemo \nNagrade i priznanja: \n\nSpecijalna nagrada za ulogu Vlajne u predstavi Vla Vla Vlajland cabaret autora i redatelja Ivana Lea Lema na 29. međunarodnom pozorišnom festivalu „Dani Zorana Radmilovića“ u Zaječaru\n Nagrada za najbolju žensku ulogu Eciji Ojdanić za ulogu Vlajne u predstavi Vla Vla Vlajland cabaret na XIII. Gumbekovim danima\nNagrada za najbolju režiju Ivanu Leu Lemi za predstavu Vla Vla Vlajland cabaret na četvrtom izdanju Prishtina International Theater Festivala\n Nagrada za najboljeg glumca Eciji Ojdanić za predstavu Vla Vla Vlajland cabaret na četvrtom izdanju Prishtina International Theater Festivala\n\n„Narodnu feministicu i zdravorazumsku heroinu\, maestralno je utjelovila glumica Ecija Ojdanić.“\n– Svijet kulture \n„Na ovom katarzičnom putovanju kroz simpatičan lik Vlajne čistačice na humorističan\, ali i na poučan način prikazana je sudbina mnogih građana naše zemlje koje je želja za boljim životom odvela u\, već svima dobro nam poznatu\, Njemačku. Predstava prati raznorazne smiješne situacije s kojima se morala suočiti heroina Vlajna\, kao što su kulturološki nesporazumi te atipične spoznaje i zavrzlame.“\n– Novi List \n„Ivan Leo Lemo i Ecija Ojdanić napravili su zajedno više predstava tečajem više desetljeća\, a ova je gotovo najbolja\, prije svega zato što je nepretenciozna\, na prvi pogled banalna\, a na drugi inteligentno urnebesna.“\n– Tomislav Čadež \nCIJENA ULAZNICE: U PRETPRODAJI 10\,00 EURA NA DAN 12\,00 EURA \nPRODAJA ULAZNICA : \n➡ 𝗔𝗽𝗳𝗲𝗹 𝗔𝗿𝗲𝗻𝗮 – Put Volicije 5 // \nRadno vrijeme: Pon – Ned 08:00 – 22:00
URL:https://apfelarena.hr/dogadaj/vla-vla-vlajland-cabaret/
LOCATION:Apfel Arena\, Put Volicije 5\, Makarska\, Hrvatska
CATEGORIES:Predstave
ATTACH;FMTTYPE=image/jpeg:https://apfelarena.hr/wp-content/uploads/2023/10/4-kazaliste.jpg
END:VEVENT
END:VCALENDAR