BEGIN:VCALENDAR
VERSION:2.0
PRODID:-//APFEL ARENA - ECPv5.16.3.1//NONSGML v1.0//EN
CALSCALE:GREGORIAN
METHOD:PUBLISH
X-WR-CALNAME:APFEL ARENA
X-ORIGINAL-URL:https://apfelarena.hr
X-WR-CALDESC:Events for APFEL ARENA
REFRESH-INTERVAL;VALUE=DURATION:PT1H
X-Robots-Tag:noindex
X-PUBLISHED-TTL:PT1H
BEGIN:VTIMEZONE
TZID:Europe/Zagreb
BEGIN:DAYLIGHT
TZOFFSETFROM:+0100
TZOFFSETTO:+0200
TZNAME:CEST
DTSTART:20240331T010000
END:DAYLIGHT
BEGIN:STANDARD
TZOFFSETFROM:+0200
TZOFFSETTO:+0100
TZNAME:CET
DTSTART:20241027T010000
END:STANDARD
END:VTIMEZONE
BEGIN:VEVENT
DTSTART;TZID=Europe/Zagreb:20240216T200000
DTEND;TZID=Europe/Zagreb:20240216T200000
DTSTAMP:20260423T054448
CREATED:20240124T140946Z
LAST-MODIFIED:20240205T091941Z
UID:9344-1708113600-1708113600@apfelarena.hr
SUMMARY:Stand up Splicka Scena
DESCRIPTION:𝗦𝗽𝗹𝗶𝗰𝗸𝗮𝗦𝗰𝗲𝗻𝗮 se vraća u Makarsku s potpuno novim showom i to 𝗔𝗽𝗳𝗲𝗹 𝗔𝗿𝗲𝗻𝘂 kako bi izveli zimsko izdanje novih baza i tekst koji makarska publika još nije imala prilike čuti. Vidimo se u 𝗽𝗲𝘁𝗮𝗸 𝟭𝟲. 𝘃𝗲𝗹𝗷𝗮𝗰̌𝗲 kada “𝗡𝗼𝘃𝗲 𝗯𝗮𝘇𝗲 𝗭𝗜𝗠𝗔” izvode 𝗧𝗼𝗺𝗶𝘀𝗹𝗮𝘃 𝗣𝗿𝗶𝗺𝗼𝗿𝗮𝗰\, 𝗜𝘃𝗶𝗰𝗮 𝗟𝗮𝘇𝗮𝗻𝗲𝗼\, 𝗔𝗻𝘁𝗲 𝗧𝗿𝗮𝘃𝗶𝘇𝗶 i 𝗝𝗼𝘀𝗶𝗽 𝗦̌𝗸𝗶𝗹𝗷𝗼!\n———————————————\n𝗖𝗶𝗷𝗲𝗻𝗮 𝘂𝗹𝗮𝘇𝗻𝗶𝗰𝗲: 𝟏𝟎€\n𝗙𝗜𝗭𝗜𝗖𝗞𝗔 𝗣𝗥𝗢𝗗𝗔𝗝𝗔:\n– 𝗔𝗽𝗳𝗲𝗹 𝗔𝗿𝗲𝗻𝗮 – Put Volicije 5 // Radno vrijeme: Pon – Ned 08:00 – 22:00\n– Na dan showa na ulazu (ako ostane mjesta)\n——————————————-\n𝗧𝗸𝗼 𝗷𝗲/𝘀̌𝘁𝗼 𝗷𝗲 𝗦𝗽𝗹𝗶𝗰𝗸𝗮𝗦𝗰𝗲𝗻𝗮?\nPogledaj “Stand-up po splicki” na YouTubeu i saznaj! \n-> https://youtu.be/xBf21ZR0BzI\n\n𝗩𝗜𝗦𝗘 𝗢 𝗞𝗢𝗠𝗜Č𝗔𝗥𝗜𝗠𝗔:\n𝗜𝘃𝗶𝗰𝗮 𝗟𝗮𝘇𝗮𝗻𝗲𝗼 -> https://youtu.be/xBf21ZR0BzI?t=1684\nIvica Lazaneo je trenutno najbolji brački komičar. Trenutno je i jedini brački komičar. Uz hrvatski jezik fluentan je i u engleskom i bračkom. Nikor ga nebi kapi njanci bokun da parlo po bročki\, tako da nastupa na hrvatskom. Ima dva metra i ne\, ne igra košarku. Kao dijete je upao u bačvu sa čarobnim napitkom zbog čega sada ima problema sa alkoholom. Svjestan je činjenice da ima blesavo ime\, ali ne mrzi ga. Mrzi svoje roditelje jer su mu ga oni dali. Standupom se bavi samo zbog jedne stvari: novca\, žena i slave. Smatra da će sve ostali doći samo od sebe. Prodajem maslinovo ulje.\n\n𝗝𝗼𝘀𝗶𝗽 𝗦𝗸𝗶𝗹𝗷𝗼 -> https://youtu.be/xBf21ZR0BzI?t=12\nJosip Škiljo je četrdesetogodišnji “mladić” te član posljednje generacije Titovih pionira. Tita se to baš i nije dojmilo\, jer je bio mrtav. Nakon završenog filozofskog fakulteta i uzalud stečene titule profesora hrvatskog i engleskog jezika\, radi na raznim poslovima van struke. 2015. godine nakon stand up radionice i open mic-a polako skuplja nastupe i iskustvo u zagrebačkom Studiju smijeha\, a godinu dana kasnije postaje rezident komičar. Ima iznimnu sposobnost preživljavanja\, jer toliko je toga izvalio i ostao živ. Kako je kronično neispavan\, često zaspe za stolom ili za šankom u sred razgovora. Ljubitelj je adrenalina\, pa zato vozi biciklu po Splitskim ulicama. Životni cilj mu nije ostvariti američki\, već dalmatinski san – ne radit ništa!\n\n𝗧𝗼𝗺𝗶𝘀𝗹𝗮𝘃 𝗣𝗿𝗶𝗺𝗼𝗿𝗮𝗰 -> https://youtu.be/xBf21ZR0BzI?t=4046\nTomislav Primorac je mitološko biće kojega se svi purgeri boje – poludalmatinac\, poluhercegovac. Diplomirani je fizičar\, ali se na razočarenje svojih roditelja bavi stand up komedijom. Životni san mu je da zbog svojih doprinosa čovječanstvu u povijesti ostane zapamćen poput Nikole Tesle\, ne toliko iz filantropskih pobuda\, nego čisto zato da bi se Dalmatinci i Hercegovci svađali čiji je.\nPoprilično je skeptičan. Najmanje vjeruje ljudima koji ga pokušavaju uvjerit s argumentom “viruj ti meni”.\n\n𝐀𝐧𝐭𝐞 𝐓𝐫𝐚𝐯𝐢𝐳𝐢 -> https://youtu.be/xBf21ZR0BzI?t=3254\nAnte Travizi je 20 i jedanaestogodišnjak rodom iz Splita. Na prvu možda simpatičan i zabavan\, no nakon par tjedana ljudi shvate da je dosadni manijak. Pije espresso i kratkih je živaca. Ima “blagi” poremećaj pažnje. Njegova majka tvrdi da je bio planiran tokon rata. On nije naivan. Trenutno pokušava završiti faks\, a ne ide mu jer mu je život van faksa postao zabavan. Možda izgubi i pravo školovanja zbog stand upa. Hrana mu je najdraža tema razgovora. Ako dođe do svjetskog rata\, preći će na stranu koja će imati kebab jer kebab sadrži kruh\, meso i umake što su zapravo esencije života.
URL:https://apfelarena.hr/dogadaj/stand-up-splicka-scena/
LOCATION:Apfel Arena\, Put Volicije 5\, Makarska\, Hrvatska
CATEGORIES:Predstave
ATTACH;FMTTYPE=image/jpeg:https://apfelarena.hr/wp-content/uploads/2024/01/splicka-scena-u-makarskoj-zima.jpg
END:VEVENT
BEGIN:VEVENT
DTSTART;TZID=Europe/Zagreb:20240223T190000
DTEND;TZID=Europe/Zagreb:20240223T190000
DTSTAMP:20260423T054448
CREATED:20240222T151245Z
LAST-MODIFIED:20240222T151245Z
UID:9686-1708714800-1708714800@apfelarena.hr
SUMMARY:AUT
DESCRIPTION:Svatko od nas je drukčiji i svaki mozak je drukčiji. Netko je dobar u matematici\, netko u košarci\, a netko zna sve filmove\, glumce i kazališne predstave kao Matej. Matej je osoba s poremećajem iz spektra autizma i glumac u predstavi „Aut“. \nOsim na Matejevoj stvarnoj priči\, predstava se motivski naslanja na roman „Neobičan događaj sa psom u noći“. Matejev lik tako sudjeluje u istrazi ubojstva psa u susjedstvu\, te završava u policijskoj postaji. Uz pomoć dobrohotnog policajca i susjede Ines\, Matej napokon uspostavlja zdraviji odnos sa svojim tatom. \nPredstava „Aut“ nam\, koristeći napeti narativ istrage ubojstva psa\, približava važnost razumijevanja drugih i drugačijih kroz iskustvo našeg junaka. Otvorenost\, edukacija i kritičko razmišljanje nužni su kako bismo se znali ponašati u interakciji s osobom s autizmom i shvatili svu ljepotu „drukčijosti“ i „drugačijosti“ svakog od nas. \nU predstavi “Aut” igraju magistri glume Iva Šimić Šakoronja i Luka Bulović\, a naš glavni junak Matej Španović prvi put (nadamo se ne i zadnji) izlazi na kazališne daske. Uz vašu podršku i razumijevanje Matej će vam\, uz pomoć Ive i Luke\, pokazati i dokazati kako su s autizmom moguće nevjerojatne stvari. \nAko stavite Nintendo igricu u PlayStation\, on ju neće očitati\, ali to ne znači da je pokvaren\, zar ne?
URL:https://apfelarena.hr/dogadaj/aut/
LOCATION:Apfel Arena\, Put Volicije 5\, Makarska\, Hrvatska
CATEGORIES:Predstave
ATTACH;FMTTYPE=image/jpeg:https://apfelarena.hr/wp-content/uploads/2024/02/FB-objava_AUT.jpg
END:VEVENT
END:VCALENDAR