BEGIN:VCALENDAR
VERSION:2.0
PRODID:-//APFEL ARENA - ECPv5.16.3.1//NONSGML v1.0//EN
CALSCALE:GREGORIAN
METHOD:PUBLISH
X-WR-CALNAME:APFEL ARENA
X-ORIGINAL-URL:https://apfelarena.hr
X-WR-CALDESC:Events for APFEL ARENA
REFRESH-INTERVAL;VALUE=DURATION:PT1H
X-Robots-Tag:noindex
X-PUBLISHED-TTL:PT1H
BEGIN:VTIMEZONE
TZID:Europe/Zagreb
BEGIN:DAYLIGHT
TZOFFSETFROM:+0100
TZOFFSETTO:+0200
TZNAME:CEST
DTSTART:20240331T010000
END:DAYLIGHT
BEGIN:STANDARD
TZOFFSETFROM:+0200
TZOFFSETTO:+0100
TZNAME:CET
DTSTART:20241027T010000
END:STANDARD
END:VTIMEZONE
BEGIN:VEVENT
DTSTART;TZID=Europe/Zagreb:20240409T200000
DTEND;TZID=Europe/Zagreb:20240409T200000
DTSTAMP:20260423T022546
CREATED:20240326T125010Z
LAST-MODIFIED:20240415T081706Z
UID:9905-1712692800-1712692800@apfelarena.hr
SUMMARY:Zlatousti: "Zašto baš sad?"
DESCRIPTION:Zašto baš sad? je najnovija komedija Zlatoustih. \nNadahnuće za ovu predstavu autor teksta I režiser Davor Šegota je našao u kratkoj priči Woody Allena “Death knocks”. \nDodajući likove I proširujući radnju\, Šegota je uspješno povezao vječne teme života\, smrti te našeg odnosa prema konačnom odlasku\, \nsa svakodnevicom I općepoznatim životnim situacijama. \nLikovi ove komedije\, svaki sa svojom agendom I perspektivom\, nastoje događanja usmjeriti u svom sebičnom smjeru. \nKroz niz komičnih situacija I dijaloga\, u malo više od sat vremena\, provest će vas troje glumaca: \nJadranka Tokić Rašić\, Lovrenco Laušić i Marin Borić. \nScenografiju I kostime je osmislila Maja Divić\, autorica plakata je slikarica Sanja Srzić\, a tehničari su Mladen Utrobičić I Duje Pajić. \nUlaznice su dostupne na Info Pultu Apfel Arene po cijeni od 8€.
URL:https://apfelarena.hr/dogadaj/zlatousti-zasto-bas-sad/
LOCATION:Apfel Arena\, Put Volicije 5\, Makarska\, Hrvatska
CATEGORIES:Predstave
ATTACH;FMTTYPE=image/jpeg:https://apfelarena.hr/wp-content/uploads/2024/03/A-zasto-bas-sad.jpg
END:VEVENT
BEGIN:VEVENT
DTSTART;TZID=Europe/Zagreb:20240410T200000
DTEND;TZID=Europe/Zagreb:20240410T200000
DTSTAMP:20260423T022546
CREATED:20240326T125230Z
LAST-MODIFIED:20240415T081704Z
UID:9911-1712779200-1712779200@apfelarena.hr
SUMMARY:Zlatousti: "Zašto baš sad?"
DESCRIPTION:Zašto baš sad? je najnovija komedija Zlatoustih. \nNadahnuće za ovu predstavu autor teksta I režiser Davor Šegota je našao u kratkoj priči Woody Allena “Death knocks”. \nDodajući likove I proširujući radnju\, Šegota je uspješno povezao vječne teme života\, smrti te našeg odnosa prema konačnom odlasku\, \nsa svakodnevicom I općepoznatim životnim situacijama. \nLikovi ove komedije\, svaki sa svojom agendom I perspektivom\, nastoje događanja usmjeriti u svom sebičnom smjeru. \nKroz niz komičnih situacija I dijaloga\, u malo više od sat vremena\, provest će vas troje glumaca: \nJadranka Tokić Rašić\, Lovrenco Laušić i Marin Borić. \nScenografiju I kostime je osmislila Maja Divić\, autorica plakata je slikarica Sanja Srzić\, a tehničari su Mladen Utrobičić I Duje Pajić. \nUlaznice su dostupne na Info Pultu Apfel Arene po cijeni od 8€.
URL:https://apfelarena.hr/dogadaj/zlatousti-zasto-bas-sad-2/
LOCATION:Apfel Arena\, Put Volicije 5\, Makarska\, Hrvatska
CATEGORIES:Predstave
ATTACH;FMTTYPE=image/jpeg:https://apfelarena.hr/wp-content/uploads/2024/03/A-zasto-bas-sad.jpg
END:VEVENT
BEGIN:VEVENT
DTSTART;TZID=Europe/Zagreb:20240416T200000
DTEND;TZID=Europe/Zagreb:20240416T200000
DTSTAMP:20260423T022546
CREATED:20240411T080638Z
LAST-MODIFIED:20240415T081701Z
UID:10021-1713297600-1713297600@apfelarena.hr
SUMMARY:Zlatousti: "Zašto baš sad?"
DESCRIPTION:Zašto baš sad? je najnovija komedija Zlatoustih. \nNadahnuće za ovu predstavu autor teksta I režiser Davor Šegota je našao u kratkoj priči Woody Allena “Death knocks”. \nDodajući likove I proširujući radnju\, Šegota je uspješno povezao vječne teme života\, smrti te našeg odnosa prema konačnom odlasku\, \nsa svakodnevicom I općepoznatim životnim situacijama. \nLikovi ove komedije\, svaki sa svojom agendom I perspektivom\, nastoje događanja usmjeriti u svom sebičnom smjeru. \nKroz niz komičnih situacija I dijaloga\, u malo više od sat vremena\, provest će vas troje glumaca: \nJadranka Tokić Rašić\, Lovrenco Laušić i Marin Borić. \nScenografiju I kostime je osmislila Maja Divić\, autorica plakata je slikarica Sanja Srzić\, a tehničari su Mladen Utrobičić I Duje Pajić. \nUlaznice su dostupne na Info Pultu Apfel Arene po cijeni od 8€.
URL:https://apfelarena.hr/dogadaj/zlatousti-zasto-bas-sad-3/
LOCATION:Apfel Arena\, Put Volicije 5\, Makarska\, Hrvatska
CATEGORIES:Predstave
ATTACH;FMTTYPE=image/jpeg:https://apfelarena.hr/wp-content/uploads/2024/03/A-zasto-bas-sad.jpg
END:VEVENT
BEGIN:VEVENT
DTSTART;TZID=Europe/Zagreb:20240421T200000
DTEND;TZID=Europe/Zagreb:20240421T200000
DTSTAMP:20260423T022546
CREATED:20240326T130439Z
LAST-MODIFIED:20240408T070438Z
UID:9925-1713729600-1713729600@apfelarena.hr
SUMMARY:SplickaScena
DESCRIPTION:Dobro poznata ekipa vraća se u Makarsku. Komičari SplickeScene nastupit će u Makarskoj s Novim bazama\, ne propustite ovu priliku da vas još jednom nasmiju do suza! \nCijena ulaznice: 10€ online / 11€ u Tisak Media\nOnline: https://core-event.co/events/makarska-nove-baze-splicke-scene-prolice-stand-up-comedy-show-ff0b/\nFizička prodaja: 𝐓𝐈𝐒𝐀𝐊𝐦𝐞𝐝𝐢𝐚 𝐌𝐚𝐤𝐚𝐫𝐬𝐤𝐚 (𝐎𝐛𝐚𝐥𝐚 𝐤𝐫𝐚𝐥𝐣𝐚 𝐓𝐨𝐦𝐢𝐬𝐥𝐚𝐯𝐚 𝟑\, 𝐏𝐎𝐍-𝐒𝐔𝐁 𝟎𝟖-𝟐𝟎𝐡)
URL:https://apfelarena.hr/dogadaj/splickascena/
LOCATION:Apfel Arena\, Put Volicije 5\, Makarska\, Hrvatska
CATEGORIES:Predstave
ATTACH;FMTTYPE=image/jpeg:https://apfelarena.hr/wp-content/uploads/2024/03/hu53a8c9ad01885d460b95dd4ffe21f847_1161070_4514410881eeff2466f19f49348ee2bd.jpg
END:VEVENT
BEGIN:VEVENT
DTSTART;TZID=Europe/Zagreb:20240429T170000
DTEND;TZID=Europe/Zagreb:20240429T170000
DTSTAMP:20260423T022546
CREATED:20240326T130732Z
LAST-MODIFIED:20240408T134106Z
UID:9932-1714410000-1714410000@apfelarena.hr
SUMMARY:Boom Teatar: "Ne može"\, Vojko V.
DESCRIPTION:Predstava “Ne može” kazališta Boom! teatar govori o bontonu\, na suvremen i empatičan način pokazuje djeci prepoznatljive situacije koje izvrče naglavačke kako bi pokazala da nisu sve odluke jednostavne ni jednostrane.\n \nNe može je predstava u kojoj troje mladih repera – Splićani Roko i Paško te Zagrepčanka Katarina – na školskom igralištu\, svojim ritmom i vlastitim rimama uče abecedu međuljudskih odnosa; o tome što se može\, a što ne može. Odnosno smije i ne smije. Dobro\, to je ista stvar. Uglavnom. Ili? Ma je\, valjda je. Ne\, ne – nije. \nUlaznice su dostupne na Info Pultu Apfel Arene po cijeni od 6€.
URL:https://apfelarena.hr/dogadaj/boom-teatar-ne-moze-vojko-v/
LOCATION:Apfel Arena\, Put Volicije 5\, Makarska\, Hrvatska
CATEGORIES:Predstave
ATTACH;FMTTYPE=image/jpeg:https://apfelarena.hr/wp-content/uploads/2024/03/Vojko.V.jpg
END:VEVENT
END:VCALENDAR