BEGIN:VCALENDAR
VERSION:2.0
PRODID:-//APFEL ARENA - ECPv5.16.3.1//NONSGML v1.0//EN
CALSCALE:GREGORIAN
METHOD:PUBLISH
X-WR-CALNAME:APFEL ARENA
X-ORIGINAL-URL:https://apfelarena.hr
X-WR-CALDESC:Events for APFEL ARENA
REFRESH-INTERVAL;VALUE=DURATION:PT1H
X-Robots-Tag:noindex
X-PUBLISHED-TTL:PT1H
BEGIN:VTIMEZONE
TZID:Europe/Zagreb
BEGIN:DAYLIGHT
TZOFFSETFROM:+0100
TZOFFSETTO:+0200
TZNAME:CEST
DTSTART:20240331T010000
END:DAYLIGHT
BEGIN:STANDARD
TZOFFSETFROM:+0200
TZOFFSETTO:+0100
TZNAME:CET
DTSTART:20241027T010000
END:STANDARD
END:VTIMEZONE
BEGIN:VEVENT
DTSTART;TZID=Europe/Zagreb:20240503T200000
DTEND;TZID=Europe/Zagreb:20240503T200000
DTSTAMP:20260423T035921
CREATED:20240328T134208Z
LAST-MODIFIED:20240424T072738Z
UID:9934-1714766400-1714766400@apfelarena.hr
SUMMARY:Enis Bešlagić: Da sam ja neko
DESCRIPTION:Ulaznice dostupne samo na Eventim.hr \nRed A 60 €\nRedovi B – G 50 €\nRedovi H – J 40 €\nRedovi K – N 30 € \nNakon rasprodane hrvatske premijere u Lisinskom i vaših mnogobrojnih upita\, družimo se i u Makarskoj\, 3.5.2024. \nDA SAM JA NEKO je samo jedan put i jedan odabir onoga što ja jesam danas. Ono što me vodi i da podijelim svoju priču sa svima vama koji gledate srcem. Na svoj vam način govorim ono što ne vidite iza zavjese medijske scene… \nOvo je jedno lijepo druženje uz mnogo raznih i iskrenih emocija\, koje ćemo osjetiti zajedno. Svatko od nas ima svoje mjesto i posebnost koju trebamo oživjeti u prepoznavanju faktora X u nama. \nPreporučuje se za sve generacije i uzraste\, osim za djecu do tri godine.
URL:https://apfelarena.hr/dogadaj/enis-beslagic-da-sam-ja-neko/
LOCATION:Apfel Arena\, Put Volicije 5\, Makarska\, Hrvatska
CATEGORIES:Predstave
ATTACH;FMTTYPE=image/jpeg:https://apfelarena.hr/wp-content/uploads/2024/03/Da-sam-ja-neko.jpg
END:VEVENT
BEGIN:VEVENT
DTSTART;TZID=Europe/Zagreb:20240506T180000
DTEND;TZID=Europe/Zagreb:20240506T180000
DTSTAMP:20260423T035921
CREATED:20240422T134347Z
LAST-MODIFIED:20240422T134347Z
UID:10059-1715018400-1715018400@apfelarena.hr
SUMMARY:Mali Teatar "Što ću biti kad odrastem"
DESCRIPTION:IGRAJU: Mario Jakšić\, Bruno Kontrec \nTRAJANJE: 43min \nUZRAST: 9 – 14 godina \nU ovoj predstavi za djecu i mlade dvojica glumaca kroz niz kazališnih etida i vlastitu zaigranost istražuju glumačke\, tjelesne\, vokalne\, glazbene\, karikaturalne i ostale mogućnosti prikazivanja i suživljavanja sa životnim pozivima odnosno zanimanjima iliti poslovima.\nU svom istraživanju kazališnog jezika koji bi najbolje opisao raznovrsne aspekte ljudske djelatnosti\, glumci prolaze kroz mnoge stilove dramsko-scenske igre – pantomima\, klaunerija\, glazbene i perkusionističke točke\, monolog\, slapstick komedija\, lutkarstvo\, sinkronizacije itd.
URL:https://apfelarena.hr/dogadaj/mali-teatar-sto-cu-biti-kad-odrastem/
LOCATION:Apfel Arena\, Put Volicije 5\, Makarska\, Hrvatska
CATEGORIES:Predstave
ATTACH;FMTTYPE=image/jpeg:https://apfelarena.hr/wp-content/uploads/2024/04/Plakat-Sto-cu-biti-kad-odrastem.jpg
END:VEVENT
BEGIN:VEVENT
DTSTART;TZID=Europe/Zagreb:20240522T200000
DTEND;TZID=Europe/Zagreb:20240522T200000
DTSTAMP:20260423T035921
CREATED:20240513T082308Z
LAST-MODIFIED:20240520T104703Z
UID:10181-1716408000-1716408000@apfelarena.hr
SUMMARY:CVIT SAMOĆE\, koncertna predstava
DESCRIPTION:Grad Makarska u Apfel Areni organizira predstavu “Cvit samoće”. \nKoncertna predstava Cvit samoće jednosatna je glazbeno-poetična je priča o zaljubljivanju čovjeka u samog sebe. Glazba\, poezija i sama izvedba\, autorice FreeDA Nere Immortelle/N.Stipičević u savršeno dizajniranoj galerijsko-kiparskoj režiji Mie Melcher\, odvest će Vas na Vaše intimističko putovanje na kojem\, ako i dođete bez pratnje\, zasigurno nećete biti sami. \n“Koncertni dnevnik”\, “Mediteranska ayahuasca seansa”\, “Dalmatinski Amarcord”\, “Hipnotički predivni kaos svega onog što žena jest”\, samo su neke od destinacija koje su posjetili naši dosadašnji prijatelji umjetnosti i istine. \nDođite i recite nam kamo ste Vi otputovali s nama?\nKako ste Vi\, uz nas\, čuli Sebe? \nAutorica Glazbe/Poezije: Freeda Nera Immortelle \nRedateljica/Dramaturginja: Mia Melcher \nKo-autor Glazbe: Vadim Erudaçi \nIzvođači: Freeda Nera Immortelle\, glumica/pjevačica\, Vadim Erudaçi\, gitara/bas \, Tomislav Parmać\, klavir\, Borna Šercar\, udaraljke\, Matej Milošev\, čelo \nProdukcija: Umjetnička organizacija SOBA2/Nera Stipičević i TeatruM/Petar Cvirn \nUlaznice su za sve posjetitelje besplatne i dostupne na Info pultu Apfel Arene
URL:https://apfelarena.hr/dogadaj/cvit-samoce-koncertna-predstava/
LOCATION:Apfel Arena\, Put Volicije 5\, Makarska\, Hrvatska
CATEGORIES:Istaknuto,Predstave
ATTACH;FMTTYPE=image/jpeg:https://apfelarena.hr/wp-content/uploads/2024/05/Cvit-samoce.jpg
END:VEVENT
END:VCALENDAR