BEGIN:VCALENDAR
VERSION:2.0
PRODID:-//APFEL ARENA - ECPv5.16.3.1//NONSGML v1.0//EN
CALSCALE:GREGORIAN
METHOD:PUBLISH
X-ORIGINAL-URL:https://apfelarena.hr
X-WR-CALDESC:Events for APFEL ARENA
REFRESH-INTERVAL;VALUE=DURATION:PT1H
X-Robots-Tag:noindex
X-PUBLISHED-TTL:PT1H
BEGIN:VTIMEZONE
TZID:Europe/Zagreb
BEGIN:DAYLIGHT
TZOFFSETFROM:+0100
TZOFFSETTO:+0200
TZNAME:CEST
DTSTART:20240331T010000
END:DAYLIGHT
BEGIN:STANDARD
TZOFFSETFROM:+0200
TZOFFSETTO:+0100
TZNAME:CET
DTSTART:20241027T010000
END:STANDARD
END:VTIMEZONE
BEGIN:VEVENT
DTSTART;TZID=Europe/Zagreb:20241002T200000
DTEND;TZID=Europe/Zagreb:20241002T200000
DTSTAMP:20260421T144416
CREATED:20240913T100254Z
LAST-MODIFIED:20240917T061414Z
UID:11166-1727899200-1727899200@apfelarena.hr
SUMMARY:B GLAD PRODUKCIJA – RULET
DESCRIPTION:Igraju: Jagoda Kumrić\, Ana Uršula Najev\, Petra Kraljev i Nika Barišić \nTekst: Petra Kraljev \nRežija: Jagoda Kumrić\, Ana Uršula Najev\, Petra Kraljev i Nika Barišić \nGrafičko oblikovanje: Kristina Gudac \nŠto se dogodi kad nas zavrti rulet života i kad se kuglica zaustavi baš tamo gdje ne želimo otkrijte u novoj komediji o četiri žene naizgled potpuno različite\, a opet iste samo u jednome – duhovitom prihvaćanju podijeljenih životnih karata. U samo jednoj večeri\, u jednom prostoru isplivat će četiri tajne. Ovo nije priča o međusobnim sukobima nego o izborima koje smo naizgled sami birali. \nJedna djevojačka večer bit će dovoljna da sve tajne izađu na vidjelo… \nSimpatični\,  duhoviti i temperamentni karakteri koji će najveću životnu dramu prikazati kao potvrdu da je dan bez smijeha izgubljen dan. \nKarla (Ana Uršula Najev) koja se bori s ispravnošću svoje odluke\, brižna Stella (Jagoda Kumrić) koja se miješa u Karlinu odluku da bi zaboravila na svoje životne izazove\, vrckava Rina (Nika Barišić) koja povezuje sve četiri žene\, a i sama se nalazi na raskrižju života i Biska (Petra Kraljev) već umorna od života i stalne odgovornosti za druge napokon odlučuje zavrtiti svoj rulet života. \nOva priča ima četiri perspektive. Ali iz kojeg god kuta da pogledamo ono što ih neupitno povezuje je ljubav\, poštovanje i već spomenuti smisao za humor. \nUlaznice se mogu kupiti na Info pultu Apfel Arene po cijeni od 15€.
URL:https://apfelarena.hr/dogadaj/b-glad-produkcija-rulet/
LOCATION:Apfel Arena\, Put Volicije 5\, Makarska\, Hrvatska
CATEGORIES:Predstave
ATTACH;FMTTYPE=image/jpeg:https://apfelarena.hr/wp-content/uploads/2024/09/Rulet_Makarska.jpg
END:VEVENT
BEGIN:VEVENT
DTSTART;TZID=Europe/Zagreb:20241015T180000
DTEND;TZID=Europe/Zagreb:20241015T180000
DTSTAMP:20260421T144416
CREATED:20241001T133941Z
LAST-MODIFIED:20241001T135123Z
UID:11315-1729015200-1729015200@apfelarena.hr
SUMMARY:CRVENKAPICA
DESCRIPTION:“Crvenkapica” u režiji Siniše Novkovića\, posebno će razveseliti i nasmijati one najmlađe\, ali i njihove roditelje.\nPriču o Crvenkapici poznajemo svi. Uz malenu djevojčicu s crvenom kapicom\, strašnog vuka i bolesnu baku učili smo govoriti i slušati. Ova vesela verzija jedne od najpoznatijih i najomiljenijih priča braće Grimm\, donosi obilje pjesme\, komike i gegova. \nŠto će se dogoditi Crvenkapici na putu do bakine kuće pogledajte u Apfel Areni 15. listopada u 18:00 sati. \nUlaznice su dostupne na Info pultu Apfel Arene po cijeni od 8€
URL:https://apfelarena.hr/dogadaj/crvenkapica/
LOCATION:Apfel Arena\, Put Volicije 5\, Makarska\, Hrvatska
CATEGORIES:Predstave
ATTACH;FMTTYPE=image/jpeg:https://apfelarena.hr/wp-content/uploads/2024/10/Crvenkapica-1080-x-680-piks.-1.jpg
END:VEVENT
BEGIN:VEVENT
DTSTART;TZID=Europe/Zagreb:20241022T200000
DTEND;TZID=Europe/Zagreb:20241022T200000
DTSTAMP:20260421T144416
CREATED:20241011T081121Z
LAST-MODIFIED:20241011T082329Z
UID:11333-1729627200-1729627200@apfelarena.hr
SUMMARY:Predstava Dođi gola na večeru
DESCRIPTION:Nakon što je predstava „Rulet“ rasprodala dvoranu 2. listopada\, u Apfel Arenu stiže još jedna kazališna poslastica – urnebesna komedija „Dođi gola na večeru“ Hrvatskog narodnog kazališta Šibenik. Ova dinamična predstava\, puna zamjena identiteta\, nesporazuma i komičnih obrata\, održat će se u Apfel Areni 22. listopada s početkom u 20:00 sati. \nKomedija „Dođi gola na večeru“ francuskog autora Marca Camolettija\, poznatog po hitu „Boing Boing“\, donosi novu dozu smijeha kroz nevjerojatno zapetljanu radnju. Priča prati zavodnika Bernarda koji planira večer s ljubavnicom dok mu je supruga na putu\, no stvari se ubrzo otmu kontroli kada se supruga neplanirano vrati. Zavrzlame sa zamjenama uloga\, ulascima na kriva vrata i neočekivanim gostima jamče neprekidnu zabavu. \nU predstavi sudjeluju sjajne članice Šibenskog kazališta Franka Klarić\, Ana Perković i Oriana Kunčić\, uz nova pojačanja Bojana Brajčića i Krešu Jelića\, te gosta Donata Zeku. Ova talentirana ekipa spremna je publiku povesti kroz večer ispunjenu smijehom i nepredvidljivim preokretima. \nNe propustite priliku osigurati svoje mjesto na još jednom kazališnom hitu u Apfel Areni. \nUlaznice su dostupne na Info pultu po cijeni od 15€.
URL:https://apfelarena.hr/dogadaj/predstava-dodi-gola-na-veceru/
LOCATION:Apfel Arena\, Put Volicije 5\, Makarska\, Hrvatska
CATEGORIES:Predstave
ATTACH;FMTTYPE=image/jpeg:https://apfelarena.hr/wp-content/uploads/2024/10/dodji-gola-na-veceru.jpg
END:VEVENT
END:VCALENDAR