BEGIN:VCALENDAR
VERSION:2.0
PRODID:-//APFEL ARENA - ECPv5.16.3.1//NONSGML v1.0//EN
CALSCALE:GREGORIAN
METHOD:PUBLISH
X-WR-CALNAME:APFEL ARENA
X-ORIGINAL-URL:https://apfelarena.hr
X-WR-CALDESC:Events for APFEL ARENA
REFRESH-INTERVAL;VALUE=DURATION:PT1H
X-Robots-Tag:noindex
X-PUBLISHED-TTL:PT1H
BEGIN:VTIMEZONE
TZID:Europe/Zagreb
BEGIN:DAYLIGHT
TZOFFSETFROM:+0100
TZOFFSETTO:+0200
TZNAME:CEST
DTSTART:20240331T010000
END:DAYLIGHT
BEGIN:STANDARD
TZOFFSETFROM:+0200
TZOFFSETTO:+0100
TZNAME:CET
DTSTART:20241027T010000
END:STANDARD
END:VTIMEZONE
BEGIN:VEVENT
DTSTART;TZID=Europe/Zagreb:20241204T180000
DTEND;TZID=Europe/Zagreb:20241204T180000
DTSTAMP:20260421T131921
CREATED:20241126T083348Z
LAST-MODIFIED:20241126T083348Z
UID:11562-1733335200-1733335200@apfelarena.hr
SUMMARY:DJEČJA PREDSTAVA: ADVENTSKI SHOW KLAUNA SPARTANKA (4+ godina)
DESCRIPTION:Klaun Spartanko se ponovno vraća u Apfel Arenu. Ovoga puta s Adventskom showom. Što sve mogu očekivati vaši mališani? Interaktivan i zabavan show za djecu od 4 do 12 godina u kojem će djeca imati priliku uživati u mađioničarskim trikovima\, plesnoj koreografiji\, žongliranju te zabavnim igrama! \nNe propustite ovaj nastup za djecu i kupite svoje ulaznice već danas! \nVidimo se u Apfel Areni! \nUlaznice su dostupne na Info pultu Apfel Arene\nUlaz 6€
URL:https://apfelarena.hr/dogadaj/djecja-predstava-adventski-show-klauna-spartanka-4-godina/
LOCATION:Apfel Arena\, Put Volicije 5\, Makarska\, Hrvatska
CATEGORIES:Predstave
ATTACH;FMTTYPE=image/jpeg:https://apfelarena.hr/wp-content/uploads/2024/11/Spartanko.jpg
END:VEVENT
BEGIN:VEVENT
DTSTART;TZID=Europe/Zagreb:20241212T200000
DTEND;TZID=Europe/Zagreb:20241212T200000
DTSTAMP:20260421T131921
CREATED:20241203T113525Z
LAST-MODIFIED:20241203T113525Z
UID:11613-1734033600-1734033600@apfelarena.hr
SUMMARY:Grešni kuhari
DESCRIPTION:Dobro poznata skupina gurmana i šaljivaca preuzima ugostiteljstvo Apfel Arene! Što su sve za vas pripremili saznat ćete 12. prosinca od 20:00 sati. Rezervacija stolova moguća je na Info pultu Apfel Arene. \nKontakt: \n+385 99 542 7385\ninfo@apfelarena.hr
URL:https://apfelarena.hr/dogadaj/gresni-kuhari/
LOCATION:Apfel Arena\, Put Volicije 5\, Makarska\, Hrvatska
CATEGORIES:Predstave
ATTACH;FMTTYPE=image/jpeg:https://apfelarena.hr/wp-content/uploads/2024/12/masterchef.jpg
END:VEVENT
BEGIN:VEVENT
DTSTART;TZID=Europe/Zagreb:20241213T200000
DTEND;TZID=Europe/Zagreb:20241213T200000
DTSTAMP:20260421T131921
CREATED:20241126T083224Z
LAST-MODIFIED:20241126T083224Z
UID:11556-1734120000-1734120000@apfelarena.hr
SUMMARY:PREDSTAVA: PREKID PREKO VEZE
DESCRIPTION:Kazalište Moruzgva predstavlja novu komediju PREKID PREKO VEZE – europski hit koji je očarao publiku u produkcijama diljem kontinenta\, ali i šire\, po prvi put stiže na naše prostore! Ova neodoljiva komedija vodi vas u svijet neobične agencije specijalizirane za iznimno teške razgovore o prekidu veza umjesto vas koja obećava besprijekornu uslugu\, pružajući vam jedinstvenu kombinaciju nezaboravnog humora\, nevjerojatnih situacija i nepredvidivih preokreta. \n\nU srcu ove predstave krije se nešto potpuno novo – postromantična komedija koja hrabro istražuje ono što se događa kada dođe trenutak da moramo priznati i sebi i partneru: “Gotovo je!” Autor TRISTAN PETITGIRARD\, dobitnik prestižne Molièreove nagrade\, donosi modernu verziju romantične komedije\, obogaćenu smijehom\, nesporazumima i neprestanim preokretima. Ova europska hit predstava proizašla iz pera renomiranog francuskog autora\, redatelja i glumca postala je nezaobilazna među ljubiteljima kazališta diljem Europe. \n\nGlumačku postavu čine Matija Šakoronja\, Petra Kurtela i Filip Detelić\, dobro poznata lica komedije\, svi redom nagrađeni prestižnom Nagradom hrvatskog glumišta. Ova iznimna ekipa donosi smijeh i vrhunsku izvedbu pod redateljskom palicom velikog hrvatskog redatelja KREŠIMIRA DOLENČIĆA. Ne propustite ovu jedinstvenu priliku za nezaboravno kazališno iskustvo koje će vas osvojiti smijehom i provesti kroz turbulentne vode ljubavnih prekida! \nUlaznice dostupne na Info pultu Apfel Arene \nUlaz 15 €
URL:https://apfelarena.hr/dogadaj/predstava-prekid-preko-veze/
LOCATION:Apfel Arena\, Put Volicije 5\, Makarska\, Hrvatska
CATEGORIES:Predstave
ATTACH;FMTTYPE=image/jpeg:https://apfelarena.hr/wp-content/uploads/2024/11/PPV.jpg
END:VEVENT
END:VCALENDAR