BEGIN:VCALENDAR
VERSION:2.0
PRODID:-//APFEL ARENA - ECPv5.16.3.1//NONSGML v1.0//EN
CALSCALE:GREGORIAN
METHOD:PUBLISH
X-ORIGINAL-URL:https://apfelarena.hr
X-WR-CALDESC:Events for APFEL ARENA
REFRESH-INTERVAL;VALUE=DURATION:PT1H
X-Robots-Tag:noindex
X-PUBLISHED-TTL:PT1H
BEGIN:VTIMEZONE
TZID:Europe/Zagreb
BEGIN:DAYLIGHT
TZOFFSETFROM:+0100
TZOFFSETTO:+0200
TZNAME:CEST
DTSTART:20250330T010000
END:DAYLIGHT
BEGIN:STANDARD
TZOFFSETFROM:+0200
TZOFFSETTO:+0100
TZNAME:CET
DTSTART:20251026T010000
END:STANDARD
END:VTIMEZONE
BEGIN:VEVENT
DTSTART;TZID=Europe/Zagreb:20250115T200000
DTEND;TZID=Europe/Zagreb:20250115T200000
DTSTAMP:20260419T163242
CREATED:20241230T115913Z
LAST-MODIFIED:20241230T124503Z
UID:11773-1736971200-1736971200@apfelarena.hr
SUMMARY:Predstava "E moj Jere"
DESCRIPTION:E\, moj Jere naziv je predstave Gradskog kazališta mladih u Splitu\, autora i redatelja Siniše Novkovića\, a gostuje u Apfel Areni 15. siječnja 2025. godine u 20:00 sati.\nPredstava je to koja progovara o identitetu\, o jednoj zajednici\, o jednoj obitelji i obiteljskim odnosima koji su sami po sebi složeni\, nerijetko smiješni\, ozbiljni pa tragikomični ili obratno. Naši likovi se predstavljaju jedan po jedan u međusobnim susretima tražeći svatko svoje mjesto pod suncem u vlastitoj istini koja na kraju postaje opća. Kroz prisutnost svetoga Jerolima u različitim situacijama naših protagonista otkrivaju se njihovi životi puni različitosti te reakcije koje u navalama smijeha ipak protresu ono najvažnije – emocije i dovode do onih ključnih bez kojih bi ljudski životi imali sasvim drugačiji smisao. Ovo je put na kojem se isprepliću ljubav prema rodnom kraju\, ljubav prema istini\, prema bližnjemu i prema važnosti suživota u ljubavi koja je rezultat razumijevanja\, ali i nadahnuća.\nKako Jerolim\, ili naš Jere\, raspliće ovu priču otkrijte u novoj predstavi Gradskog kazališta mladih i nasmijte se od srca\, ali ga i ispunite lijepim emocijama.\nGeneralni pokrovitelj predstave je Splitsko-dalmatinska županija.ULOGE:\nFilip Radoš\nMatija Grabić\nNada Kovačević\nAna Gruica Uglešić\nDenis Tomić\nMaro Drobnić\nAUTORSKI TIM:\nAutor teksta:Siniša Novković\nRedatelj:Siniša Novković\nStručni suradnik:Goran Golovko\nKoproducent:Davor Pavić\nObabir glazbe:Siniša Novković\nScenograf:Ozren Bakotić\nKostimografkinja:Tina Vukasović Đaković\nScenski pokret:Ana Gruica Uglešić\nIzrada scenografije:Boris Križanović\nOblikovanje svjetla:Boris Stanić\nIzrada rekvizite:Marino Vukasović\nGarderoba:Ružica Lerotić\nMajstor tona:Tomislav Topić\nVoditelj tehnike:Siniša Čović\nFotografija:Ivan Gudić\nGrafička obrada:Pavle Sviličić @Parallel design \n\nUlaznice su dostupne na Info pultu Apfel Arene po cijeni od 15€
URL:https://apfelarena.hr/dogadaj/predstava-e-moj-jere/
LOCATION:Apfel Arena\, Put Volicije 5\, Makarska\, Hrvatska
CATEGORIES:Predstave
ATTACH;FMTTYPE=image/jpeg:https://apfelarena.hr/wp-content/uploads/2024/12/E-moj-Jere.jpg
END:VEVENT
BEGIN:VEVENT
DTSTART;TZID=Europe/Zagreb:20250122T170000
DTEND;TZID=Europe/Zagreb:20250122T170000
DTSTAMP:20260419T163242
CREATED:20241230T120010Z
LAST-MODIFIED:20241230T130928Z
UID:11777-1737565200-1737565200@apfelarena.hr
SUMMARY:Predstava za djecu Robot Roko i zlatno srce
DESCRIPTION:Predstava Produkcije Z koja gostuje u Apfel Areni u srijedu 22. siječnja 2025. godine u 17:00 sati.  Ovo je priča o robotu Roku koji je bio prisiljen sletjeti na Zemlju zbog kvara na letećem tanjuru. Dječak Josip i njegov tata Miško priskoče u pomoć robotu. Kada nastupi veliko nevrijeme\, robot Roko spašava dječaka od stabla koje se rušilo na njega. Predstava je puna zanimljivih preokreta uz 15 zaraznih pjesmica. Glavna pouka ove priče je da se trebamo truditi činiti dobra djela. Ovaj lutkarski mjuzikl namijenjen je djeci starijoj od 3 godine. Ulaznice su dostupne na Info pultu Apfel Arene po cijeni od 6 €.
URL:https://apfelarena.hr/dogadaj/predstava-za-djecu-robot-roko-i-zlatno-srce/
LOCATION:Apfel Arena\, Put Volicije 5\, Makarska\, Hrvatska
CATEGORIES:Predstave
ATTACH;FMTTYPE=image/jpeg:https://apfelarena.hr/wp-content/uploads/2024/12/Add-a-heading-3.jpg
END:VEVENT
BEGIN:VEVENT
DTSTART;TZID=Europe/Zagreb:20250131T200000
DTEND;TZID=Europe/Zagreb:20250131T200000
DTSTAMP:20260419T163242
CREATED:20250103T114551Z
LAST-MODIFIED:20250103T114551Z
UID:11825-1738353600-1738353600@apfelarena.hr
SUMMARY:PRAČOVJEK
DESCRIPTION:NAJDUGOVJEČNIJI ONE MAN SHOW NA BROADWAYU KONAČNO MAKARSKOJ! \n„Pračovjek“ nudi odgovore na vječni rat spolova – stereotipne\, ali opet istinske razlike između muškaraca i žena od prapovijesti do danas. Kroz mnoštvo transformacija i izuzetno glumačko umijeće hrvatski ”Pračovjek” Peđa Gvozdić nasmijat će vas\, podučiti i pomiriti nepomirljivo. \n“Defending the Caveman“ najdugovječniji je one man show u povijesti Broadwaya i Las Vegasa te je postigao svjetski uspjeh. Urnebesna komedija\, autora Roba Beckera\, je tijekom godina izvođenja osvojila srca milijuna ljudi diljem svijeta. “Pračovjek” je do sada preveden na 25 jezika te je izveden u više od 52 zemlje\, a sam autor je tijekom trogodišnjeg razdoblja proučavao psihologiju\, sociologiju i prapovijest kako bi napisao komediju o odnosu i razlikama muškaraca i žena od prapovijesti do danas. \nUlaznice su dostupne na Info pultu Apfel Arene po cijeni od 12€.
URL:https://apfelarena.hr/dogadaj/pracovjek/
LOCATION:Apfel Arena\, Put Volicije 5\, Makarska\, Hrvatska
CATEGORIES:Predstave
ATTACH;FMTTYPE=image/jpeg:https://apfelarena.hr/wp-content/uploads/2025/01/pracovjek.jpg
END:VEVENT
END:VCALENDAR