BEGIN:VCALENDAR
VERSION:2.0
PRODID:-//APFEL ARENA - ECPv5.16.3.1//NONSGML v1.0//EN
CALSCALE:GREGORIAN
METHOD:PUBLISH
X-WR-CALNAME:APFEL ARENA
X-ORIGINAL-URL:https://apfelarena.hr
X-WR-CALDESC:Events for APFEL ARENA
REFRESH-INTERVAL;VALUE=DURATION:PT1H
X-Robots-Tag:noindex
X-PUBLISHED-TTL:PT1H
BEGIN:VTIMEZONE
TZID:Europe/Zagreb
BEGIN:DAYLIGHT
TZOFFSETFROM:+0100
TZOFFSETTO:+0200
TZNAME:CEST
DTSTART:20220327T010000
END:DAYLIGHT
BEGIN:STANDARD
TZOFFSETFROM:+0200
TZOFFSETTO:+0100
TZNAME:CET
DTSTART:20221030T010000
END:STANDARD
END:VTIMEZONE
BEGIN:VEVENT
DTSTART;TZID=Europe/Zagreb:20221119T170000
DTEND;TZID=Europe/Zagreb:20221119T170000
DTSTAMP:20260425T203934
CREATED:20221117T080730Z
LAST-MODIFIED:20221117T080809Z
UID:5316-1668877200-1668877200@apfelarena.hr
SUMMARY:DOBRO SE DOBRIM VRAĆA
DESCRIPTION:Lutkarski mjuzikl o dobrim djelima koje od malena trebamo činiti jedni drugima\, jer se svako dobro djelo dobrim djelom vraća. Priča se događa u Jadranskom moru među ribicama\, što mjuziklu daje dodatnu atraktivnost\, ali se mogla dogoditi bilo gdje i bilo kome. \nNaime\, kada se hobotnica\, stari neprijatelj malih ribica\, nađe u životnoj opasnosti\, one joj svejedno priskaču u pomoć. U tom trenutku među njih dolazi bakalar\, riba koju nitko nije poznavao i prema kojoj svi u početku iskazuju nepovjerenje\, samo zato što je drukčija od njih. \nNo\, čim zaprijeti nova opasnost\, pokaže se da se u muci poznaju junaci. Oni što su u početku izgledali drugačiji od nas postanu pravi iskreni prijatelji\, pa na kraju tolerancija i međusobno poštovanje pobjedi sve predrasude\, a svako dobro djelo dobrim se djelom vrati. Predstava s čak 18 songova!
URL:https://apfelarena.hr/dogadaj/dobro-se-dobrim-vraca/
LOCATION:Apfel Arena\, Put Volicije 5\, Makarska\, Hrvatska
CATEGORIES:Predstave
ATTACH;FMTTYPE=image/jpeg:https://apfelarena.hr/wp-content/uploads/2022/11/lutkarska-predstava.jpg
END:VEVENT
END:VCALENDAR