BEGIN:VCALENDAR
VERSION:2.0
PRODID:-//APFEL ARENA - ECPv5.16.3.1//NONSGML v1.0//EN
CALSCALE:GREGORIAN
METHOD:PUBLISH
X-WR-CALNAME:APFEL ARENA
X-ORIGINAL-URL:https://apfelarena.hr
X-WR-CALDESC:Events for APFEL ARENA
REFRESH-INTERVAL;VALUE=DURATION:PT1H
X-Robots-Tag:noindex
X-PUBLISHED-TTL:PT1H
BEGIN:VTIMEZONE
TZID:Europe/Zagreb
BEGIN:DAYLIGHT
TZOFFSETFROM:+0100
TZOFFSETTO:+0200
TZNAME:CEST
DTSTART:20220327T010000
END:DAYLIGHT
BEGIN:STANDARD
TZOFFSETFROM:+0200
TZOFFSETTO:+0100
TZNAME:CET
DTSTART:20221030T010000
END:STANDARD
END:VTIMEZONE
BEGIN:VEVENT
DTSTART;TZID=Europe/Zagreb:20221207T190000
DTEND;TZID=Europe/Zagreb:20221207T190000
DTSTAMP:20260425T174838
CREATED:20221129T144808Z
LAST-MODIFIED:20221129T144808Z
UID:5377-1670439600-1670439600@apfelarena.hr
SUMMARY:Apfel Arena u Makarsku dovodi Teatar Kerekesh i predstavu BEBA!!!
DESCRIPTION:Nemojte se sramiti. Svi imamo probleme. I svi znamo da je najbolje o problemima razgovarati sa psihologom. Naša Svjetlana Fufić zvana BEBA dolazi psihologu po prvi put. Od silnog uzbuđenja\, mušica u glavi i gomile problema jednostavno započinje razgovor sa gospodinom u bijeloj odori. \nTaj gospodin je maler i jedino što zna o psihologiji je da mora pomalati ured i hodnik psihološke ordinacije. Bivši muževi Svjetlane Fufić izvukli su deblji kraj. Hoće li i ovaj slučajni psiholog s valjkom u ruci\, saznajte u novoj komediji Kerekesh Teatra jer u čekaonicu dolazi “Beba”. \nUlaznice se prodaju na info pultu Apfel Arene po cijeni od 80\,00 kn (10\,62 Eur).
URL:https://apfelarena.hr/dogadaj/apfel-arena-u-makarsku-dovodi-teatar-kerekesh-i-predstavu-beba/
LOCATION:Apfel Arena\, Put Volicije 5\, Makarska\, Hrvatska
CATEGORIES:Predstave
ATTACH;FMTTYPE=image/jpeg:https://apfelarena.hr/wp-content/uploads/2022/11/BEBA_vizual_WEB_s.jpg
END:VEVENT
END:VCALENDAR