BEGIN:VCALENDAR
VERSION:2.0
PRODID:-//APFEL ARENA - ECPv5.16.3.1//NONSGML v1.0//EN
CALSCALE:GREGORIAN
METHOD:PUBLISH
X-WR-CALNAME:APFEL ARENA
X-ORIGINAL-URL:https://apfelarena.hr
X-WR-CALDESC:Events for APFEL ARENA
REFRESH-INTERVAL;VALUE=DURATION:PT1H
X-Robots-Tag:noindex
X-PUBLISHED-TTL:PT1H
BEGIN:VTIMEZONE
TZID:Europe/Zagreb
BEGIN:DAYLIGHT
TZOFFSETFROM:+0100
TZOFFSETTO:+0200
TZNAME:CEST
DTSTART:20220327T010000
END:DAYLIGHT
BEGIN:STANDARD
TZOFFSETFROM:+0200
TZOFFSETTO:+0100
TZNAME:CET
DTSTART:20221030T010000
END:STANDARD
END:VTIMEZONE
BEGIN:VEVENT
DTSTART;TZID=Europe/Zagreb:20221216T190000
DTEND;TZID=Europe/Zagreb:20221216T190000
DTSTAMP:20260425T190514
CREATED:20221206T085947Z
LAST-MODIFIED:20221206T085947Z
UID:5397-1671217200-1671217200@apfelarena.hr
SUMMARY:Dupla Doza
DESCRIPTION:U PETAK 16. prosinca od 19h dođite na stand up comedy večeri u novu kino dvoranu u Apfel Areni. Energični Slavonac Goran Vinčić i brutalno iskreni Bosanac Marko Dejanović izvode svoj jedinstveni show #DuplaDoza\, najopušteniji i “najluđi” stand up show u Hrvatskoj. \nDupla Doza\, stand up comedy show by Goran Vinčić i Marko Dejanović je za Hrvatsku jedinstveni show\, show pun spontanosti\, dinamike i improvizacija. Oba komičara svo vrijeme su na pozornici\, a nemaju pripremljeni “scenarij”\, nego puštaju da ih međusobni razgovor i razgovor s publikom vodi u tome što će pričati. To na kraju rezultira potpuno opuštenom atmosferom u kojoj je svaka izvedba jedinstvena. \nUPAD:\nPretprodaja: 70kn (9\,29 €)\nNa Dan: 80kn (10\,62 €)\nPRODAJA  𝗔𝗽𝗳𝗲𝗹 𝗔𝗿𝗲𝗻𝗮 – Put Volicije 5 // Radno vrijeme: Pon – Ned 08:00 – 22:00 (prodaja od srijede 30.11.)
URL:https://apfelarena.hr/dogadaj/dupla-doza/
LOCATION:Apfel Arena\, Put Volicije 5\, Makarska\, Hrvatska
CATEGORIES:Predstave
ATTACH;FMTTYPE=image/jpeg:https://apfelarena.hr/wp-content/uploads/2022/12/317330979_1568375686956303_181429943270398560_n.jpg
END:VEVENT
END:VCALENDAR