BEGIN:VCALENDAR
VERSION:2.0
PRODID:-//APFEL ARENA - ECPv5.16.3.1//NONSGML v1.0//EN
CALSCALE:GREGORIAN
METHOD:PUBLISH
X-WR-CALNAME:APFEL ARENA
X-ORIGINAL-URL:https://apfelarena.hr
X-WR-CALDESC:Events for APFEL ARENA
REFRESH-INTERVAL;VALUE=DURATION:PT1H
X-Robots-Tag:noindex
X-PUBLISHED-TTL:PT1H
BEGIN:VTIMEZONE
TZID:Europe/Zagreb
BEGIN:DAYLIGHT
TZOFFSETFROM:+0100
TZOFFSETTO:+0200
TZNAME:CEST
DTSTART:20230326T010000
END:DAYLIGHT
BEGIN:STANDARD
TZOFFSETFROM:+0200
TZOFFSETTO:+0100
TZNAME:CET
DTSTART:20231029T010000
END:STANDARD
END:VTIMEZONE
BEGIN:VEVENT
DTSTART;TZID=Europe/Zagreb:20230226T193000
DTEND;TZID=Europe/Zagreb:20230226T193000
DTSTAMP:20260425T141453
CREATED:20230213T082948Z
LAST-MODIFIED:20230213T133025Z
UID:5219-1677439800-1677439800@apfelarena.hr
SUMMARY:Ričard - Oči Uoči Zgospod'non
DESCRIPTION:Radnja predstave govori o uzvišenom trenutku smrti\,  kada glavni lik svima dobro poznati Ričard dolazi kod sv. Petra na suočavanje sa Bogom raspravljajući o svojim životnim grijesima. \nOmiljeni zadarski glumac i performer Enio Meštrović autor je predstave u kojoj ujedno i igra lik svog već sada kultnog alter ega – Ričarda\,  a uz njega u predstavi nastupaju i glume Dragan Veselić i Davor Olić.” \nCijena ulaznice: 10\,00 € \n 
URL:https://apfelarena.hr/dogadaj/oci-uoci-zgospodnon/
LOCATION:Apfel Arena\, Put Volicije 5\, Makarska\, Hrvatska
CATEGORIES:Predstave
ATTACH;FMTTYPE=image/jpeg:https://apfelarena.hr/wp-content/uploads/2022/11/oci-u-oci-zgospodnon-predstava-1.jpg
END:VEVENT
END:VCALENDAR