BEGIN:VCALENDAR
VERSION:2.0
PRODID:-//APFEL ARENA - ECPv5.16.3.1//NONSGML v1.0//EN
CALSCALE:GREGORIAN
METHOD:PUBLISH
X-ORIGINAL-URL:https://apfelarena.hr
X-WR-CALDESC:Events for APFEL ARENA
REFRESH-INTERVAL;VALUE=DURATION:PT1H
X-Robots-Tag:noindex
X-PUBLISHED-TTL:PT1H
BEGIN:VTIMEZONE
TZID:Europe/Zagreb
BEGIN:DAYLIGHT
TZOFFSETFROM:+0100
TZOFFSETTO:+0200
TZNAME:CEST
DTSTART:20230326T010000
END:DAYLIGHT
BEGIN:STANDARD
TZOFFSETFROM:+0200
TZOFFSETTO:+0100
TZNAME:CET
DTSTART:20231029T010000
END:STANDARD
END:VTIMEZONE
BEGIN:VEVENT
DTSTART;TZID=Europe/Zagreb:20230623T190000
DTEND;TZID=Europe/Zagreb:20230623T190000
DTSTAMP:20260425T051118
CREATED:20230605T140115Z
LAST-MODIFIED:20230606T083520Z
UID:7166-1687546800-1687546800@apfelarena.hr
SUMMARY:Dječja predstava Šumska priča
DESCRIPTION:U ovom mjuziklu sa 16 songova djeci se daje prilika da osjete empatiju prema šumskim životinjama. Krivolovac postavlja zamke po šumi u koju se uhvati srna. Vilenjak Zimzelen uz pomoć patuljka Buce\, mede\, zeke i sove oslobodi srnu ali i krivolovca koji je i sam slučajno stao na svoju zamku. Krivolovac obeća da više neće postavljati zamke. \nOd srca preporučamo ovaj mjuzikl jer će djeca iz njega izvući mnoge korisne pouke i saznanja. \n  \nCijena ulaznice 5€\nUlaznice su dostupne u pretprodaji na info pultu Apfel Arene.
URL:https://apfelarena.hr/dogadaj/djecja-predstava-sumska-prica/
LOCATION:Apfel Arena\, Put Volicije 5\, Makarska\, Hrvatska
CATEGORIES:Predstave
ATTACH;FMTTYPE=image/jpeg:https://apfelarena.hr/wp-content/uploads/2023/06/produkcijaz.jpg
END:VEVENT
END:VCALENDAR