BEGIN:VCALENDAR
VERSION:2.0
PRODID:-//APFEL ARENA - ECPv5.16.3.1//NONSGML v1.0//EN
CALSCALE:GREGORIAN
METHOD:PUBLISH
X-WR-CALNAME:APFEL ARENA
X-ORIGINAL-URL:https://apfelarena.hr
X-WR-CALDESC:Events for APFEL ARENA
REFRESH-INTERVAL;VALUE=DURATION:PT1H
X-Robots-Tag:noindex
X-PUBLISHED-TTL:PT1H
BEGIN:VTIMEZONE
TZID:Europe/Zagreb
BEGIN:DAYLIGHT
TZOFFSETFROM:+0100
TZOFFSETTO:+0200
TZNAME:CEST
DTSTART:20230326T010000
END:DAYLIGHT
BEGIN:STANDARD
TZOFFSETFROM:+0200
TZOFFSETTO:+0100
TZNAME:CET
DTSTART:20231029T010000
END:STANDARD
END:VTIMEZONE
BEGIN:VEVENT
DTSTART;TZID=Europe/Zagreb:20230818T190000
DTEND;TZID=Europe/Zagreb:20230818T190000
DTSTAMP:20260423T224103
CREATED:20230721T080056Z
LAST-MODIFIED:20230721T080056Z
UID:7590-1692385200-1692385200@apfelarena.hr
SUMMARY:Dječja predstava "Vremenaste igre"
DESCRIPTION:Čarolija kazališta uz ples vjetra s oblacima\nMali Teatar \nOd čega su napravljeni oblaci? Kako nastaje kiša?\nKako se možemo igrati s vjetrom?\nU ovoj nezaboravnoj edukativnoj avanturi Tata Slikovnica odgovara na brojna pitanja koja muče Tetu Tenu / Tetu NeMirnu. Ona bi željela doprijeti do oblaka i igrati se s njima…\nŠto je sve potrebno da bi se to ostvarilo\, doznajte u čarobnoj meteorološkoj predstavi rađenoj prema slikovnicama Zorana Vakule! \nJednako kao što oblaci mijenjaju oblike\, kao što vjetar nosi promjenu\, a voda se pretvara iz jednog oblika u drugi\, u predstavi istražujemo mogućnosti transformacije scenskih elemenata. \nOvo je treća predstava u suradnji Tate Slikovnice i Zorana Vakule\, čime se stvara jedinstven serijal za djecu u Hrvatskoj\, nezaobilazan u promicanju svijesti o okolišu i povezanosti čovjeka s prirodom. \nObjedinjujući dramsku\, literarnu i glazbenu umjetnost\, predstave Tate Slikovnice potiču djecu na čitanje\, razvoj mašte i kreativnosti\, te pomažu socioemocionalni i razvoj komunikacijskih vještina. \nKarte su u pretprodaji na info pultu Apfel Arene po cijeni od 6\,00 €.
URL:https://apfelarena.hr/dogadaj/djecja-predstava-vremenaste-igre/
LOCATION:Apfel Arena\, Put Volicije 5\, Makarska\, Hrvatska
CATEGORIES:Predstave
ATTACH;FMTTYPE=image/jpeg:https://apfelarena.hr/wp-content/uploads/2023/05/VREMENASTE-IGRE-vodoravni-plakat-2.jpg
END:VEVENT
END:VCALENDAR