BEGIN:VCALENDAR
VERSION:2.0
PRODID:-//APFEL ARENA - ECPv5.16.3.1//NONSGML v1.0//EN
CALSCALE:GREGORIAN
METHOD:PUBLISH
X-ORIGINAL-URL:https://apfelarena.hr
X-WR-CALDESC:Events for APFEL ARENA
REFRESH-INTERVAL;VALUE=DURATION:PT1H
X-Robots-Tag:noindex
X-PUBLISHED-TTL:PT1H
BEGIN:VTIMEZONE
TZID:Europe/Zagreb
BEGIN:DAYLIGHT
TZOFFSETFROM:+0100
TZOFFSETTO:+0200
TZNAME:CEST
DTSTART:20240331T010000
END:DAYLIGHT
BEGIN:STANDARD
TZOFFSETFROM:+0200
TZOFFSETTO:+0100
TZNAME:CET
DTSTART:20241027T010000
END:STANDARD
END:VTIMEZONE
BEGIN:VEVENT
DTSTART;TZID=Europe/Zagreb:20240315T200000
DTEND;TZID=Europe/Zagreb:20240315T200000
DTSTAMP:20260423T054914
CREATED:20240222T152704Z
LAST-MODIFIED:20240222T153339Z
UID:9698-1710532800-1710532800@apfelarena.hr
SUMMARY:Goran Vinčić - Reci mi da se šališ
DESCRIPTION:Goran Vinčić rasprodao je kultnu dvoranu Lisinski u Zagrebu. \nNjegov novi show “Reci mi da se šališ” krenuo je na regionalnu turneju u 2024. godini. \nSpecijal snimljen u Ludoj kući grabi prema milijun pregled na YouTube kanalu. \nVinča skida rekorde\, rasprodaje dvorane\, vrijeđa\, ljubi\, grli i zadirkuje. Vinča je čovjek od naroda\, televizije\, kazališta\, sporta\, muzike. \nCijena: 10 €\nCijena na dan predstave: 12€
URL:https://apfelarena.hr/dogadaj/goran-vincic-reci-mi-da-se-salis/
LOCATION:Apfel Arena\, Put Volicije 5\, Makarska\, Hrvatska
CATEGORIES:Predstave
ATTACH;FMTTYPE=image/jpeg:https://apfelarena.hr/wp-content/uploads/2024/02/poster-goran-vincic-scaled.jpg
END:VEVENT
END:VCALENDAR