BEGIN:VCALENDAR
VERSION:2.0
PRODID:-//APFEL ARENA - ECPv5.16.3.1//NONSGML v1.0//EN
CALSCALE:GREGORIAN
METHOD:PUBLISH
X-ORIGINAL-URL:https://apfelarena.hr
X-WR-CALDESC:Events for APFEL ARENA
REFRESH-INTERVAL;VALUE=DURATION:PT1H
X-Robots-Tag:noindex
X-PUBLISHED-TTL:PT1H
BEGIN:VTIMEZONE
TZID:Europe/Zagreb
BEGIN:DAYLIGHT
TZOFFSETFROM:+0100
TZOFFSETTO:+0200
TZNAME:CEST
DTSTART:20240331T010000
END:DAYLIGHT
BEGIN:STANDARD
TZOFFSETFROM:+0200
TZOFFSETTO:+0100
TZNAME:CET
DTSTART:20241027T010000
END:STANDARD
END:VTIMEZONE
BEGIN:VEVENT
DTSTART;TZID=Europe/Zagreb:20240322T200000
DTEND;TZID=Europe/Zagreb:20240322T200000
DTSTAMP:20260423T054941
CREATED:20240222T153728Z
LAST-MODIFIED:20240313T072120Z
UID:9707-1711137600-1711137600@apfelarena.hr
SUMMARY:Dragan Marinković Maca – „Kakva ti je žena\, takav ti je život“
DESCRIPTION:Hit komedija Kakva ti je žena\, takav ti je život će vas natjerati da razmislite dobro o sebi i o svijetu koji vas okružuje. Maca kroz predstavu publici otkriva kako zapravo treba izgledati dobar i uspješan brak. Volimo li da nas vole ili volimo voljeti? Je li uvijek na početku veze prvo strast\, pa onda krah? Koliko brak mijenja ljude i samu vezu? U braku ili u mraku? Peta autorska predstava Dragana Marinkovića Mace\, u samo 3 godine postojanja oborila je sve rekorde gledanosti. Na turnejama po Hrvatskoj\, Bosni i Hercegovini\, Srbiji ali i Europi\, predstava je oduševila više od 100.000 gledatelja. \nCijena: 15 €\nCijena na dan predstave: 17€
URL:https://apfelarena.hr/dogadaj/dragan-marinkovic-maca-kakva-ti-je-zena-takav-ti-je-zivot/
LOCATION:Apfel Arena\, Put Volicije 5\, Makarska\, Hrvatska
CATEGORIES:Predstave
ATTACH;FMTTYPE=image/jpeg:https://apfelarena.hr/wp-content/uploads/2024/02/poster-dragan-marinkovic-maca.jpg
END:VEVENT
END:VCALENDAR