BEGIN:VCALENDAR
VERSION:2.0
PRODID:-//APFEL ARENA - ECPv5.16.3.1//NONSGML v1.0//EN
CALSCALE:GREGORIAN
METHOD:PUBLISH
X-ORIGINAL-URL:https://apfelarena.hr
X-WR-CALDESC:Events for APFEL ARENA
REFRESH-INTERVAL;VALUE=DURATION:PT1H
X-Robots-Tag:noindex
X-PUBLISHED-TTL:PT1H
BEGIN:VTIMEZONE
TZID:Europe/Zagreb
BEGIN:DAYLIGHT
TZOFFSETFROM:+0100
TZOFFSETTO:+0200
TZNAME:CEST
DTSTART:20240331T010000
END:DAYLIGHT
BEGIN:STANDARD
TZOFFSETFROM:+0200
TZOFFSETTO:+0100
TZNAME:CET
DTSTART:20241027T010000
END:STANDARD
END:VTIMEZONE
BEGIN:VEVENT
DTSTART;TZID=Europe/Zagreb:20240327T170000
DTEND;TZID=Europe/Zagreb:20240327T170000
DTSTAMP:20260423T183650
CREATED:20240222T154026Z
LAST-MODIFIED:20240222T154026Z
UID:9711-1711558800-1711558800@apfelarena.hr
SUMMARY:Kazalište lutaka Zadar - Vrlo gladna gusjenica
DESCRIPTION:Predstava nastala prema istoimenoj slikovnici Erica Carle namijenjena je najmlađoj publici koja se možda prvi puta susreće s kazalištem\, kao i već iskusnim malim kazališnim gledateljima. Kroz svijet odrastanja i otkrivanja okoline\, našu najmlađu publiku učimo raznolikosti i povjerenju u proces koji sa sobom donosi uspone i padove\, kruške i jabuke\, ponedjeljke i petke. Priroda nam otkriva svoje tajne\, a mi putujemo\, promatramo\, osluškujemo\, osjećamo i rastemo.
URL:https://apfelarena.hr/dogadaj/kazaliste-lutaka-zadar-vrlo-gladna-gusjenica/
LOCATION:Apfel Arena\, Put Volicije 5\, Makarska\, Hrvatska
CATEGORIES:Predstave
ATTACH;FMTTYPE=image/jpeg:https://apfelarena.hr/wp-content/uploads/2024/02/vrlo-gladna-gusjenica-plakat.jpg
END:VEVENT
END:VCALENDAR