BEGIN:VCALENDAR
VERSION:2.0
PRODID:-//APFEL ARENA - ECPv5.16.3.1//NONSGML v1.0//EN
CALSCALE:GREGORIAN
METHOD:PUBLISH
X-WR-CALNAME:APFEL ARENA
X-ORIGINAL-URL:https://apfelarena.hr
X-WR-CALDESC:Events for APFEL ARENA
REFRESH-INTERVAL;VALUE=DURATION:PT1H
X-Robots-Tag:noindex
X-PUBLISHED-TTL:PT1H
BEGIN:VTIMEZONE
TZID:Europe/Zagreb
BEGIN:DAYLIGHT
TZOFFSETFROM:+0100
TZOFFSETTO:+0200
TZNAME:CEST
DTSTART:20240331T010000
END:DAYLIGHT
BEGIN:STANDARD
TZOFFSETFROM:+0200
TZOFFSETTO:+0100
TZNAME:CET
DTSTART:20241027T010000
END:STANDARD
END:VTIMEZONE
BEGIN:VEVENT
DTSTART;TZID=Europe/Zagreb:20240429T170000
DTEND;TZID=Europe/Zagreb:20240429T170000
DTSTAMP:20260423T053659
CREATED:20240326T130732Z
LAST-MODIFIED:20240408T134106Z
UID:9932-1714410000-1714410000@apfelarena.hr
SUMMARY:Boom Teatar: "Ne može"\, Vojko V.
DESCRIPTION:Predstava “Ne može” kazališta Boom! teatar govori o bontonu\, na suvremen i empatičan način pokazuje djeci prepoznatljive situacije koje izvrče naglavačke kako bi pokazala da nisu sve odluke jednostavne ni jednostrane.\n \nNe može je predstava u kojoj troje mladih repera – Splićani Roko i Paško te Zagrepčanka Katarina – na školskom igralištu\, svojim ritmom i vlastitim rimama uče abecedu međuljudskih odnosa; o tome što se može\, a što ne može. Odnosno smije i ne smije. Dobro\, to je ista stvar. Uglavnom. Ili? Ma je\, valjda je. Ne\, ne – nije. \nUlaznice su dostupne na Info Pultu Apfel Arene po cijeni od 6€.
URL:https://apfelarena.hr/dogadaj/boom-teatar-ne-moze-vojko-v/
LOCATION:Apfel Arena\, Put Volicije 5\, Makarska\, Hrvatska
CATEGORIES:Predstave
ATTACH;FMTTYPE=image/jpeg:https://apfelarena.hr/wp-content/uploads/2024/03/Vojko.V.jpg
END:VEVENT
END:VCALENDAR