BEGIN:VCALENDAR
VERSION:2.0
PRODID:-//APFEL ARENA - ECPv5.16.3.1//NONSGML v1.0//EN
CALSCALE:GREGORIAN
METHOD:PUBLISH
X-ORIGINAL-URL:https://apfelarena.hr
X-WR-CALDESC:Events for APFEL ARENA
REFRESH-INTERVAL;VALUE=DURATION:PT1H
X-Robots-Tag:noindex
X-PUBLISHED-TTL:PT1H
BEGIN:VTIMEZONE
TZID:Europe/Zagreb
BEGIN:DAYLIGHT
TZOFFSETFROM:+0100
TZOFFSETTO:+0200
TZNAME:CEST
DTSTART:20240331T010000
END:DAYLIGHT
BEGIN:STANDARD
TZOFFSETFROM:+0200
TZOFFSETTO:+0100
TZNAME:CET
DTSTART:20241027T010000
END:STANDARD
END:VTIMEZONE
BEGIN:VEVENT
DTSTART;TZID=Europe/Zagreb:20240918T180000
DTEND;TZID=Europe/Zagreb:20240918T180000
DTSTAMP:20260421T190450
CREATED:20240902T065531Z
LAST-MODIFIED:20240902T065531Z
UID:11109-1726682400-1726682400@apfelarena.hr
SUMMARY:Dječja predstava MUDRA GLAVA MALOGA MRAVA
DESCRIPTION:Lutkarski mjuzikl gostuje u Apfel Areni 18. rujna u 18:00 sati. Predstava je namijenjena vrtićkoj djeci\, a u njoj mogu uživati djeca od dvije godine naviše. Ulaznice se mogu kupiti na Info pultu Apfel Arene po cijeni od 6€.  \nMali mrav se izgubi u travi i ne može pronaći put do svoga doma. Tražeći mravinjak\, putem susreće i upoznaje razne životinje. Pčelica mu napokon pokaže pravi put\, ali ga i upozori da požuri kako bi spasio svoju braću od velike žabe koja je krenula na mravinjak. Mrav smisli lukav plan kako otjerati žabu…
URL:https://apfelarena.hr/dogadaj/djecja-predstava-mudra-glava-maloga-mrava/
LOCATION:Apfel Arena\, Put Volicije 5\, Makarska\, Hrvatska
CATEGORIES:Predstave
ATTACH;FMTTYPE=image/jpeg:https://apfelarena.hr/wp-content/uploads/2024/09/1.jpg
END:VEVENT
END:VCALENDAR