BEGIN:VCALENDAR
VERSION:2.0
PRODID:-//APFEL ARENA - ECPv5.16.3.1//NONSGML v1.0//EN
CALSCALE:GREGORIAN
METHOD:PUBLISH
X-WR-CALNAME:APFEL ARENA
X-ORIGINAL-URL:https://apfelarena.hr
X-WR-CALDESC:Events for APFEL ARENA
REFRESH-INTERVAL;VALUE=DURATION:PT1H
X-Robots-Tag:noindex
X-PUBLISHED-TTL:PT1H
BEGIN:VTIMEZONE
TZID:Europe/Zagreb
BEGIN:DAYLIGHT
TZOFFSETFROM:+0100
TZOFFSETTO:+0200
TZNAME:CEST
DTSTART:20240331T010000
END:DAYLIGHT
BEGIN:STANDARD
TZOFFSETFROM:+0200
TZOFFSETTO:+0100
TZNAME:CET
DTSTART:20241027T010000
END:STANDARD
END:VTIMEZONE
BEGIN:VEVENT
DTSTART;TZID=Europe/Zagreb:20241120T180000
DTEND;TZID=Europe/Zagreb:20241120T180000
DTSTAMP:20260421T144201
CREATED:20241104T130712Z
LAST-MODIFIED:20241104T130712Z
UID:11400-1732125600-1732125600@apfelarena.hr
SUMMARY:KAZALIŠNA PREDSTAVA ZA DJECU: RIBA DUGINIH BOJA (3+ godine)
DESCRIPTION:Duboko\, duboko\, na najdubljem morskom dnu živi ribica Srebrica\, neobično lijepa i svjetlucava. Ona pliva polako\, presijava se u svim duginim bojama\, sva puna sebe\, poprilično umišljena i gruba. Ne pada joj napamet svoje čudesno lijepe ljuskice ni sa kime dijeliti\, pa se druge ribice ne žele s njom ni družiti. Ali svatko od nas želi društvo\, prijatelje\, igru\, veselje. I zato će Srebrica skupiti svu hrabrost i otići mudroj hobotnici Osmokraki po savjet! \nKad sazna da je “dijeliti – lekcija važna još od vrtića\, iz svakog crtića”\, neće joj biti drago\, ali što je tu je\, svaki dan učimo i rastemo i\, iako nam ponekad nije lako\, isprobavamo nove stvari. \nUpoznajmo raka Roka\, kita Tita\, meduzu Suzu\, trlju Olju i brojna druga morska stvorenja koji znaju ono što je najvažnije: “Sreća se množi kad s drugima dijeliš!” \nUlaznice dostupne na Info pultu Apfel Arene \nUlaz 7 €
URL:https://apfelarena.hr/dogadaj/kazalisna-predstava-za-djecu-riba-duginih-boja-3-godine/
LOCATION:Apfel Arena\, Put Volicije 5\, Makarska\, Hrvatska
CATEGORIES:Predstave
ATTACH;FMTTYPE=image/jpeg:https://apfelarena.hr/wp-content/uploads/2024/11/Riba-duginih-boja_plakat.jpg
END:VEVENT
END:VCALENDAR