BEGIN:VCALENDAR
VERSION:2.0
PRODID:-//APFEL ARENA - ECPv5.16.3.1//NONSGML v1.0//EN
CALSCALE:GREGORIAN
METHOD:PUBLISH
X-WR-CALNAME:APFEL ARENA
X-ORIGINAL-URL:https://apfelarena.hr
X-WR-CALDESC:Events for APFEL ARENA
REFRESH-INTERVAL;VALUE=DURATION:PT1H
X-Robots-Tag:noindex
X-PUBLISHED-TTL:PT1H
BEGIN:VTIMEZONE
TZID:Europe/Zagreb
BEGIN:DAYLIGHT
TZOFFSETFROM:+0100
TZOFFSETTO:+0200
TZNAME:CEST
DTSTART:20240331T010000
END:DAYLIGHT
BEGIN:STANDARD
TZOFFSETFROM:+0200
TZOFFSETTO:+0100
TZNAME:CET
DTSTART:20241027T010000
END:STANDARD
END:VTIMEZONE
BEGIN:VEVENT
DTSTART;TZID=Europe/Zagreb:20241212T200000
DTEND;TZID=Europe/Zagreb:20241212T200000
DTSTAMP:20260421T144243
CREATED:20241203T113525Z
LAST-MODIFIED:20241203T113525Z
UID:11613-1734033600-1734033600@apfelarena.hr
SUMMARY:Grešni kuhari
DESCRIPTION:Dobro poznata skupina gurmana i šaljivaca preuzima ugostiteljstvo Apfel Arene! Što su sve za vas pripremili saznat ćete 12. prosinca od 20:00 sati. Rezervacija stolova moguća je na Info pultu Apfel Arene. \nKontakt: \n+385 99 542 7385\ninfo@apfelarena.hr
URL:https://apfelarena.hr/dogadaj/gresni-kuhari/
LOCATION:Apfel Arena\, Put Volicije 5\, Makarska\, Hrvatska
CATEGORIES:Predstave
ATTACH;FMTTYPE=image/jpeg:https://apfelarena.hr/wp-content/uploads/2024/12/masterchef.jpg
END:VEVENT
END:VCALENDAR