BEGIN:VCALENDAR
VERSION:2.0
PRODID:-//APFEL ARENA - ECPv5.16.3.1//NONSGML v1.0//EN
CALSCALE:GREGORIAN
METHOD:PUBLISH
X-WR-CALNAME:APFEL ARENA
X-ORIGINAL-URL:https://apfelarena.hr
X-WR-CALDESC:Events for APFEL ARENA
REFRESH-INTERVAL;VALUE=DURATION:PT1H
X-Robots-Tag:noindex
X-PUBLISHED-TTL:PT1H
BEGIN:VTIMEZONE
TZID:Europe/Zagreb
BEGIN:DAYLIGHT
TZOFFSETFROM:+0100
TZOFFSETTO:+0200
TZNAME:CEST
DTSTART:20250330T010000
END:DAYLIGHT
BEGIN:STANDARD
TZOFFSETFROM:+0200
TZOFFSETTO:+0100
TZNAME:CET
DTSTART:20251026T010000
END:STANDARD
END:VTIMEZONE
BEGIN:VEVENT
DTSTART;TZID=Europe/Zagreb:20250122T170000
DTEND;TZID=Europe/Zagreb:20250122T170000
DTSTAMP:20260421T132509
CREATED:20241230T120010Z
LAST-MODIFIED:20241230T130928Z
UID:11777-1737565200-1737565200@apfelarena.hr
SUMMARY:Predstava za djecu Robot Roko i zlatno srce
DESCRIPTION:Predstava Produkcije Z koja gostuje u Apfel Areni u srijedu 22. siječnja 2025. godine u 17:00 sati.  Ovo je priča o robotu Roku koji je bio prisiljen sletjeti na Zemlju zbog kvara na letećem tanjuru. Dječak Josip i njegov tata Miško priskoče u pomoć robotu. Kada nastupi veliko nevrijeme\, robot Roko spašava dječaka od stabla koje se rušilo na njega. Predstava je puna zanimljivih preokreta uz 15 zaraznih pjesmica. Glavna pouka ove priče je da se trebamo truditi činiti dobra djela. Ovaj lutkarski mjuzikl namijenjen je djeci starijoj od 3 godine. Ulaznice su dostupne na Info pultu Apfel Arene po cijeni od 6 €.
URL:https://apfelarena.hr/dogadaj/predstava-za-djecu-robot-roko-i-zlatno-srce/
LOCATION:Apfel Arena\, Put Volicije 5\, Makarska\, Hrvatska
CATEGORIES:Predstave
ATTACH;FMTTYPE=image/jpeg:https://apfelarena.hr/wp-content/uploads/2024/12/Add-a-heading-3.jpg
END:VEVENT
END:VCALENDAR