BEGIN:VCALENDAR
VERSION:2.0
PRODID:-//APFEL ARENA - ECPv5.16.3.1//NONSGML v1.0//EN
CALSCALE:GREGORIAN
METHOD:PUBLISH
X-ORIGINAL-URL:https://apfelarena.hr
X-WR-CALDESC:Events for APFEL ARENA
REFRESH-INTERVAL;VALUE=DURATION:PT1H
X-Robots-Tag:noindex
X-PUBLISHED-TTL:PT1H
BEGIN:VTIMEZONE
TZID:Europe/Zagreb
BEGIN:DAYLIGHT
TZOFFSETFROM:+0100
TZOFFSETTO:+0200
TZNAME:CEST
DTSTART:20260329T010000
END:DAYLIGHT
BEGIN:STANDARD
TZOFFSETFROM:+0200
TZOFFSETTO:+0100
TZNAME:CET
DTSTART:20261025T010000
END:STANDARD
END:VTIMEZONE
BEGIN:VEVENT
DTSTART;TZID=Europe/Zagreb:20260511T200000
DTEND;TZID=Europe/Zagreb:20260511T200000
DTSTAMP:20260420T092313
CREATED:20260420T065442Z
LAST-MODIFIED:20260420T065442Z
UID:16611-1778529600-1778529600@apfelarena.hr
SUMMARY:Zlatousti
DESCRIPTION:Nešto novo kuha se u radionici naši Zlatoustih… \nFilm “Zlatousti” donosi priču o preletu nepoznatog letećeg objekta iznad Kiljevaca – “mjesta usred ničega“ – koji iznenada poremeti život lokalnog stanovništva. Njihovi apetiti za boljim životom počinju rasti na tragikomičan način\, a nošeni ambicijama i nedorasli iskušenjima\, Kiljevčani testiraju vlastite granice sve do (ne)očekivanog raspleta. \nOva urnebesna komedija\, jedna od najboljih u produkciji Zlatoustih\, traje 1 sat i 29 minuta. \nTermini prikazivanja: \nSrijeda\, 6.5. u 20:00\nPonedjeljak\, 11.5. u 20:00\nUtorak\, 12.5. u 20:00\nUlaznice:\nDostupne na Info pultu Apfel Arene po cijeni od 5 €
URL:https://apfelarena.hr/dogadaj/zlatousti-2/
LOCATION:Apfel Arena\, Put Volicije 5\, Makarska\, Hrvatska
CATEGORIES:Kino predstave
ATTACH;FMTTYPE=image/jpeg:https://apfelarena.hr/wp-content/uploads/2026/04/IMG_9038.jpg
END:VEVENT
BEGIN:VEVENT
DTSTART;TZID=Europe/Zagreb:20260512T200000
DTEND;TZID=Europe/Zagreb:20260512T200000
DTSTAMP:20260420T092313
CREATED:20260420T065517Z
LAST-MODIFIED:20260420T065517Z
UID:16613-1778616000-1778616000@apfelarena.hr
SUMMARY:Zlatousti
DESCRIPTION:Nešto novo kuha se u radionici naši Zlatoustih… \nFilm “Zlatousti” donosi priču o preletu nepoznatog letećeg objekta iznad Kiljevaca – “mjesta usred ničega“ – koji iznenada poremeti život lokalnog stanovništva. Njihovi apetiti za boljim životom počinju rasti na tragikomičan način\, a nošeni ambicijama i nedorasli iskušenjima\, Kiljevčani testiraju vlastite granice sve do (ne)očekivanog raspleta. \nOva urnebesna komedija\, jedna od najboljih u produkciji Zlatoustih\, traje 1 sat i 29 minuta. \nTermini prikazivanja: \nSrijeda\, 6.5. u 20:00\nPonedjeljak\, 11.5. u 20:00\nUtorak\, 12.5. u 20:00\nUlaznice:\nDostupne na Info pultu Apfel Arene po cijeni od 5 €
URL:https://apfelarena.hr/dogadaj/zlatousti-3/
LOCATION:Apfel Arena\, Put Volicije 5\, Makarska\, Hrvatska
CATEGORIES:Kino predstave
ATTACH;FMTTYPE=image/jpeg:https://apfelarena.hr/wp-content/uploads/2026/04/IMG_9038.jpg
END:VEVENT
BEGIN:VEVENT
DTSTART;TZID=Europe/Zagreb:20260515T200000
DTEND;TZID=Europe/Zagreb:20260515T200000
DTSTAMP:20260420T092313
CREATED:20260420T065214Z
LAST-MODIFIED:20260420T065214Z
UID:16603-1778875200-1778875200@apfelarena.hr
SUMMARY:KAK’I SMO\, TAK’I SMO
DESCRIPTION:U Apfel Arenu stiže nova hit predstava Arijane Čuline pod nazivom “KAK’I SMO\, TAK’I SMO”. \nU svom prepoznatljivom stilu\, Arijana ponovno secira dalmatinski mentalitet\, svakodnevne navike i filozofiju “malog čovjeka”\, uz obilje ironije\, šarma i britkog humora. Na pozornici joj se pridružuje Mirella Meić\, dok je za glazbenu podlogu i dodatnu dozu atmosfere zadužena Danira Ipavec na harmonici. Kroz predstavu publika će otkriti kako od tri neradna dana napraviti pet\, kako biti zaposlen\, a ipak u podne ispijati kavu na rivi\, kako privući turiste bez pomoći Bookinga\, pa čak i kako komunicirati koristeći samo dvije riječi – muškog i ženskog spolnog organa. \nSve to izvedeno je u stilu po kojem je Arijana Čulina postala sinonim za dalmatinski humor – britko\, iskreno i neodoljivo duhovito. Predstava nudi smijeh\, toplinu i pronicljive opservacije svakodnevnog života koje će publiku osvojiti. \nIzvođači: Arijana Čulina i Mirella Meić\, uz Daniru Ipavec na harmonici. \nVrijeme trajanja :90min \nDobna skupina: 15+
URL:https://apfelarena.hr/dogadaj/kaki-smo-taki-smo/
LOCATION:Apfel Arena\, Put Volicije 5\, Makarska\, Hrvatska
CATEGORIES:Predstave
ATTACH;FMTTYPE=image/jpeg:https://apfelarena.hr/wp-content/uploads/2026/04/IMG_9037.jpg
END:VEVENT
END:VCALENDAR