BEGIN:VCALENDAR
VERSION:2.0
PRODID:-//APFEL ARENA - ECPv5.16.3.1//NONSGML v1.0//EN
CALSCALE:GREGORIAN
METHOD:PUBLISH
X-ORIGINAL-URL:https://apfelarena.hr/en/
X-WR-CALDESC:Events for APFEL ARENA
REFRESH-INTERVAL;VALUE=DURATION:PT1H
X-Robots-Tag:noindex
X-PUBLISHED-TTL:PT1H
BEGIN:VTIMEZONE
TZID:Europe/Zagreb
BEGIN:DAYLIGHT
TZOFFSETFROM:+0100
TZOFFSETTO:+0200
TZNAME:CEST
DTSTART:20230326T010000
END:DAYLIGHT
BEGIN:STANDARD
TZOFFSETFROM:+0200
TZOFFSETTO:+0100
TZNAME:CET
DTSTART:20231029T010000
END:STANDARD
END:VTIMEZONE
BEGIN:VEVENT
DTSTART;TZID=Europe/Zagreb:20230921T200000
DTEND;TZID=Europe/Zagreb:20230921T200000
DTSTAMP:20260424T163219
CREATED:20230919T104815Z
LAST-MODIFIED:20230919T104940Z
UID:8531-1695326400-1695326400@apfelarena.hr
SUMMARY:Sound of Freedom
DESCRIPTION:Sound of Freedom\, based on the incredible true story\, shines a light on even the darkest of places. After rescuing a young boy from ruthless child traffickers\, a federal agent learns the boy’s sister is still captive and decides to embark on a dangerous mission to save her. With time running out\, he quits his job and journeys deep into the Colombian jungle\, putting his life on the line to free her from a fate worse than death. \nAlejandro Monteverde\n2h 11m – US \n  \nYou can buy tickets online at Kino Mediteran Makarska
URL:https://apfelarena.hr/en/dogadaj/sound-of-freedom/
LOCATION:Apfel Arena\, Put Volicije 5\, Makarska\, Hrvatska
CATEGORIES:Cinema shows
ATTACH;FMTTYPE=image/jpeg:https://apfelarena.hr/wp-content/uploads/2023/09/zvuk-slobode.jpg
END:VEVENT
END:VCALENDAR