BEGIN:VCALENDAR
VERSION:2.0
PRODID:-//APFEL ARENA - ECPv5.16.3.1//NONSGML v1.0//EN
CALSCALE:GREGORIAN
METHOD:PUBLISH
X-WR-CALNAME:APFEL ARENA
X-ORIGINAL-URL:https://apfelarena.hr/en/
X-WR-CALDESC:Events for APFEL ARENA
REFRESH-INTERVAL;VALUE=DURATION:PT1H
X-Robots-Tag:noindex
X-PUBLISHED-TTL:PT1H
BEGIN:VTIMEZONE
TZID:Europe/Zagreb
BEGIN:DAYLIGHT
TZOFFSETFROM:+0100
TZOFFSETTO:+0200
TZNAME:CEST
DTSTART:20230326T010000
END:DAYLIGHT
BEGIN:STANDARD
TZOFFSETFROM:+0200
TZOFFSETTO:+0100
TZNAME:CET
DTSTART:20231029T010000
END:STANDARD
END:VTIMEZONE
BEGIN:VEVENT
DTSTART;TZID=Europe/Zagreb:20231019T200000
DTEND;TZID=Europe/Zagreb:20231019T200000
DTSTAMP:20260422T090132
CREATED:20231016T134928Z
LAST-MODIFIED:20231016T140120Z
UID:8727-1697745600-1697745600@apfelarena.hr
SUMMARY:Dumb Money
DESCRIPTION:Dumb Money is the ultimate David vs. Goliath tale\, based on the insane true story of everyday people who flipped the script on Wall Street and got rich by turning GameStop (yes\, the mall videogame store) into the world’s hottest company. In the middle of everything is regular guy Keith Gill (Paul Dano)\, who starts it all by sinking his life savings into the stock and posting about it. When his social posts start blowing up\, so does his life and the lives of everyone following him. As a stock tip becomes a movement\, everyone gets rich — until the billionaires fight back\, and both sides find their worlds turned upside down. \nCraig Gillespie\n1h 44m – US \n  \nTickets are available for sale at the info desk and online through Kino Mediteran Makarska
URL:https://apfelarena.hr/en/dogadaj/dumb-money/
LOCATION:Apfel Arena\, Put Volicije 5\, Makarska\, Hrvatska
CATEGORIES:Cinema shows
ATTACH;FMTTYPE=image/jpeg:https://apfelarena.hr/wp-content/uploads/2023/10/luda-lova.jpg
END:VEVENT
END:VCALENDAR