BEGIN:VCALENDAR
VERSION:2.0
PRODID:-//APFEL ARENA - ECPv5.16.3.1//NONSGML v1.0//EN
CALSCALE:GREGORIAN
METHOD:PUBLISH
X-ORIGINAL-URL:https://apfelarena.hr/en/
X-WR-CALDESC:Events for APFEL ARENA
REFRESH-INTERVAL;VALUE=DURATION:PT1H
X-Robots-Tag:noindex
X-PUBLISHED-TTL:PT1H
BEGIN:VTIMEZONE
TZID:Europe/Zagreb
BEGIN:DAYLIGHT
TZOFFSETFROM:+0100
TZOFFSETTO:+0200
TZNAME:CEST
DTSTART:20230326T010000
END:DAYLIGHT
BEGIN:STANDARD
TZOFFSETFROM:+0200
TZOFFSETTO:+0100
TZNAME:CET
DTSTART:20231029T010000
END:STANDARD
END:VTIMEZONE
BEGIN:VEVENT
DTSTART;TZID=Europe/Zagreb:20231022T180000
DTEND;TZID=Europe/Zagreb:20231022T180000
DTSTAMP:20260422T090351
CREATED:20231016T135247Z
LAST-MODIFIED:20231016T135616Z
UID:8722-1697997600-1697997600@apfelarena.hr
SUMMARY:Gulliver Returns
DESCRIPTION:Adventurer Gulliver is invited to return to Lilliput\, the town he saved from their enemy\, neighboring Blefuscu. Expecting a giant\, they instead discover an ordinary man. Meanwhile\, the Blefuscu armada threatens the city again. \nIlya Maksimov\n1h 30m – UA \n  \nTickets are available for sale at the info desk and online through Kino Mediteran Makarska
URL:https://apfelarena.hr/en/dogadaj/gulliver-returns/
LOCATION:Apfel Arena\, Put Volicije 5\, Makarska\, Hrvatska
CATEGORIES:Cinema shows
ATTACH;FMTTYPE=image/jpeg:https://apfelarena.hr/wp-content/uploads/2023/10/gulliverov-povratak.jpg
END:VEVENT
END:VCALENDAR