BEGIN:VCALENDAR
VERSION:2.0
PRODID:-//APFEL ARENA - ECPv5.16.3.1//NONSGML v1.0//EN
CALSCALE:GREGORIAN
METHOD:PUBLISH
X-WR-CALNAME:APFEL ARENA
X-ORIGINAL-URL:https://apfelarena.hr/en/
X-WR-CALDESC:Events for APFEL ARENA
REFRESH-INTERVAL;VALUE=DURATION:PT1H
X-Robots-Tag:noindex
X-PUBLISHED-TTL:PT1H
BEGIN:VTIMEZONE
TZID:Europe/Zagreb
BEGIN:DAYLIGHT
TZOFFSETFROM:+0100
TZOFFSETTO:+0200
TZNAME:CEST
DTSTART:20230326T010000
END:DAYLIGHT
BEGIN:STANDARD
TZOFFSETFROM:+0200
TZOFFSETTO:+0100
TZNAME:CET
DTSTART:20231029T010000
END:STANDARD
END:VTIMEZONE
BEGIN:VEVENT
DTSTART;TZID=Europe/Zagreb:20231118T200000
DTEND;TZID=Europe/Zagreb:20231118T200000
DTSTAMP:20260422T072622
CREATED:20231113T125339Z
LAST-MODIFIED:20231113T125802Z
UID:8882-1700337600-1700337600@apfelarena.hr
SUMMARY:The Hunger Games: The Ballad of Songbirds and Snakes
DESCRIPTION:Coriolanus Snow mentors and develops feelings for the female District 12 tribute during the 10th Hunger Games. \nFrancis Lawrence\n2h 37m – US \n  \nTickets are available for sale at the info desk and online through Kino Mediteran Makarska
URL:https://apfelarena.hr/en/dogadaj/the-hunger-games-the-ballad-of-songbirds-and-snakes/
LOCATION:Apfel Arena\, Put Volicije 5\, Makarska\, Hrvatska
CATEGORIES:Cinema shows
ATTACH;FMTTYPE=image/jpeg:https://apfelarena.hr/wp-content/uploads/2023/11/igre-gladi-balada-pjevica-i-zmija.jpg
END:VEVENT
END:VCALENDAR