BEGIN:VCALENDAR
VERSION:2.0
PRODID:-//APFEL ARENA - ECPv5.16.3.1//NONSGML v1.0//EN
CALSCALE:GREGORIAN
METHOD:PUBLISH
X-ORIGINAL-URL:https://apfelarena.hr/en/
X-WR-CALDESC:Events for APFEL ARENA
REFRESH-INTERVAL;VALUE=DURATION:PT1H
X-Robots-Tag:noindex
X-PUBLISHED-TTL:PT1H
BEGIN:VTIMEZONE
TZID:Europe/Zagreb
BEGIN:DAYLIGHT
TZOFFSETFROM:+0100
TZOFFSETTO:+0200
TZNAME:CEST
DTSTART:20230326T010000
END:DAYLIGHT
BEGIN:STANDARD
TZOFFSETFROM:+0200
TZOFFSETTO:+0100
TZNAME:CET
DTSTART:20231029T010000
END:STANDARD
END:VTIMEZONE
BEGIN:VEVENT
DTSTART;TZID=Europe/Zagreb:20231210T180000
DTEND;TZID=Europe/Zagreb:20231210T180000
DTSTAMP:20260422T025000
CREATED:20231207T111057Z
LAST-MODIFIED:20231207T111255Z
UID:9178-1702231200-1702231200@apfelarena.hr
SUMMARY:Migration
DESCRIPTION:A family of ducks try to convince their overprotective father to go on the vacation of a lifetime. \nBenjamin Renner\, Guylo Homsy\n1h 22m – US \n  \nTickets are available for sale at the info desk and online through Kino Mediteran Makarska
URL:https://apfelarena.hr/en/dogadaj/migration/
LOCATION:Apfel Arena\, Put Volicije 5\, Makarska\, Hrvatska
CATEGORIES:Cinema shows
ATTACH;FMTTYPE=image/jpeg:https://apfelarena.hr/wp-content/uploads/2023/12/patke-selice-sink.jpg
END:VEVENT
END:VCALENDAR