BEGIN:VCALENDAR
VERSION:2.0
PRODID:-//APFEL ARENA - ECPv5.16.3.1//NONSGML v1.0//EN
CALSCALE:GREGORIAN
METHOD:PUBLISH
X-WR-CALNAME:APFEL ARENA
X-ORIGINAL-URL:https://apfelarena.hr/en/
X-WR-CALDESC:Events for APFEL ARENA
REFRESH-INTERVAL;VALUE=DURATION:PT1H
X-Robots-Tag:noindex
X-PUBLISHED-TTL:PT1H
BEGIN:VTIMEZONE
TZID:Europe/Zagreb
BEGIN:DAYLIGHT
TZOFFSETFROM:+0100
TZOFFSETTO:+0200
TZNAME:CEST
DTSTART:20240331T010000
END:DAYLIGHT
BEGIN:STANDARD
TZOFFSETFROM:+0200
TZOFFSETTO:+0100
TZNAME:CET
DTSTART:20241027T010000
END:STANDARD
END:VTIMEZONE
BEGIN:VEVENT
DTSTART;TZID=Europe/Zagreb:20240118T190000
DTEND;TZID=Europe/Zagreb:20240118T190000
DTSTAMP:20260422T055332
CREATED:20240116T102335Z
LAST-MODIFIED:20240116T103302Z
UID:9272-1705604400-1705604400@apfelarena.hr
SUMMARY:Coup de Chance
DESCRIPTION:Two young people’s bond leads to marital infidelity and ultimately crime. \nWoody Allen\n1h 33m – US\, FR \n  \nTickets are available for sale at the info desk and online through Kino Mediteran Makarska
URL:https://apfelarena.hr/en/dogadaj/coup-de-chance/
LOCATION:Apfel Arena\, Put Volicije 5\, Makarska\, Hrvatska
CATEGORIES:Cinema shows
ATTACH;FMTTYPE=image/jpeg:https://apfelarena.hr/wp-content/uploads/2024/01/udar-srece.jpg
END:VEVENT
END:VCALENDAR