BEGIN:VCALENDAR
VERSION:2.0
PRODID:-//APFEL ARENA - ECPv5.16.3.1//NONSGML v1.0//EN
CALSCALE:GREGORIAN
METHOD:PUBLISH
X-WR-CALNAME:APFEL ARENA
X-ORIGINAL-URL:https://apfelarena.hr/en/
X-WR-CALDESC:Events for APFEL ARENA
REFRESH-INTERVAL;VALUE=DURATION:PT1H
X-Robots-Tag:noindex
X-PUBLISHED-TTL:PT1H
BEGIN:VTIMEZONE
TZID:Europe/Zagreb
BEGIN:DAYLIGHT
TZOFFSETFROM:+0100
TZOFFSETTO:+0200
TZNAME:CEST
DTSTART:20240331T010000
END:DAYLIGHT
BEGIN:STANDARD
TZOFFSETFROM:+0200
TZOFFSETTO:+0100
TZNAME:CET
DTSTART:20241027T010000
END:STANDARD
END:VTIMEZONE
BEGIN:VEVENT
DTSTART;TZID=Europe/Zagreb:20240120T190000
DTEND;TZID=Europe/Zagreb:20240120T190000
DTSTAMP:20260422T024704
CREATED:20240116T102512Z
LAST-MODIFIED:20240116T103422Z
UID:9274-1705777200-1705777200@apfelarena.hr
SUMMARY:Poor Things
DESCRIPTION:From filmmaker Yorgos Lanthimos and producer Emma Stone comes the incredible tale and fantastical evolution of Bella Baxter (Stone)\, a young woman brought back to life by the brilliant and unorthodox scientist Dr. Godwin Baxter (Willem Dafoe). Under Baxter’s protection\, Bella is eager to learn. Hungry for the worldliness she is lacking\, Bella runs off with Duncan Wedderburn (Mark Ruffalo)\, a slick and debauched lawyer\, on a whirlwind adventure across the continents. Free from the prejudices of her times\, Bella grows steadfast in her purpose to stand for equality and liberation. \nYorgos Lanthimos\n2h 21m – IR\, UK\, US \n  \nTickets are available for sale at the info desk and online through Kino Mediteran Makarska
URL:https://apfelarena.hr/en/dogadaj/poor-things/
LOCATION:Apfel Arena\, Put Volicije 5\, Makarska\, Hrvatska
CATEGORIES:Cinema shows
ATTACH;FMTTYPE=image/jpeg:https://apfelarena.hr/wp-content/uploads/2024/01/uboga-stvorenja.jpg
END:VEVENT
END:VCALENDAR