BEGIN:VCALENDAR
VERSION:2.0
PRODID:-//APFEL ARENA - ECPv5.16.3.1//NONSGML v1.0//EN
CALSCALE:GREGORIAN
METHOD:PUBLISH
X-WR-CALNAME:APFEL ARENA
X-ORIGINAL-URL:https://apfelarena.hr/en/
X-WR-CALDESC:Events for APFEL ARENA
REFRESH-INTERVAL;VALUE=DURATION:PT1H
X-Robots-Tag:noindex
X-PUBLISHED-TTL:PT1H
BEGIN:VTIMEZONE
TZID:Europe/Zagreb
BEGIN:DAYLIGHT
TZOFFSETFROM:+0100
TZOFFSETTO:+0200
TZNAME:CEST
DTSTART:20240331T010000
END:DAYLIGHT
BEGIN:STANDARD
TZOFFSETFROM:+0200
TZOFFSETTO:+0100
TZNAME:CET
DTSTART:20241027T010000
END:STANDARD
END:VTIMEZONE
BEGIN:VEVENT
DTSTART;TZID=Europe/Zagreb:20240127T190000
DTEND;TZID=Europe/Zagreb:20240127T190000
DTSTAMP:20260422T024816
CREATED:20240116T102938Z
LAST-MODIFIED:20240116T103710Z
UID:9282-1706382000-1706382000@apfelarena.hr
SUMMARY:The Three Musketeers: Milady
DESCRIPTION:From the Louvre to Buckingham Palace\, to the gutters of Paris to the siege of LaRochelle… in a kingdom divided by religious wars and under threat of British invasion\, a handful of men and women will battle and tie their fate to that of France. \nMartin Bourboulon\n1h 55m – FR \n  \nTickets are available for sale at the info desk and online through Kino Mediteran Makarska
URL:https://apfelarena.hr/en/dogadaj/the-three-musketeers-milady/
LOCATION:Apfel Arena\, Put Volicije 5\, Makarska\, Hrvatska
CATEGORIES:Cinema shows
ATTACH;FMTTYPE=image/jpeg:https://apfelarena.hr/wp-content/uploads/2024/01/tri-musketira-milady.jpg
END:VEVENT
END:VCALENDAR