BEGIN:VCALENDAR
VERSION:2.0
PRODID:-//APFEL ARENA - ECPv5.16.3.1//NONSGML v1.0//EN
CALSCALE:GREGORIAN
METHOD:PUBLISH
X-WR-CALNAME:APFEL ARENA
X-ORIGINAL-URL:https://apfelarena.hr/en/
X-WR-CALDESC:Events for APFEL ARENA
REFRESH-INTERVAL;VALUE=DURATION:PT1H
X-Robots-Tag:noindex
X-PUBLISHED-TTL:PT1H
BEGIN:VTIMEZONE
TZID:Europe/Zagreb
BEGIN:DAYLIGHT
TZOFFSETFROM:+0100
TZOFFSETTO:+0200
TZNAME:CEST
DTSTART:20240331T010000
END:DAYLIGHT
BEGIN:STANDARD
TZOFFSETFROM:+0200
TZOFFSETTO:+0100
TZNAME:CET
DTSTART:20241027T010000
END:STANDARD
END:VTIMEZONE
BEGIN:VEVENT
DTSTART;VALUE=DATE:20240219
DTEND;VALUE=DATE:20240223
DTSTAMP:20260422T041335
CREATED:20231124T104510Z
LAST-MODIFIED:20231124T104610Z
UID:9129-1708300800-1708646399@apfelarena.hr
SUMMARY:APFEL ARENA WINTER CUP 2024.
DESCRIPTION:International youth football tournament \nCroatian and European clubs are invited. \n\n\nDate: 19.-22.2.2024.\nLocation: Apfel Arena * Makarska * Croatia\n\n\nCategories \n\n\nU8 – Boys born in 2016 and younger\, and girls born in 2015 and younger\nU9 – Boys born in 2015 and younger\, and girls born in 2014 and younger\nU10 – Boys born in 2014 and younger\, and girls born in 2013 and younger\nU12 – Boys born in 2012 and younger\, and girls born in 2011 and younger\n\n  \nSee more details
URL:https://apfelarena.hr/en/dogadaj/apfel-arena-winter-cup-2024/
LOCATION:Apfel Arena\, Put Volicije 5\, Makarska\, Hrvatska
CATEGORIES:Igre
ATTACH;FMTTYPE=image/jpeg:https://apfelarena.hr/wp-content/uploads/2023/11/winter-cup.jpg
END:VEVENT
END:VCALENDAR