BEGIN:VCALENDAR
VERSION:2.0
PRODID:-//APFEL ARENA - ECPv5.16.3.1//NONSGML v1.0//EN
CALSCALE:GREGORIAN
METHOD:PUBLISH
X-WR-CALNAME:APFEL ARENA
X-ORIGINAL-URL:https://apfelarena.hr/en/
X-WR-CALDESC:Events for APFEL ARENA
REFRESH-INTERVAL;VALUE=DURATION:PT1H
X-Robots-Tag:noindex
X-PUBLISHED-TTL:PT1H
BEGIN:VTIMEZONE
TZID:Europe/Zagreb
BEGIN:DAYLIGHT
TZOFFSETFROM:+0100
TZOFFSETTO:+0200
TZNAME:CEST
DTSTART:20240331T010000
END:DAYLIGHT
BEGIN:STANDARD
TZOFFSETFROM:+0200
TZOFFSETTO:+0100
TZNAME:CET
DTSTART:20241027T010000
END:STANDARD
END:VTIMEZONE
BEGIN:VEVENT
DTSTART;TZID=Europe/Zagreb:20240926T200000
DTEND;TZID=Europe/Zagreb:20240926T200000
DTSTAMP:20260419T221352
CREATED:20240918T130007Z
LAST-MODIFIED:20240927T100307Z
UID:11264-1727380800-1727380800@apfelarena.hr
SUMMARY:Beetlejuice Beetlejuice
DESCRIPTION:Tim Burton \n1h 44m – US \nBeetlejuice is back! The Oscar-nominated duo – the unique creative visionary Tim Burton and the iconic actor Michael Keaton – join forces once again in the spectacular return of the franchise that marked the history of cinema. After the brilliant role of Wednesday\, the addition to the cast is the talented young actress Jenna Ortega. \nAfter an unexpected family tragedy\, three generations of the Deetz family return home to Winter River. Their lives are turned upside down when Lydia’s rebellious teenage daughter Astrid discovers a mysterious model of the city in the attic and accidentally opens a portal to the afterlife. With trouble brewing in both worlds\, it’s only a matter of time before someone says the name Beetlejuice three times and summons his unique mischief again. \nMichael Keaton returns to his legendary role as Beetlejuice\, a demon with a sense of humor like you’ve never seen before\, ready to bring chaos and madness to life in a whole new way. Alongside him\, there are also stellar returns from Winona Ryder as Lydia Deetz and Catherine O’Hara as Delia Deetz\, along with fresh faces like Jenna Ortega and Justin Theroux who bring a new dimension to this timeless story. \n  \nTickets are available for sale at the info desk and online through Kino Mediteran Makarska
URL:https://apfelarena.hr/en/dogadaj/beetlejuice-beetlejuice/
LOCATION:Apfel Arena\, Put Volicije 5\, Makarska\, Hrvatska
CATEGORIES:Cinema shows
ATTACH;FMTTYPE=image/jpeg:https://apfelarena.hr/wp-content/uploads/2024/09/Bubimir-Bubimir-poster-copy.jpg
END:VEVENT
END:VCALENDAR