BEGIN:VCALENDAR
VERSION:2.0
PRODID:-//APFEL ARENA - ECPv5.16.3.1//NONSGML v1.0//EN
CALSCALE:GREGORIAN
METHOD:PUBLISH
X-WR-CALNAME:APFEL ARENA
X-ORIGINAL-URL:https://apfelarena.hr/en/
X-WR-CALDESC:Events for APFEL ARENA
REFRESH-INTERVAL;VALUE=DURATION:PT1H
X-Robots-Tag:noindex
X-PUBLISHED-TTL:PT1H
BEGIN:VTIMEZONE
TZID:Europe/Zagreb
BEGIN:DAYLIGHT
TZOFFSETFROM:+0100
TZOFFSETTO:+0200
TZNAME:CEST
DTSTART:20240331T010000
END:DAYLIGHT
BEGIN:STANDARD
TZOFFSETFROM:+0200
TZOFFSETTO:+0100
TZNAME:CET
DTSTART:20241027T010000
END:STANDARD
END:VTIMEZONE
BEGIN:VEVENT
DTSTART;TZID=Europe/Zagreb:20241002T200000
DTEND;TZID=Europe/Zagreb:20241002T200000
DTSTAMP:20260419T154817
CREATED:20240913T100254Z
LAST-MODIFIED:20240917T061737Z
UID:11170-1727899200-1727899200@apfelarena.hr
SUMMARY:B GLAD PRODUKCIJA – ROULETTE
DESCRIPTION:Cast: Jagoda Kumrić\, Ana Uršula Najev\, Petra Kraljev i Nika Barišić\nWritten by: Petra Kraljev\nDirected by: Jagoda Kumrić\, Ana Uršula Najev\, Petra Kraljev i Nika Barišić\nGraphic design: Kristina Gudac\n \n  \nWhat happens when the roulette wheel of life spins\, and the ball stops exactly where we don’t want it to? Find out in this new comedy about four women who seem completely different\, yet share one thing in common – a humorous acceptance of the cards life has dealt them. In just one evening\, in one setting\, four secrets will surface. This isn’t a story about conflict between each other\, rather about the choices we seemingly made ourselves. One bachelorette party will be enough for all the secrets to come to light… \nCharming\, humorous\, and temperamental characters will turn life’s greatest drama into a confirmation that a day without laughter is a day lost. \nKarla (Ana Uršula Najev)\, who struggles with the rightness of her decision; caring Stella (Jagoda Kumrić)\, who meddles in Karla’s decision in order to forget her own life challenges; playful Rina (Nika Barišić)\, who connects all four women but finds herself at a crossroads in life; and Biska (Petra Kraljev)\, already tired of life and the constant responsibility for others\, finally decides to spin her own roulette of life. \nThis story has four perspectives\, but from whichever angle you look\, what undeniably connects them is love\, respect\, and\, as mentioned\, a sense of humor. \nTickets can be purchased at the Apfel Arena Info desk for €15.
URL:https://apfelarena.hr/en/dogadaj/b-glad-produkcija-roulette/
LOCATION:Apfel Arena\, Put Volicije 5\, Makarska\, Hrvatska
CATEGORIES:Shows
ATTACH;FMTTYPE=image/jpeg:https://apfelarena.hr/wp-content/uploads/2024/09/Rulet_Makarska.jpg
END:VEVENT
END:VCALENDAR